BEGIN:VCALENDAR
VERSION:2.0
PRODID:-//Trinity United Church Summerside - ECPv6.15.20//NONSGML v1.0//EN
CALSCALE:GREGORIAN
METHOD:PUBLISH
X-WR-CALNAME:Trinity United Church Summerside
X-ORIGINAL-URL:https://trinitysummerside.ca
X-WR-CALDESC:Events for Trinity United Church Summerside
REFRESH-INTERVAL;VALUE=DURATION:PT1H
X-Robots-Tag:noindex
X-PUBLISHED-TTL:PT1H
BEGIN:VTIMEZONE
TZID:Atlantic/Bermuda
BEGIN:DAYLIGHT
TZOFFSETFROM:-0400
TZOFFSETTO:-0300
TZNAME:ADT
DTSTART:20250309T060000
END:DAYLIGHT
BEGIN:STANDARD
TZOFFSETFROM:-0300
TZOFFSETTO:-0400
TZNAME:AST
DTSTART:20251102T050000
END:STANDARD
BEGIN:DAYLIGHT
TZOFFSETFROM:-0400
TZOFFSETTO:-0300
TZNAME:ADT
DTSTART:20260308T060000
END:DAYLIGHT
BEGIN:STANDARD
TZOFFSETFROM:-0300
TZOFFSETTO:-0400
TZNAME:AST
DTSTART:20261101T050000
END:STANDARD
BEGIN:DAYLIGHT
TZOFFSETFROM:-0400
TZOFFSETTO:-0300
TZNAME:ADT
DTSTART:20270314T060000
END:DAYLIGHT
BEGIN:STANDARD
TZOFFSETFROM:-0300
TZOFFSETTO:-0400
TZNAME:AST
DTSTART:20271107T050000
END:STANDARD
END:VTIMEZONE
BEGIN:VEVENT
DTSTART;TZID=Atlantic/Bermuda:20260211T080000
DTEND;TZID=Atlantic/Bermuda:20260211T090000
DTSTAMP:20260422T053748
CREATED:20260120T163630Z
LAST-MODIFIED:20260120T163810Z
UID:10010672-1770796800-1770800400@trinitysummerside.ca
SUMMARY:Women's Breakfasts
DESCRIPTION:Waterfront Café at Holland College campus.
URL:https://trinitysummerside.ca/event/womens-breakfasts/2026-02-11/
END:VEVENT
BEGIN:VEVENT
DTSTART;TZID=Atlantic/Bermuda:20260210T100000
DTEND;TZID=Atlantic/Bermuda:20260210T130000
DTSTAMP:20260422T053748
CREATED:20260206T153229Z
LAST-MODIFIED:20260206T153229Z
UID:10010848-1770717600-1770728400@trinitysummerside.ca
SUMMARY:Trinity Food Box Program
DESCRIPTION:Volunteers are able to see you between 10am and 1pm.  Please bring a reusable grocery bag. \nIf you have not yet registered you will need to show ID for yourself and anyone else in your household. \nIf there is a snow day (schools are cancelled) we will not be open.
URL:https://trinitysummerside.ca/event/trinity-food-box-program/2026-02-10/
END:VEVENT
BEGIN:VEVENT
DTSTART;TZID=Atlantic/Bermuda:20260210T090000
DTEND;TZID=Atlantic/Bermuda:20260210T130000
DTSTAMP:20260422T053748
CREATED:20260120T164417Z
LAST-MODIFIED:20260319T171037Z
UID:10010742-1770714000-1770728400@trinitysummerside.ca
SUMMARY:Private Kitchen Rental
DESCRIPTION:
URL:https://trinitysummerside.ca/event/private-kitchen-rental-7/2026-02-10/
END:VEVENT
BEGIN:VEVENT
DTSTART;TZID=Atlantic/Bermuda:20260209T150000
DTEND;TZID=Atlantic/Bermuda:20260209T160000
DTSTAMP:20260422T053749
CREATED:20260120T164230Z
LAST-MODIFIED:20260120T164230Z
UID:10010741-1770649200-1770652800@trinitysummerside.ca
SUMMARY:Faith in Action team meeting
DESCRIPTION:Audiotorium
URL:https://trinitysummerside.ca/event/faith-in-action-team-meeting/
END:VEVENT
BEGIN:VEVENT
DTSTART;TZID=Atlantic/Bermuda:20260209T130000
DTEND;TZID=Atlantic/Bermuda:20260209T150000
DTSTAMP:20260422T053749
CREATED:20260114T185229Z
LAST-MODIFIED:20260302T173836Z
UID:10010396-1770642000-1770649200@trinitysummerside.ca
SUMMARY:Seniors Games
DESCRIPTION:Auditorium
URL:https://trinitysummerside.ca/event/seniors-games-2/2026-02-09/
END:VEVENT
BEGIN:VEVENT
DTSTART;TZID=Atlantic/Bermuda:20260209T130000
DTEND;TZID=Atlantic/Bermuda:20260209T150000
DTSTAMP:20260422T053749
CREATED:20260114T183908Z
LAST-MODIFIED:20260120T164832Z
UID:10010805-1770642000-1770649200@trinitysummerside.ca
SUMMARY:Seniors Games
DESCRIPTION:In Auditorium
URL:https://trinitysummerside.ca/event/seniors-games/2026-02-09/
END:VEVENT
BEGIN:VEVENT
DTSTART;TZID=Atlantic/Bermuda:20260208T114500
DTEND;TZID=Atlantic/Bermuda:20260208T130000
DTSTAMP:20260422T053749
CREATED:20260203T141948Z
LAST-MODIFIED:20260203T141948Z
UID:10010834-1770551100-1770555600@trinitysummerside.ca
SUMMARY:CL&G Team Meeting
DESCRIPTION:Boardroom and zoom
URL:https://trinitysummerside.ca/event/clg-team-meeting-2/
END:VEVENT
BEGIN:VEVENT
DTSTART;TZID=Atlantic/Bermuda:20260208T113000
DTEND;TZID=Atlantic/Bermuda:20260208T130000
DTSTAMP:20260422T053749
CREATED:20260120T164129Z
LAST-MODIFIED:20260120T164129Z
UID:10010740-1770550200-1770555600@trinitysummerside.ca
SUMMARY:Coffee & Conversation
DESCRIPTION:Join us in the auditorium following our Service of Gratitude.
URL:https://trinitysummerside.ca/event/coffee-conversation/
END:VEVENT
BEGIN:VEVENT
DTSTART;TZID=Atlantic/Bermuda:20260208T103000
DTEND;TZID=Atlantic/Bermuda:20260208T113000
DTSTAMP:20260422T053749
CREATED:20251219T170423Z
LAST-MODIFIED:20251222T182006Z
UID:10010163-1770546600-1770550200@trinitysummerside.ca
SUMMARY:Sunday Worship Service
DESCRIPTION:
URL:https://trinitysummerside.ca/event/sunday-worship-service/2026-02-08/
END:VEVENT
BEGIN:VEVENT
DTSTART;TZID=Atlantic/Bermuda:20260207T100000
DTEND;TZID=Atlantic/Bermuda:20260207T120000
DTSTAMP:20260422T053749
CREATED:20260120T163406Z
LAST-MODIFIED:20260120T163406Z
UID:10010410-1770458400-1770465600@trinitysummerside.ca
SUMMARY:Trinity Arts Group
DESCRIPTION:Usually in the auditorium following Feed My Sheep Breakfasts 10am or 9am on the Saturdays with no breakfasts.
URL:https://trinitysummerside.ca/event/trinity-arts-group/2026-02-07/
END:VEVENT
BEGIN:VEVENT
DTSTART;TZID=Atlantic/Bermuda:20260205T130000
DTEND;TZID=Atlantic/Bermuda:20260205T150000
DTSTAMP:20260422T053749
CREATED:20251231T153310Z
LAST-MODIFIED:20260114T183009Z
UID:10010335-1770296400-1770303600@trinitysummerside.ca
SUMMARY:Silvertones Choir Rehearsal
DESCRIPTION:In the Sanctuary.
URL:https://trinitysummerside.ca/event/silvertones-choir-rehearsal/2026-02-05/
END:VEVENT
BEGIN:VEVENT
DTSTART;TZID=Atlantic/Bermuda:20260204T174500
DTEND;TZID=Atlantic/Bermuda:20260204T200000
DTSTAMP:20260422T053749
CREATED:20260203T141757Z
LAST-MODIFIED:20260203T141757Z
UID:10010813-1770227100-1770235200@trinitysummerside.ca
SUMMARY:Choir rehearsals
DESCRIPTION:Hand Bell Choir 5:45pm \nTrinity Choir 7pm
URL:https://trinitysummerside.ca/event/choir-rehearsals-2/2026-02-04/
END:VEVENT
BEGIN:VEVENT
DTSTART;TZID=Atlantic/Bermuda:20260204T080000
DTEND;TZID=Atlantic/Bermuda:20260204T090000
DTSTAMP:20260422T053749
CREATED:20260120T163740Z
LAST-MODIFIED:20260120T163740Z
UID:10010719-1770192000-1770195600@trinitysummerside.ca
SUMMARY:Men's Breakfasts
DESCRIPTION:Seashell Café (26152 Route 2)
URL:https://trinitysummerside.ca/event/mens-breakfasts/2026-02-04/
END:VEVENT
BEGIN:VEVENT
DTSTART;TZID=Atlantic/Bermuda:20260204T080000
DTEND;TZID=Atlantic/Bermuda:20260204T090000
DTSTAMP:20260422T053749
CREATED:20260120T163630Z
LAST-MODIFIED:20260120T163810Z
UID:10010671-1770192000-1770195600@trinitysummerside.ca
SUMMARY:Women's Breakfasts
DESCRIPTION:Waterfront Café at Holland College campus.
URL:https://trinitysummerside.ca/event/womens-breakfasts/2026-02-04/
END:VEVENT
BEGIN:VEVENT
DTSTART;TZID=Atlantic/Bermuda:20260202T130000
DTEND;TZID=Atlantic/Bermuda:20260202T150000
DTSTAMP:20260422T053749
CREATED:20260114T185229Z
LAST-MODIFIED:20260302T173836Z
UID:10010395-1770037200-1770044400@trinitysummerside.ca
SUMMARY:Seniors Games
DESCRIPTION:Auditorium
URL:https://trinitysummerside.ca/event/seniors-games-2/2026-02-02/
END:VEVENT
BEGIN:VEVENT
DTSTART;TZID=Atlantic/Bermuda:20260202T130000
DTEND;TZID=Atlantic/Bermuda:20260202T150000
DTSTAMP:20260422T053749
CREATED:20260114T183908Z
LAST-MODIFIED:20260120T164832Z
UID:10010804-1770037200-1770044400@trinitysummerside.ca
SUMMARY:Seniors Games
DESCRIPTION:In Auditorium
URL:https://trinitysummerside.ca/event/seniors-games/2026-02-02/
END:VEVENT
BEGIN:VEVENT
DTSTART;TZID=Atlantic/Bermuda:20260201T103000
DTEND;TZID=Atlantic/Bermuda:20260201T113000
DTSTAMP:20260422T053749
CREATED:20251219T170423Z
LAST-MODIFIED:20251222T182006Z
UID:10010162-1769941800-1769945400@trinitysummerside.ca
SUMMARY:Sunday Worship Service
DESCRIPTION:
URL:https://trinitysummerside.ca/event/sunday-worship-service/2026-02-01/
END:VEVENT
BEGIN:VEVENT
DTSTART;TZID=Atlantic/Bermuda:20260131T100000
DTEND;TZID=Atlantic/Bermuda:20260131T120000
DTSTAMP:20260422T053749
CREATED:20260120T163406Z
LAST-MODIFIED:20260120T163406Z
UID:10010409-1769853600-1769860800@trinitysummerside.ca
SUMMARY:Trinity Arts Group
DESCRIPTION:Usually in the auditorium following Feed My Sheep Breakfasts 10am or 9am on the Saturdays with no breakfasts.
URL:https://trinitysummerside.ca/event/trinity-arts-group/2026-01-31/
END:VEVENT
BEGIN:VEVENT
DTSTART;TZID=Atlantic/Bermuda:20260129T130000
DTEND;TZID=Atlantic/Bermuda:20260129T150000
DTSTAMP:20260422T053749
CREATED:20251231T153310Z
LAST-MODIFIED:20260114T183009Z
UID:10010334-1769691600-1769698800@trinitysummerside.ca
SUMMARY:Silvertones Choir Rehearsal
DESCRIPTION:In the Sanctuary.
URL:https://trinitysummerside.ca/event/silvertones-choir-rehearsal/2026-01-29/
END:VEVENT
BEGIN:VEVENT
DTSTART;TZID=Atlantic/Bermuda:20260128T080000
DTEND;TZID=Atlantic/Bermuda:20260128T090000
DTSTAMP:20260422T053749
CREATED:20260120T163740Z
LAST-MODIFIED:20260120T163740Z
UID:10010718-1769587200-1769590800@trinitysummerside.ca
SUMMARY:Men's Breakfasts
DESCRIPTION:Seashell Café (26152 Route 2)
URL:https://trinitysummerside.ca/event/mens-breakfasts/2026-01-28/
END:VEVENT
BEGIN:VEVENT
DTSTART;TZID=Atlantic/Bermuda:20260128T080000
DTEND;TZID=Atlantic/Bermuda:20260128T090000
DTSTAMP:20260422T053749
CREATED:20260120T163630Z
LAST-MODIFIED:20260120T163810Z
UID:10010670-1769587200-1769590800@trinitysummerside.ca
SUMMARY:Women's Breakfasts
DESCRIPTION:Waterfront Café at Holland College campus.
URL:https://trinitysummerside.ca/event/womens-breakfasts/2026-01-28/
END:VEVENT
BEGIN:VEVENT
DTSTART;TZID=Atlantic/Bermuda:20260126T130000
DTEND;TZID=Atlantic/Bermuda:20260126T150000
DTSTAMP:20260422T053749
CREATED:20260114T185229Z
LAST-MODIFIED:20260302T173836Z
UID:10010394-1769432400-1769439600@trinitysummerside.ca
SUMMARY:Seniors Games
DESCRIPTION:Auditorium
URL:https://trinitysummerside.ca/event/seniors-games-2/2026-01-26/
END:VEVENT
BEGIN:VEVENT
DTSTART;TZID=Atlantic/Bermuda:20260126T130000
DTEND;TZID=Atlantic/Bermuda:20260126T150000
DTSTAMP:20260422T053749
CREATED:20260114T183908Z
LAST-MODIFIED:20260120T164832Z
UID:10010803-1769432400-1769439600@trinitysummerside.ca
SUMMARY:Seniors Games
DESCRIPTION:In Auditorium
URL:https://trinitysummerside.ca/event/seniors-games/2026-01-26/
END:VEVENT
BEGIN:VEVENT
DTSTART;TZID=Atlantic/Bermuda:20260125T113000
DTEND;TZID=Atlantic/Bermuda:20260125T130000
DTSTAMP:20260422T053749
CREATED:20260114T185157Z
LAST-MODIFIED:20260114T185157Z
UID:10010393-1769340600-1769346000@trinitysummerside.ca
SUMMARY:CL&G Team Meeting
DESCRIPTION:Boardroom / zoom
URL:https://trinitysummerside.ca/event/clg-team-meeting/
END:VEVENT
BEGIN:VEVENT
DTSTART;TZID=Atlantic/Bermuda:20260125T103000
DTEND;TZID=Atlantic/Bermuda:20260125T113000
DTSTAMP:20260422T053749
CREATED:20251219T170423Z
LAST-MODIFIED:20251222T182006Z
UID:10010161-1769337000-1769340600@trinitysummerside.ca
SUMMARY:Sunday Worship Service
DESCRIPTION:
URL:https://trinitysummerside.ca/event/sunday-worship-service/2026-01-25/
END:VEVENT
BEGIN:VEVENT
DTSTART;TZID=Atlantic/Bermuda:20260125T103000
DTEND;TZID=Atlantic/Bermuda:20260125T103000
DTSTAMP:20260422T053749
CREATED:20260114T182239Z
LAST-MODIFIED:20260114T182316Z
UID:10010380-1769337000-1769337000@trinitysummerside.ca
SUMMARY:Sunday Worship Service
DESCRIPTION:Sanctuary
URL:https://trinitysummerside.ca/event/sunday-worship-service-2/
END:VEVENT
BEGIN:VEVENT
DTSTART;TZID=Atlantic/Bermuda:20260124T100000
DTEND;TZID=Atlantic/Bermuda:20260124T120000
DTSTAMP:20260422T053749
CREATED:20260120T163406Z
LAST-MODIFIED:20260120T163406Z
UID:10010408-1769248800-1769256000@trinitysummerside.ca
SUMMARY:Trinity Arts Group
DESCRIPTION:Usually in the auditorium following Feed My Sheep Breakfasts 10am or 9am on the Saturdays with no breakfasts.
URL:https://trinitysummerside.ca/event/trinity-arts-group/2026-01-24/
END:VEVENT
BEGIN:VEVENT
DTSTART;TZID=Atlantic/Bermuda:20260124T083000
DTEND;TZID=Atlantic/Bermuda:20260124T100000
DTSTAMP:20260422T053749
CREATED:20251231T153012Z
LAST-MODIFIED:20251231T153012Z
UID:10010272-1769243400-1769248800@trinitysummerside.ca
SUMMARY:Feed My Sheep Breakfast
DESCRIPTION:In the Auditorium.
URL:https://trinitysummerside.ca/event/feed-my-sheep-breakfast-5/2026-01-24/
END:VEVENT
BEGIN:VEVENT
DTSTART;TZID=Atlantic/Bermuda:20260122T183000
DTEND;TZID=Atlantic/Bermuda:20260122T203000
DTSTAMP:20260422T053749
CREATED:20260114T184617Z
LAST-MODIFIED:20260114T184617Z
UID:10010391-1769106600-1769113800@trinitysummerside.ca
SUMMARY:Trinity Council Meeting
DESCRIPTION:Zoom Only
URL:https://trinitysummerside.ca/event/trinity-council-meeting/
END:VEVENT
BEGIN:VEVENT
DTSTART;TZID=Atlantic/Bermuda:20260122T130000
DTEND;TZID=Atlantic/Bermuda:20260122T150000
DTSTAMP:20260422T053749
CREATED:20251231T153310Z
LAST-MODIFIED:20260114T183009Z
UID:10010333-1769086800-1769094000@trinitysummerside.ca
SUMMARY:Silvertones Choir Rehearsal
DESCRIPTION:In the Sanctuary.
URL:https://trinitysummerside.ca/event/silvertones-choir-rehearsal/2026-01-22/
END:VEVENT
END:VCALENDAR