BEGIN:VCALENDAR
VERSION:2.0
PRODID:-//Trinity United Church Summerside - ECPv6.15.20//NONSGML v1.0//EN
CALSCALE:GREGORIAN
METHOD:PUBLISH
X-WR-CALNAME:Trinity United Church Summerside
X-ORIGINAL-URL:https://trinitysummerside.ca
X-WR-CALDESC:Events for Trinity United Church Summerside
REFRESH-INTERVAL;VALUE=DURATION:PT1H
X-Robots-Tag:noindex
X-PUBLISHED-TTL:PT1H
BEGIN:VTIMEZONE
TZID:Atlantic/Bermuda
BEGIN:DAYLIGHT
TZOFFSETFROM:-0400
TZOFFSETTO:-0300
TZNAME:ADT
DTSTART:20250309T060000
END:DAYLIGHT
BEGIN:STANDARD
TZOFFSETFROM:-0300
TZOFFSETTO:-0400
TZNAME:AST
DTSTART:20251102T050000
END:STANDARD
BEGIN:DAYLIGHT
TZOFFSETFROM:-0400
TZOFFSETTO:-0300
TZNAME:ADT
DTSTART:20260308T060000
END:DAYLIGHT
BEGIN:STANDARD
TZOFFSETFROM:-0300
TZOFFSETTO:-0400
TZNAME:AST
DTSTART:20261101T050000
END:STANDARD
BEGIN:DAYLIGHT
TZOFFSETFROM:-0400
TZOFFSETTO:-0300
TZNAME:ADT
DTSTART:20270314T060000
END:DAYLIGHT
BEGIN:STANDARD
TZOFFSETFROM:-0300
TZOFFSETTO:-0400
TZNAME:AST
DTSTART:20271107T050000
END:STANDARD
END:VTIMEZONE
BEGIN:VEVENT
DTSTART;TZID=Atlantic/Bermuda:20260520T174500
DTEND;TZID=Atlantic/Bermuda:20260520T200000
DTSTAMP:20260423T150725
CREATED:20260203T141757Z
LAST-MODIFIED:20260203T141757Z
UID:10010828-1779299100-1779307200@trinitysummerside.ca
SUMMARY:Choir rehearsals
DESCRIPTION:Hand Bell Choir 5:45pm \nTrinity Choir 7pm
URL:https://trinitysummerside.ca/event/choir-rehearsals-2/2026-05-20/
END:VEVENT
BEGIN:VEVENT
DTSTART;TZID=Atlantic/Bermuda:20260520T133000
DTEND;TZID=Atlantic/Bermuda:20260520T140000
DTSTAMP:20260423T150725
CREATED:20260423T163145Z
LAST-MODIFIED:20260423T163145Z
UID:10011007-1779283800-1779285600@trinitysummerside.ca
SUMMARY:Wedgewood Manor Service
DESCRIPTION:
URL:https://trinitysummerside.ca/event/wedgewood-manor-service-4/
END:VEVENT
BEGIN:VEVENT
DTSTART;TZID=Atlantic/Bermuda:20260520T080000
DTEND;TZID=Atlantic/Bermuda:20260520T090000
DTSTAMP:20260423T150725
CREATED:20260120T163740Z
LAST-MODIFIED:20260120T163740Z
UID:10010734-1779264000-1779267600@trinitysummerside.ca
SUMMARY:Men's Breakfasts
DESCRIPTION:Seashell Café (26152 Route 2)
URL:https://trinitysummerside.ca/event/mens-breakfasts/2026-05-20/
END:VEVENT
BEGIN:VEVENT
DTSTART;TZID=Atlantic/Bermuda:20260520T080000
DTEND;TZID=Atlantic/Bermuda:20260520T090000
DTSTAMP:20260423T150725
CREATED:20260120T163630Z
LAST-MODIFIED:20260120T163810Z
UID:10010686-1779264000-1779267600@trinitysummerside.ca
SUMMARY:Women's Breakfasts
DESCRIPTION:Waterfront Café at Holland College campus.
URL:https://trinitysummerside.ca/event/womens-breakfasts/2026-05-20/
END:VEVENT
BEGIN:VEVENT
DTSTART;TZID=Atlantic/Bermuda:20260519T150000
DTEND;TZID=Atlantic/Bermuda:20260519T160000
DTSTAMP:20260423T150725
CREATED:20260423T163107Z
LAST-MODIFIED:20260423T163107Z
UID:10011006-1779202800-1779206400@trinitysummerside.ca
SUMMARY:Faith in Action team meeting
DESCRIPTION:Auditorium
URL:https://trinitysummerside.ca/event/faith-in-action-team-meeting-3/
END:VEVENT
BEGIN:VEVENT
DTSTART;TZID=Atlantic/Bermuda:20260519T113000
DTEND;TZID=Atlantic/Bermuda:20260519T130000
DTSTAMP:20260423T150725
CREATED:20260423T163033Z
LAST-MODIFIED:20260423T163033Z
UID:10011005-1779190200-1779195600@trinitysummerside.ca
SUMMARY:Trinity Ladies Luncheon - location TBA
DESCRIPTION:
URL:https://trinitysummerside.ca/event/trinity-ladies-luncheon-location-tba/
END:VEVENT
BEGIN:VEVENT
DTSTART;TZID=Atlantic/Bermuda:20260519T100000
DTEND;TZID=Atlantic/Bermuda:20260519T130000
DTSTAMP:20260423T150725
CREATED:20260206T153229Z
LAST-MODIFIED:20260206T153229Z
UID:10010862-1779184800-1779195600@trinitysummerside.ca
SUMMARY:Trinity Food Box Program
DESCRIPTION:Volunteers are able to see you between 10am and 1pm.  Please bring a reusable grocery bag. \nIf you have not yet registered you will need to show ID for yourself and anyone else in your household. \nIf there is a snow day (schools are cancelled) we will not be open.
URL:https://trinitysummerside.ca/event/trinity-food-box-program/2026-05-19/
END:VEVENT
BEGIN:VEVENT
DTSTART;TZID=Atlantic/Bermuda:20260518T080000
DTEND;TZID=Atlantic/Bermuda:20260518T170000
DTSTAMP:20260423T150725
CREATED:20260423T162947Z
LAST-MODIFIED:20260423T162947Z
UID:10011004-1779091200-1779123600@trinitysummerside.ca
SUMMARY:Victoria Day holiday - office is closed
DESCRIPTION:
URL:https://trinitysummerside.ca/event/victoria-day-holiday-office-is-closed/
END:VEVENT
BEGIN:VEVENT
DTSTART;TZID=Atlantic/Bermuda:20260517T103000
DTEND;TZID=Atlantic/Bermuda:20260517T113000
DTSTAMP:20260423T150725
CREATED:20251219T170423Z
LAST-MODIFIED:20251222T182006Z
UID:10010177-1779013800-1779017400@trinitysummerside.ca
SUMMARY:Sunday Worship Service
DESCRIPTION:
URL:https://trinitysummerside.ca/event/sunday-worship-service/2026-05-17/
END:VEVENT
BEGIN:VEVENT
DTSTART;TZID=Atlantic/Bermuda:20260516T100000
DTEND;TZID=Atlantic/Bermuda:20260516T120000
DTSTAMP:20260423T150725
CREATED:20260120T163406Z
LAST-MODIFIED:20260120T163406Z
UID:10010424-1778925600-1778932800@trinitysummerside.ca
SUMMARY:Trinity Arts Group
DESCRIPTION:Usually in the auditorium following Feed My Sheep Breakfasts 10am or 9am on the Saturdays with no breakfasts.
URL:https://trinitysummerside.ca/event/trinity-arts-group/2026-05-16/
END:VEVENT
BEGIN:VEVENT
DTSTART;TZID=Atlantic/Bermuda:20260514T130000
DTEND;TZID=Atlantic/Bermuda:20260514T150000
DTSTAMP:20260423T150725
CREATED:20251231T153310Z
LAST-MODIFIED:20260114T183009Z
UID:10010349-1778763600-1778770800@trinitysummerside.ca
SUMMARY:Silvertones Choir Rehearsal
DESCRIPTION:In the Sanctuary.
URL:https://trinitysummerside.ca/event/silvertones-choir-rehearsal/2026-05-14/
END:VEVENT
BEGIN:VEVENT
DTSTART;TZID=Atlantic/Bermuda:20260514T120000
DTEND;TZID=Atlantic/Bermuda:20260514T150000
DTSTAMP:20260423T150725
CREATED:20260206T153339Z
LAST-MODIFIED:20260206T153339Z
UID:10010907-1778760000-1778770800@trinitysummerside.ca
SUMMARY:Trinity Food Box Program
DESCRIPTION:Volunteers are able to see you between 12pm and 3pm.  Please bring a reusable grocery bag. \nIf you have not yet registered you will need to show ID for yourself and anyone else in your household. \nIf there is a snow day (schools are cancelled) we will not be open.
URL:https://trinitysummerside.ca/event/trinity-food-box-program-2/2026-05-14/
END:VEVENT
BEGIN:VEVENT
DTSTART;TZID=Atlantic/Bermuda:20260514T093000
DTEND;TZID=Atlantic/Bermuda:20260514T103000
DTSTAMP:20260423T150725
CREATED:20260409T121446Z
LAST-MODIFIED:20260409T121446Z
UID:10010991-1778751000-1778754600@trinitysummerside.ca
SUMMARY:Trinity Café
DESCRIPTION:Holy Communion & UCC –\nMatthew 26:26-28\, Mark 14:22-24\, Luke 22:17-20 (April 16)\nThe Beatitudes – Matthew 5:1-12\n•\nBeatitudes Part One: Set Up of the Study (April 23)\n•\nBeatitudes Part Two: Poor In Spirit & Those Who Mourn (April 30)\n•\nBeatitudes Part Three: The Meek & Justice Seekers (May 7)\n•\nBeatitudes Part Four: The Merciful & Pure in Heart (May 14)\n•\nBeatitudes Part Five: Peace Makers & Those Persecuted (May 21)\n•\nBeatitudes Part Six: Full Review of Beatitudes (May 28)
URL:https://trinitysummerside.ca/event/trinity-cafe/2026-05-14/
END:VEVENT
BEGIN:VEVENT
DTSTART;TZID=Atlantic/Bermuda:20260513T174500
DTEND;TZID=Atlantic/Bermuda:20260513T200000
DTSTAMP:20260423T150725
CREATED:20260203T141757Z
LAST-MODIFIED:20260203T141757Z
UID:10010827-1778694300-1778702400@trinitysummerside.ca
SUMMARY:Choir rehearsals
DESCRIPTION:Hand Bell Choir 5:45pm \nTrinity Choir 7pm
URL:https://trinitysummerside.ca/event/choir-rehearsals-2/2026-05-13/
END:VEVENT
BEGIN:VEVENT
DTSTART;TZID=Atlantic/Bermuda:20260513T134500
DTEND;TZID=Atlantic/Bermuda:20260513T143000
DTSTAMP:20260423T150725
CREATED:20260423T162859Z
LAST-MODIFIED:20260423T162859Z
UID:10011003-1778679900-1778682600@trinitysummerside.ca
SUMMARY:Andrews Service
DESCRIPTION:
URL:https://trinitysummerside.ca/event/andrews-service/
END:VEVENT
BEGIN:VEVENT
DTSTART;TZID=Atlantic/Bermuda:20260513T133000
DTEND;TZID=Atlantic/Bermuda:20260513T143000
DTSTAMP:20260423T150725
CREATED:20260423T162811Z
LAST-MODIFIED:20260423T162811Z
UID:10011002-1778679000-1778682600@trinitysummerside.ca
SUMMARY:UCW Meeting
DESCRIPTION:Boardroom
URL:https://trinitysummerside.ca/event/ucw-meeting-5/
END:VEVENT
BEGIN:VEVENT
DTSTART;TZID=Atlantic/Bermuda:20260513T110000
DTEND;TZID=Atlantic/Bermuda:20260513T120000
DTSTAMP:20260423T150725
CREATED:20260423T162734Z
LAST-MODIFIED:20260423T162734Z
UID:10011001-1778670000-1778673600@trinitysummerside.ca
SUMMARY:Worship Team Meeting
DESCRIPTION:Boardroom and zoom
URL:https://trinitysummerside.ca/event/worship-team-meeting-5/
END:VEVENT
BEGIN:VEVENT
DTSTART;TZID=Atlantic/Bermuda:20260513T093000
DTEND;TZID=Atlantic/Bermuda:20260513T103000
DTSTAMP:20260423T150725
CREATED:20260423T162642Z
LAST-MODIFIED:20260423T162642Z
UID:10011000-1778664600-1778668200@trinitysummerside.ca
SUMMARY:Summerside & Area Christian Council Meeting
DESCRIPTION:St Mary’s
URL:https://trinitysummerside.ca/event/summerside-area-christian-council-meeting/
END:VEVENT
BEGIN:VEVENT
DTSTART;TZID=Atlantic/Bermuda:20260513T080000
DTEND;TZID=Atlantic/Bermuda:20260513T090000
DTSTAMP:20260423T150725
CREATED:20260120T163740Z
LAST-MODIFIED:20260120T163740Z
UID:10010733-1778659200-1778662800@trinitysummerside.ca
SUMMARY:Men's Breakfasts
DESCRIPTION:Seashell Café (26152 Route 2)
URL:https://trinitysummerside.ca/event/mens-breakfasts/2026-05-13/
END:VEVENT
BEGIN:VEVENT
DTSTART;TZID=Atlantic/Bermuda:20260513T080000
DTEND;TZID=Atlantic/Bermuda:20260513T090000
DTSTAMP:20260423T150725
CREATED:20260120T163630Z
LAST-MODIFIED:20260120T163810Z
UID:10010685-1778659200-1778662800@trinitysummerside.ca
SUMMARY:Women's Breakfasts
DESCRIPTION:Waterfront Café at Holland College campus.
URL:https://trinitysummerside.ca/event/womens-breakfasts/2026-05-13/
END:VEVENT
BEGIN:VEVENT
DTSTART;TZID=Atlantic/Bermuda:20260512T180000
DTEND;TZID=Atlantic/Bermuda:20260512T220000
DTSTAMP:20260423T150725
CREATED:20260423T162547Z
LAST-MODIFIED:20260423T162547Z
UID:10010999-1778608800-1778623200@trinitysummerside.ca
SUMMARY:EPMF Finale
DESCRIPTION:Sanctuary
URL:https://trinitysummerside.ca/event/epmf-finale/
END:VEVENT
BEGIN:VEVENT
DTSTART;TZID=Atlantic/Bermuda:20260512T173000
DTEND;TZID=Atlantic/Bermuda:20260512T210000
DTSTAMP:20260423T150725
CREATED:20260423T162507Z
LAST-MODIFIED:20260423T162507Z
UID:10010998-1778607000-1778619600@trinitysummerside.ca
SUMMARY:Volunteer Food Handler's Safety course
DESCRIPTION:Auditorium\, register with Health PEI.
URL:https://trinitysummerside.ca/event/volunteer-food-handlers-safety-course/
END:VEVENT
BEGIN:VEVENT
DTSTART;TZID=Atlantic/Bermuda:20260512T100000
DTEND;TZID=Atlantic/Bermuda:20260512T130000
DTSTAMP:20260423T150725
CREATED:20260206T153229Z
LAST-MODIFIED:20260206T153229Z
UID:10010861-1778580000-1778590800@trinitysummerside.ca
SUMMARY:Trinity Food Box Program
DESCRIPTION:Volunteers are able to see you between 10am and 1pm.  Please bring a reusable grocery bag. \nIf you have not yet registered you will need to show ID for yourself and anyone else in your household. \nIf there is a snow day (schools are cancelled) we will not be open.
URL:https://trinitysummerside.ca/event/trinity-food-box-program/2026-05-12/
END:VEVENT
BEGIN:VEVENT
DTSTART;TZID=Atlantic/Bermuda:20260511T130000
DTEND;TZID=Atlantic/Bermuda:20260511T150000
DTSTAMP:20260423T150725
CREATED:20260319T170629Z
LAST-MODIFIED:20260319T170629Z
UID:10010971-1778504400-1778511600@trinitysummerside.ca
SUMMARY:Private rental - Boardroom
DESCRIPTION:
URL:https://trinitysummerside.ca/event/private-rental-boardroom/2026-05-11/
END:VEVENT
BEGIN:VEVENT
DTSTART;TZID=Atlantic/Bermuda:20260510T103000
DTEND;TZID=Atlantic/Bermuda:20260510T113000
DTSTAMP:20260423T150725
CREATED:20251219T170423Z
LAST-MODIFIED:20251222T182006Z
UID:10010176-1778409000-1778412600@trinitysummerside.ca
SUMMARY:Sunday Worship Service
DESCRIPTION:
URL:https://trinitysummerside.ca/event/sunday-worship-service/2026-05-10/
END:VEVENT
BEGIN:VEVENT
DTSTART;TZID=Atlantic/Bermuda:20260509T140000
DTEND;TZID=Atlantic/Bermuda:20260509T180000
DTSTAMP:20260423T150725
CREATED:20260423T162401Z
LAST-MODIFIED:20260423T162401Z
UID:10010997-1778335200-1778349600@trinitysummerside.ca
SUMMARY:Private rental
DESCRIPTION:Auditorium
URL:https://trinitysummerside.ca/event/private-rental/
END:VEVENT
BEGIN:VEVENT
DTSTART;TZID=Atlantic/Bermuda:20260509T100000
DTEND;TZID=Atlantic/Bermuda:20260509T120000
DTSTAMP:20260423T150725
CREATED:20260120T163406Z
LAST-MODIFIED:20260120T163406Z
UID:10010423-1778320800-1778328000@trinitysummerside.ca
SUMMARY:Trinity Arts Group
DESCRIPTION:Usually in the auditorium following Feed My Sheep Breakfasts 10am or 9am on the Saturdays with no breakfasts.
URL:https://trinitysummerside.ca/event/trinity-arts-group/2026-05-09/
END:VEVENT
BEGIN:VEVENT
DTSTART;TZID=Atlantic/Bermuda:20260509T083000
DTEND;TZID=Atlantic/Bermuda:20260509T100000
DTSTAMP:20260423T150725
CREATED:20251231T152915Z
LAST-MODIFIED:20251231T152915Z
UID:10010216-1778315400-1778320800@trinitysummerside.ca
SUMMARY:Feed My Sheep Breakfast
DESCRIPTION:In the Auditorium.
URL:https://trinitysummerside.ca/event/feed-my-sheep-breakfast-4/2026-05-09/
END:VEVENT
BEGIN:VEVENT
DTSTART;TZID=Atlantic/Bermuda:20260507T130000
DTEND;TZID=Atlantic/Bermuda:20260507T150000
DTSTAMP:20260423T150725
CREATED:20251231T153310Z
LAST-MODIFIED:20260114T183009Z
UID:10010348-1778158800-1778166000@trinitysummerside.ca
SUMMARY:Silvertones Choir Rehearsal
DESCRIPTION:In the Sanctuary.
URL:https://trinitysummerside.ca/event/silvertones-choir-rehearsal/2026-05-07/
END:VEVENT
BEGIN:VEVENT
DTSTART;TZID=Atlantic/Bermuda:20260507T120000
DTEND;TZID=Atlantic/Bermuda:20260507T150000
DTSTAMP:20260423T150725
CREATED:20260206T153339Z
LAST-MODIFIED:20260206T153339Z
UID:10010906-1778155200-1778166000@trinitysummerside.ca
SUMMARY:Trinity Food Box Program
DESCRIPTION:Volunteers are able to see you between 12pm and 3pm.  Please bring a reusable grocery bag. \nIf you have not yet registered you will need to show ID for yourself and anyone else in your household. \nIf there is a snow day (schools are cancelled) we will not be open.
URL:https://trinitysummerside.ca/event/trinity-food-box-program-2/2026-05-07/
END:VEVENT
END:VCALENDAR