BEGIN:VCALENDAR
VERSION:2.0
PRODID:-//Trinity United Church Summerside - ECPv6.15.20//NONSGML v1.0//EN
CALSCALE:GREGORIAN
METHOD:PUBLISH
X-ORIGINAL-URL:https://trinitysummerside.ca
X-WR-CALDESC:Events for Trinity United Church Summerside
REFRESH-INTERVAL;VALUE=DURATION:PT1H
X-Robots-Tag:noindex
X-PUBLISHED-TTL:PT1H
BEGIN:VTIMEZONE
TZID:Atlantic/Bermuda
BEGIN:DAYLIGHT
TZOFFSETFROM:-0400
TZOFFSETTO:-0300
TZNAME:ADT
DTSTART:20250309T060000
END:DAYLIGHT
BEGIN:STANDARD
TZOFFSETFROM:-0300
TZOFFSETTO:-0400
TZNAME:AST
DTSTART:20251102T050000
END:STANDARD
BEGIN:DAYLIGHT
TZOFFSETFROM:-0400
TZOFFSETTO:-0300
TZNAME:ADT
DTSTART:20260308T060000
END:DAYLIGHT
BEGIN:STANDARD
TZOFFSETFROM:-0300
TZOFFSETTO:-0400
TZNAME:AST
DTSTART:20261101T050000
END:STANDARD
BEGIN:DAYLIGHT
TZOFFSETFROM:-0400
TZOFFSETTO:-0300
TZNAME:ADT
DTSTART:20270314T060000
END:DAYLIGHT
BEGIN:STANDARD
TZOFFSETFROM:-0300
TZOFFSETTO:-0400
TZNAME:AST
DTSTART:20271107T050000
END:STANDARD
END:VTIMEZONE
BEGIN:VEVENT
DTSTART;TZID=Atlantic/Bermuda:20261117T100000
DTEND;TZID=Atlantic/Bermuda:20261117T130000
DTSTAMP:20260422T013614
CREATED:20260206T153229Z
LAST-MODIFIED:20260206T153229Z
UID:10010888-1794909600-1794920400@trinitysummerside.ca
SUMMARY:Trinity Food Box Program
DESCRIPTION:Volunteers are able to see you between 10am and 1pm.  Please bring a reusable grocery bag. \nIf you have not yet registered you will need to show ID for yourself and anyone else in your household. \nIf there is a snow day (schools are cancelled) we will not be open.
URL:https://trinitysummerside.ca/event/trinity-food-box-program/2026-11-17/
END:VEVENT
BEGIN:VEVENT
DTSTART;TZID=Atlantic/Bermuda:20261119T120000
DTEND;TZID=Atlantic/Bermuda:20261119T150000
DTSTAMP:20260422T013614
CREATED:20260206T153339Z
LAST-MODIFIED:20260206T153339Z
UID:10010934-1795089600-1795100400@trinitysummerside.ca
SUMMARY:Trinity Food Box Program
DESCRIPTION:Volunteers are able to see you between 12pm and 3pm.  Please bring a reusable grocery bag. \nIf you have not yet registered you will need to show ID for yourself and anyone else in your household. \nIf there is a snow day (schools are cancelled) we will not be open.
URL:https://trinitysummerside.ca/event/trinity-food-box-program-2/2026-11-19/
END:VEVENT
BEGIN:VEVENT
DTSTART;TZID=Atlantic/Bermuda:20261119T130000
DTEND;TZID=Atlantic/Bermuda:20261119T150000
DTSTAMP:20260422T013614
CREATED:20251231T153310Z
LAST-MODIFIED:20260114T183009Z
UID:10010376-1795093200-1795100400@trinitysummerside.ca
SUMMARY:Silvertones Choir Rehearsal
DESCRIPTION:In the Sanctuary.
URL:https://trinitysummerside.ca/event/silvertones-choir-rehearsal/2026-11-19/
END:VEVENT
BEGIN:VEVENT
DTSTART;TZID=Atlantic/Bermuda:20261121T100000
DTEND;TZID=Atlantic/Bermuda:20261121T120000
DTSTAMP:20260422T013614
CREATED:20260120T163406Z
LAST-MODIFIED:20260120T163406Z
UID:10010451-1795255200-1795262400@trinitysummerside.ca
SUMMARY:Trinity Arts Group
DESCRIPTION:Usually in the auditorium following Feed My Sheep Breakfasts 10am or 9am on the Saturdays with no breakfasts.
URL:https://trinitysummerside.ca/event/trinity-arts-group/2026-11-21/
END:VEVENT
BEGIN:VEVENT
DTSTART;TZID=Atlantic/Bermuda:20261122T103000
DTEND;TZID=Atlantic/Bermuda:20261122T113000
DTSTAMP:20260422T013614
CREATED:20251219T170423Z
LAST-MODIFIED:20251222T182006Z
UID:10010204-1795343400-1795347000@trinitysummerside.ca
SUMMARY:Sunday Worship Service
DESCRIPTION:
URL:https://trinitysummerside.ca/event/sunday-worship-service/2026-11-22/
END:VEVENT
BEGIN:VEVENT
DTSTART;TZID=Atlantic/Bermuda:20261124T100000
DTEND;TZID=Atlantic/Bermuda:20261124T130000
DTSTAMP:20260422T013614
CREATED:20260206T153229Z
LAST-MODIFIED:20260206T153229Z
UID:10010889-1795514400-1795525200@trinitysummerside.ca
SUMMARY:Trinity Food Box Program
DESCRIPTION:Volunteers are able to see you between 10am and 1pm.  Please bring a reusable grocery bag. \nIf you have not yet registered you will need to show ID for yourself and anyone else in your household. \nIf there is a snow day (schools are cancelled) we will not be open.
URL:https://trinitysummerside.ca/event/trinity-food-box-program/2026-11-24/
END:VEVENT
BEGIN:VEVENT
DTSTART;TZID=Atlantic/Bermuda:20261126T120000
DTEND;TZID=Atlantic/Bermuda:20261126T150000
DTSTAMP:20260422T013614
CREATED:20260206T153339Z
LAST-MODIFIED:20260206T153339Z
UID:10010935-1795694400-1795705200@trinitysummerside.ca
SUMMARY:Trinity Food Box Program
DESCRIPTION:Volunteers are able to see you between 12pm and 3pm.  Please bring a reusable grocery bag. \nIf you have not yet registered you will need to show ID for yourself and anyone else in your household. \nIf there is a snow day (schools are cancelled) we will not be open.
URL:https://trinitysummerside.ca/event/trinity-food-box-program-2/2026-11-26/
END:VEVENT
BEGIN:VEVENT
DTSTART;TZID=Atlantic/Bermuda:20261126T130000
DTEND;TZID=Atlantic/Bermuda:20261126T150000
DTSTAMP:20260422T013614
CREATED:20251231T153310Z
LAST-MODIFIED:20260114T183009Z
UID:10010377-1795698000-1795705200@trinitysummerside.ca
SUMMARY:Silvertones Choir Rehearsal
DESCRIPTION:In the Sanctuary.
URL:https://trinitysummerside.ca/event/silvertones-choir-rehearsal/2026-11-26/
END:VEVENT
BEGIN:VEVENT
DTSTART;TZID=Atlantic/Bermuda:20261128T083000
DTEND;TZID=Atlantic/Bermuda:20261128T100000
DTSTAMP:20260422T013614
CREATED:20251231T153012Z
LAST-MODIFIED:20251231T153012Z
UID:10010282-1795854600-1795860000@trinitysummerside.ca
SUMMARY:Feed My Sheep Breakfast
DESCRIPTION:In the Auditorium.
URL:https://trinitysummerside.ca/event/feed-my-sheep-breakfast-5/2026-11-28/
END:VEVENT
BEGIN:VEVENT
DTSTART;TZID=Atlantic/Bermuda:20261128T100000
DTEND;TZID=Atlantic/Bermuda:20261128T120000
DTSTAMP:20260422T013614
CREATED:20260120T163406Z
LAST-MODIFIED:20260120T163406Z
UID:10010452-1795860000-1795867200@trinitysummerside.ca
SUMMARY:Trinity Arts Group
DESCRIPTION:Usually in the auditorium following Feed My Sheep Breakfasts 10am or 9am on the Saturdays with no breakfasts.
URL:https://trinitysummerside.ca/event/trinity-arts-group/2026-11-28/
END:VEVENT
BEGIN:VEVENT
DTSTART;TZID=Atlantic/Bermuda:20261129T103000
DTEND;TZID=Atlantic/Bermuda:20261129T113000
DTSTAMP:20260422T013614
CREATED:20251219T170423Z
LAST-MODIFIED:20251222T182006Z
UID:10010205-1795948200-1795951800@trinitysummerside.ca
SUMMARY:Sunday Worship Service
DESCRIPTION:
URL:https://trinitysummerside.ca/event/sunday-worship-service/2026-11-29/
END:VEVENT
BEGIN:VEVENT
DTSTART;TZID=Atlantic/Bermuda:20261201T100000
DTEND;TZID=Atlantic/Bermuda:20261201T130000
DTSTAMP:20260422T013614
CREATED:20260206T153229Z
LAST-MODIFIED:20260206T153229Z
UID:10010890-1796119200-1796130000@trinitysummerside.ca
SUMMARY:Trinity Food Box Program
DESCRIPTION:Volunteers are able to see you between 10am and 1pm.  Please bring a reusable grocery bag. \nIf you have not yet registered you will need to show ID for yourself and anyone else in your household. \nIf there is a snow day (schools are cancelled) we will not be open.
URL:https://trinitysummerside.ca/event/trinity-food-box-program/2026-12-01/
END:VEVENT
BEGIN:VEVENT
DTSTART;TZID=Atlantic/Bermuda:20261203T120000
DTEND;TZID=Atlantic/Bermuda:20261203T150000
DTSTAMP:20260422T013614
CREATED:20260206T153339Z
LAST-MODIFIED:20260206T153339Z
UID:10010936-1796299200-1796310000@trinitysummerside.ca
SUMMARY:Trinity Food Box Program
DESCRIPTION:Volunteers are able to see you between 12pm and 3pm.  Please bring a reusable grocery bag. \nIf you have not yet registered you will need to show ID for yourself and anyone else in your household. \nIf there is a snow day (schools are cancelled) we will not be open.
URL:https://trinitysummerside.ca/event/trinity-food-box-program-2/2026-12-03/
END:VEVENT
BEGIN:VEVENT
DTSTART;TZID=Atlantic/Bermuda:20261203T130000
DTEND;TZID=Atlantic/Bermuda:20261203T150000
DTSTAMP:20260422T013614
CREATED:20251231T153310Z
LAST-MODIFIED:20260114T183009Z
UID:10010378-1796302800-1796310000@trinitysummerside.ca
SUMMARY:Silvertones Choir Rehearsal
DESCRIPTION:In the Sanctuary.
URL:https://trinitysummerside.ca/event/silvertones-choir-rehearsal/2026-12-03/
END:VEVENT
BEGIN:VEVENT
DTSTART;TZID=Atlantic/Bermuda:20261205T100000
DTEND;TZID=Atlantic/Bermuda:20261205T120000
DTSTAMP:20260422T013614
CREATED:20260120T163406Z
LAST-MODIFIED:20260120T163406Z
UID:10010453-1796464800-1796472000@trinitysummerside.ca
SUMMARY:Trinity Arts Group
DESCRIPTION:Usually in the auditorium following Feed My Sheep Breakfasts 10am or 9am on the Saturdays with no breakfasts.
URL:https://trinitysummerside.ca/event/trinity-arts-group/2026-12-05/
END:VEVENT
BEGIN:VEVENT
DTSTART;TZID=Atlantic/Bermuda:20261206T103000
DTEND;TZID=Atlantic/Bermuda:20261206T113000
DTSTAMP:20260422T013614
CREATED:20251219T170423Z
LAST-MODIFIED:20251222T182006Z
UID:10010206-1796553000-1796556600@trinitysummerside.ca
SUMMARY:Sunday Worship Service
DESCRIPTION:
URL:https://trinitysummerside.ca/event/sunday-worship-service/2026-12-06/
END:VEVENT
BEGIN:VEVENT
DTSTART;TZID=Atlantic/Bermuda:20261208T100000
DTEND;TZID=Atlantic/Bermuda:20261208T130000
DTSTAMP:20260422T013614
CREATED:20260206T153229Z
LAST-MODIFIED:20260206T153229Z
UID:10010891-1796724000-1796734800@trinitysummerside.ca
SUMMARY:Trinity Food Box Program
DESCRIPTION:Volunteers are able to see you between 10am and 1pm.  Please bring a reusable grocery bag. \nIf you have not yet registered you will need to show ID for yourself and anyone else in your household. \nIf there is a snow day (schools are cancelled) we will not be open.
URL:https://trinitysummerside.ca/event/trinity-food-box-program/2026-12-08/
END:VEVENT
BEGIN:VEVENT
DTSTART;TZID=Atlantic/Bermuda:20261210T120000
DTEND;TZID=Atlantic/Bermuda:20261210T150000
DTSTAMP:20260422T013614
CREATED:20260206T153339Z
LAST-MODIFIED:20260206T153339Z
UID:10010937-1796904000-1796914800@trinitysummerside.ca
SUMMARY:Trinity Food Box Program
DESCRIPTION:Volunteers are able to see you between 12pm and 3pm.  Please bring a reusable grocery bag. \nIf you have not yet registered you will need to show ID for yourself and anyone else in your household. \nIf there is a snow day (schools are cancelled) we will not be open.
URL:https://trinitysummerside.ca/event/trinity-food-box-program-2/2026-12-10/
END:VEVENT
BEGIN:VEVENT
DTSTART;TZID=Atlantic/Bermuda:20261210T130000
DTEND;TZID=Atlantic/Bermuda:20261210T150000
DTSTAMP:20260422T013614
CREATED:20251231T153310Z
LAST-MODIFIED:20260114T183009Z
UID:10010379-1796907600-1796914800@trinitysummerside.ca
SUMMARY:Silvertones Choir Rehearsal
DESCRIPTION:In the Sanctuary.
URL:https://trinitysummerside.ca/event/silvertones-choir-rehearsal/2026-12-10/
END:VEVENT
BEGIN:VEVENT
DTSTART;TZID=Atlantic/Bermuda:20261212T083000
DTEND;TZID=Atlantic/Bermuda:20261212T100000
DTSTAMP:20260422T013614
CREATED:20251231T152915Z
LAST-MODIFIED:20251231T152915Z
UID:10010223-1797064200-1797069600@trinitysummerside.ca
SUMMARY:Feed My Sheep Breakfast
DESCRIPTION:In the Auditorium.
URL:https://trinitysummerside.ca/event/feed-my-sheep-breakfast-4/2026-12-12/
END:VEVENT
BEGIN:VEVENT
DTSTART;TZID=Atlantic/Bermuda:20261212T100000
DTEND;TZID=Atlantic/Bermuda:20261212T120000
DTSTAMP:20260422T013614
CREATED:20260120T163406Z
LAST-MODIFIED:20260120T163406Z
UID:10010454-1797069600-1797076800@trinitysummerside.ca
SUMMARY:Trinity Arts Group
DESCRIPTION:Usually in the auditorium following Feed My Sheep Breakfasts 10am or 9am on the Saturdays with no breakfasts.
URL:https://trinitysummerside.ca/event/trinity-arts-group/2026-12-12/
END:VEVENT
BEGIN:VEVENT
DTSTART;TZID=Atlantic/Bermuda:20261213T103000
DTEND;TZID=Atlantic/Bermuda:20261213T113000
DTSTAMP:20260422T013614
CREATED:20251219T170423Z
LAST-MODIFIED:20251222T182006Z
UID:10010207-1797157800-1797161400@trinitysummerside.ca
SUMMARY:Sunday Worship Service
DESCRIPTION:
URL:https://trinitysummerside.ca/event/sunday-worship-service/2026-12-13/
END:VEVENT
BEGIN:VEVENT
DTSTART;TZID=Atlantic/Bermuda:20261215T100000
DTEND;TZID=Atlantic/Bermuda:20261215T130000
DTSTAMP:20260422T013614
CREATED:20260206T153229Z
LAST-MODIFIED:20260206T153229Z
UID:10010892-1797328800-1797339600@trinitysummerside.ca
SUMMARY:Trinity Food Box Program
DESCRIPTION:Volunteers are able to see you between 10am and 1pm.  Please bring a reusable grocery bag. \nIf you have not yet registered you will need to show ID for yourself and anyone else in your household. \nIf there is a snow day (schools are cancelled) we will not be open.
URL:https://trinitysummerside.ca/event/trinity-food-box-program/2026-12-15/
END:VEVENT
BEGIN:VEVENT
DTSTART;TZID=Atlantic/Bermuda:20261217T120000
DTEND;TZID=Atlantic/Bermuda:20261217T150000
DTSTAMP:20260422T013614
CREATED:20260206T153339Z
LAST-MODIFIED:20260206T153339Z
UID:10010938-1797508800-1797519600@trinitysummerside.ca
SUMMARY:Trinity Food Box Program
DESCRIPTION:Volunteers are able to see you between 12pm and 3pm.  Please bring a reusable grocery bag. \nIf you have not yet registered you will need to show ID for yourself and anyone else in your household. \nIf there is a snow day (schools are cancelled) we will not be open.
URL:https://trinitysummerside.ca/event/trinity-food-box-program-2/2026-12-17/
END:VEVENT
BEGIN:VEVENT
DTSTART;TZID=Atlantic/Bermuda:20261219T100000
DTEND;TZID=Atlantic/Bermuda:20261219T120000
DTSTAMP:20260422T013614
CREATED:20260120T163406Z
LAST-MODIFIED:20260120T163406Z
UID:10010455-1797674400-1797681600@trinitysummerside.ca
SUMMARY:Trinity Arts Group
DESCRIPTION:Usually in the auditorium following Feed My Sheep Breakfasts 10am or 9am on the Saturdays with no breakfasts.
URL:https://trinitysummerside.ca/event/trinity-arts-group/2026-12-19/
END:VEVENT
BEGIN:VEVENT
DTSTART;TZID=Atlantic/Bermuda:20261220T103000
DTEND;TZID=Atlantic/Bermuda:20261220T113000
DTSTAMP:20260422T013614
CREATED:20251219T170423Z
LAST-MODIFIED:20251222T182006Z
UID:10010208-1797762600-1797766200@trinitysummerside.ca
SUMMARY:Sunday Worship Service
DESCRIPTION:
URL:https://trinitysummerside.ca/event/sunday-worship-service/2026-12-20/
END:VEVENT
BEGIN:VEVENT
DTSTART;TZID=Atlantic/Bermuda:20261222T100000
DTEND;TZID=Atlantic/Bermuda:20261222T130000
DTSTAMP:20260422T013614
CREATED:20260206T153229Z
LAST-MODIFIED:20260206T153229Z
UID:10010893-1797933600-1797944400@trinitysummerside.ca
SUMMARY:Trinity Food Box Program
DESCRIPTION:Volunteers are able to see you between 10am and 1pm.  Please bring a reusable grocery bag. \nIf you have not yet registered you will need to show ID for yourself and anyone else in your household. \nIf there is a snow day (schools are cancelled) we will not be open.
URL:https://trinitysummerside.ca/event/trinity-food-box-program/2026-12-22/
END:VEVENT
BEGIN:VEVENT
DTSTART;TZID=Atlantic/Bermuda:20261226T083000
DTEND;TZID=Atlantic/Bermuda:20261226T100000
DTSTAMP:20260422T013614
CREATED:20251231T153012Z
LAST-MODIFIED:20251231T153012Z
UID:10010283-1798273800-1798279200@trinitysummerside.ca
SUMMARY:Feed My Sheep Breakfast
DESCRIPTION:In the Auditorium.
URL:https://trinitysummerside.ca/event/feed-my-sheep-breakfast-5/2026-12-26/
END:VEVENT
BEGIN:VEVENT
DTSTART;TZID=Atlantic/Bermuda:20261226T100000
DTEND;TZID=Atlantic/Bermuda:20261226T120000
DTSTAMP:20260422T013614
CREATED:20260120T163406Z
LAST-MODIFIED:20260120T163406Z
UID:10010456-1798279200-1798286400@trinitysummerside.ca
SUMMARY:Trinity Arts Group
DESCRIPTION:Usually in the auditorium following Feed My Sheep Breakfasts 10am or 9am on the Saturdays with no breakfasts.
URL:https://trinitysummerside.ca/event/trinity-arts-group/2026-12-26/
END:VEVENT
BEGIN:VEVENT
DTSTART;TZID=Atlantic/Bermuda:20261227T103000
DTEND;TZID=Atlantic/Bermuda:20261227T113000
DTSTAMP:20260422T013614
CREATED:20251219T170423Z
LAST-MODIFIED:20251222T182006Z
UID:10010209-1798367400-1798371000@trinitysummerside.ca
SUMMARY:Sunday Worship Service
DESCRIPTION:
URL:https://trinitysummerside.ca/event/sunday-worship-service/2026-12-27/
END:VEVENT
END:VCALENDAR