BEGIN:VCALENDAR
VERSION:2.0
PRODID:-//Trinity United Church Summerside - ECPv6.15.20//NONSGML v1.0//EN
CALSCALE:GREGORIAN
METHOD:PUBLISH
X-ORIGINAL-URL:https://trinitysummerside.ca
X-WR-CALDESC:Events for Trinity United Church Summerside
REFRESH-INTERVAL;VALUE=DURATION:PT1H
X-Robots-Tag:noindex
X-PUBLISHED-TTL:PT1H
BEGIN:VTIMEZONE
TZID:Atlantic/Bermuda
BEGIN:DAYLIGHT
TZOFFSETFROM:-0400
TZOFFSETTO:-0300
TZNAME:ADT
DTSTART:20250309T060000
END:DAYLIGHT
BEGIN:STANDARD
TZOFFSETFROM:-0300
TZOFFSETTO:-0400
TZNAME:AST
DTSTART:20251102T050000
END:STANDARD
BEGIN:DAYLIGHT
TZOFFSETFROM:-0400
TZOFFSETTO:-0300
TZNAME:ADT
DTSTART:20260308T060000
END:DAYLIGHT
BEGIN:STANDARD
TZOFFSETFROM:-0300
TZOFFSETTO:-0400
TZNAME:AST
DTSTART:20261101T050000
END:STANDARD
BEGIN:DAYLIGHT
TZOFFSETFROM:-0400
TZOFFSETTO:-0300
TZNAME:ADT
DTSTART:20270314T060000
END:DAYLIGHT
BEGIN:STANDARD
TZOFFSETFROM:-0300
TZOFFSETTO:-0400
TZNAME:AST
DTSTART:20271107T050000
END:STANDARD
END:VTIMEZONE
BEGIN:VEVENT
DTSTART;TZID=Atlantic/Bermuda:20260802T103000
DTEND;TZID=Atlantic/Bermuda:20260802T113000
DTSTAMP:20260421T195734
CREATED:20251219T170423Z
LAST-MODIFIED:20251222T182006Z
UID:10010188-1785666600-1785670200@trinitysummerside.ca
SUMMARY:Sunday Worship Service
DESCRIPTION:
URL:https://trinitysummerside.ca/event/sunday-worship-service/2026-08-02/
END:VEVENT
BEGIN:VEVENT
DTSTART;TZID=Atlantic/Bermuda:20260804T100000
DTEND;TZID=Atlantic/Bermuda:20260804T130000
DTSTAMP:20260421T195734
CREATED:20260206T153229Z
LAST-MODIFIED:20260206T153229Z
UID:10010873-1785837600-1785848400@trinitysummerside.ca
SUMMARY:Trinity Food Box Program
DESCRIPTION:Volunteers are able to see you between 10am and 1pm.  Please bring a reusable grocery bag. \nIf you have not yet registered you will need to show ID for yourself and anyone else in your household. \nIf there is a snow day (schools are cancelled) we will not be open.
URL:https://trinitysummerside.ca/event/trinity-food-box-program/2026-08-04/
END:VEVENT
BEGIN:VEVENT
DTSTART;TZID=Atlantic/Bermuda:20260806T120000
DTEND;TZID=Atlantic/Bermuda:20260806T150000
DTSTAMP:20260421T195734
CREATED:20260206T153339Z
LAST-MODIFIED:20260206T153339Z
UID:10010919-1786017600-1786028400@trinitysummerside.ca
SUMMARY:Trinity Food Box Program
DESCRIPTION:Volunteers are able to see you between 12pm and 3pm.  Please bring a reusable grocery bag. \nIf you have not yet registered you will need to show ID for yourself and anyone else in your household. \nIf there is a snow day (schools are cancelled) we will not be open.
URL:https://trinitysummerside.ca/event/trinity-food-box-program-2/2026-08-06/
END:VEVENT
BEGIN:VEVENT
DTSTART;TZID=Atlantic/Bermuda:20260806T130000
DTEND;TZID=Atlantic/Bermuda:20260806T150000
DTSTAMP:20260421T195734
CREATED:20251231T153310Z
LAST-MODIFIED:20260114T183009Z
UID:10010361-1786021200-1786028400@trinitysummerside.ca
SUMMARY:Silvertones Choir Rehearsal
DESCRIPTION:In the Sanctuary.
URL:https://trinitysummerside.ca/event/silvertones-choir-rehearsal/2026-08-06/
END:VEVENT
BEGIN:VEVENT
DTSTART;TZID=Atlantic/Bermuda:20260808T083000
DTEND;TZID=Atlantic/Bermuda:20260808T100000
DTSTAMP:20260421T195734
CREATED:20251231T152915Z
LAST-MODIFIED:20251231T152915Z
UID:10010219-1786177800-1786183200@trinitysummerside.ca
SUMMARY:Feed My Sheep Breakfast
DESCRIPTION:In the Auditorium.
URL:https://trinitysummerside.ca/event/feed-my-sheep-breakfast-4/2026-08-08/
END:VEVENT
BEGIN:VEVENT
DTSTART;TZID=Atlantic/Bermuda:20260808T100000
DTEND;TZID=Atlantic/Bermuda:20260808T120000
DTSTAMP:20260421T195734
CREATED:20260120T163406Z
LAST-MODIFIED:20260120T163406Z
UID:10010436-1786183200-1786190400@trinitysummerside.ca
SUMMARY:Trinity Arts Group
DESCRIPTION:Usually in the auditorium following Feed My Sheep Breakfasts 10am or 9am on the Saturdays with no breakfasts.
URL:https://trinitysummerside.ca/event/trinity-arts-group/2026-08-08/
END:VEVENT
BEGIN:VEVENT
DTSTART;TZID=Atlantic/Bermuda:20260809T103000
DTEND;TZID=Atlantic/Bermuda:20260809T113000
DTSTAMP:20260421T195734
CREATED:20251219T170423Z
LAST-MODIFIED:20251222T182006Z
UID:10010189-1786271400-1786275000@trinitysummerside.ca
SUMMARY:Sunday Worship Service
DESCRIPTION:
URL:https://trinitysummerside.ca/event/sunday-worship-service/2026-08-09/
END:VEVENT
BEGIN:VEVENT
DTSTART;TZID=Atlantic/Bermuda:20260811T100000
DTEND;TZID=Atlantic/Bermuda:20260811T130000
DTSTAMP:20260421T195734
CREATED:20260206T153229Z
LAST-MODIFIED:20260206T153229Z
UID:10010874-1786442400-1786453200@trinitysummerside.ca
SUMMARY:Trinity Food Box Program
DESCRIPTION:Volunteers are able to see you between 10am and 1pm.  Please bring a reusable grocery bag. \nIf you have not yet registered you will need to show ID for yourself and anyone else in your household. \nIf there is a snow day (schools are cancelled) we will not be open.
URL:https://trinitysummerside.ca/event/trinity-food-box-program/2026-08-11/
END:VEVENT
BEGIN:VEVENT
DTSTART;TZID=Atlantic/Bermuda:20260813T120000
DTEND;TZID=Atlantic/Bermuda:20260813T150000
DTSTAMP:20260421T195734
CREATED:20260206T153339Z
LAST-MODIFIED:20260206T153339Z
UID:10010920-1786622400-1786633200@trinitysummerside.ca
SUMMARY:Trinity Food Box Program
DESCRIPTION:Volunteers are able to see you between 12pm and 3pm.  Please bring a reusable grocery bag. \nIf you have not yet registered you will need to show ID for yourself and anyone else in your household. \nIf there is a snow day (schools are cancelled) we will not be open.
URL:https://trinitysummerside.ca/event/trinity-food-box-program-2/2026-08-13/
END:VEVENT
BEGIN:VEVENT
DTSTART;TZID=Atlantic/Bermuda:20260813T130000
DTEND;TZID=Atlantic/Bermuda:20260813T150000
DTSTAMP:20260421T195734
CREATED:20251231T153310Z
LAST-MODIFIED:20260114T183009Z
UID:10010362-1786626000-1786633200@trinitysummerside.ca
SUMMARY:Silvertones Choir Rehearsal
DESCRIPTION:In the Sanctuary.
URL:https://trinitysummerside.ca/event/silvertones-choir-rehearsal/2026-08-13/
END:VEVENT
BEGIN:VEVENT
DTSTART;TZID=Atlantic/Bermuda:20260815T100000
DTEND;TZID=Atlantic/Bermuda:20260815T120000
DTSTAMP:20260421T195734
CREATED:20260120T163406Z
LAST-MODIFIED:20260120T163406Z
UID:10010437-1786788000-1786795200@trinitysummerside.ca
SUMMARY:Trinity Arts Group
DESCRIPTION:Usually in the auditorium following Feed My Sheep Breakfasts 10am or 9am on the Saturdays with no breakfasts.
URL:https://trinitysummerside.ca/event/trinity-arts-group/2026-08-15/
END:VEVENT
BEGIN:VEVENT
DTSTART;TZID=Atlantic/Bermuda:20260816T103000
DTEND;TZID=Atlantic/Bermuda:20260816T113000
DTSTAMP:20260421T195734
CREATED:20251219T170423Z
LAST-MODIFIED:20251222T182006Z
UID:10010190-1786876200-1786879800@trinitysummerside.ca
SUMMARY:Sunday Worship Service
DESCRIPTION:
URL:https://trinitysummerside.ca/event/sunday-worship-service/2026-08-16/
END:VEVENT
BEGIN:VEVENT
DTSTART;TZID=Atlantic/Bermuda:20260818T100000
DTEND;TZID=Atlantic/Bermuda:20260818T130000
DTSTAMP:20260421T195734
CREATED:20260206T153229Z
LAST-MODIFIED:20260206T153229Z
UID:10010875-1787047200-1787058000@trinitysummerside.ca
SUMMARY:Trinity Food Box Program
DESCRIPTION:Volunteers are able to see you between 10am and 1pm.  Please bring a reusable grocery bag. \nIf you have not yet registered you will need to show ID for yourself and anyone else in your household. \nIf there is a snow day (schools are cancelled) we will not be open.
URL:https://trinitysummerside.ca/event/trinity-food-box-program/2026-08-18/
END:VEVENT
BEGIN:VEVENT
DTSTART;TZID=Atlantic/Bermuda:20260820T120000
DTEND;TZID=Atlantic/Bermuda:20260820T150000
DTSTAMP:20260421T195734
CREATED:20260206T153339Z
LAST-MODIFIED:20260206T153339Z
UID:10010921-1787227200-1787238000@trinitysummerside.ca
SUMMARY:Trinity Food Box Program
DESCRIPTION:Volunteers are able to see you between 12pm and 3pm.  Please bring a reusable grocery bag. \nIf you have not yet registered you will need to show ID for yourself and anyone else in your household. \nIf there is a snow day (schools are cancelled) we will not be open.
URL:https://trinitysummerside.ca/event/trinity-food-box-program-2/2026-08-20/
END:VEVENT
BEGIN:VEVENT
DTSTART;TZID=Atlantic/Bermuda:20260820T130000
DTEND;TZID=Atlantic/Bermuda:20260820T150000
DTSTAMP:20260421T195734
CREATED:20251231T153310Z
LAST-MODIFIED:20260114T183009Z
UID:10010363-1787230800-1787238000@trinitysummerside.ca
SUMMARY:Silvertones Choir Rehearsal
DESCRIPTION:In the Sanctuary.
URL:https://trinitysummerside.ca/event/silvertones-choir-rehearsal/2026-08-20/
END:VEVENT
BEGIN:VEVENT
DTSTART;TZID=Atlantic/Bermuda:20260822T083000
DTEND;TZID=Atlantic/Bermuda:20260822T100000
DTSTAMP:20260421T195734
CREATED:20251231T153012Z
LAST-MODIFIED:20251231T153012Z
UID:10010279-1787387400-1787392800@trinitysummerside.ca
SUMMARY:Feed My Sheep Breakfast
DESCRIPTION:In the Auditorium.
URL:https://trinitysummerside.ca/event/feed-my-sheep-breakfast-5/2026-08-22/
END:VEVENT
BEGIN:VEVENT
DTSTART;TZID=Atlantic/Bermuda:20260822T100000
DTEND;TZID=Atlantic/Bermuda:20260822T120000
DTSTAMP:20260421T195734
CREATED:20260120T163406Z
LAST-MODIFIED:20260120T163406Z
UID:10010438-1787392800-1787400000@trinitysummerside.ca
SUMMARY:Trinity Arts Group
DESCRIPTION:Usually in the auditorium following Feed My Sheep Breakfasts 10am or 9am on the Saturdays with no breakfasts.
URL:https://trinitysummerside.ca/event/trinity-arts-group/2026-08-22/
END:VEVENT
BEGIN:VEVENT
DTSTART;TZID=Atlantic/Bermuda:20260823T103000
DTEND;TZID=Atlantic/Bermuda:20260823T113000
DTSTAMP:20260421T195734
CREATED:20251219T170423Z
LAST-MODIFIED:20251222T182006Z
UID:10010191-1787481000-1787484600@trinitysummerside.ca
SUMMARY:Sunday Worship Service
DESCRIPTION:
URL:https://trinitysummerside.ca/event/sunday-worship-service/2026-08-23/
END:VEVENT
BEGIN:VEVENT
DTSTART;TZID=Atlantic/Bermuda:20260825T100000
DTEND;TZID=Atlantic/Bermuda:20260825T130000
DTSTAMP:20260421T195734
CREATED:20260206T153229Z
LAST-MODIFIED:20260206T153229Z
UID:10010876-1787652000-1787662800@trinitysummerside.ca
SUMMARY:Trinity Food Box Program
DESCRIPTION:Volunteers are able to see you between 10am and 1pm.  Please bring a reusable grocery bag. \nIf you have not yet registered you will need to show ID for yourself and anyone else in your household. \nIf there is a snow day (schools are cancelled) we will not be open.
URL:https://trinitysummerside.ca/event/trinity-food-box-program/2026-08-25/
END:VEVENT
BEGIN:VEVENT
DTSTART;TZID=Atlantic/Bermuda:20260827T120000
DTEND;TZID=Atlantic/Bermuda:20260827T150000
DTSTAMP:20260421T195734
CREATED:20260206T153339Z
LAST-MODIFIED:20260206T153339Z
UID:10010922-1787832000-1787842800@trinitysummerside.ca
SUMMARY:Trinity Food Box Program
DESCRIPTION:Volunteers are able to see you between 12pm and 3pm.  Please bring a reusable grocery bag. \nIf you have not yet registered you will need to show ID for yourself and anyone else in your household. \nIf there is a snow day (schools are cancelled) we will not be open.
URL:https://trinitysummerside.ca/event/trinity-food-box-program-2/2026-08-27/
END:VEVENT
BEGIN:VEVENT
DTSTART;TZID=Atlantic/Bermuda:20260827T130000
DTEND;TZID=Atlantic/Bermuda:20260827T150000
DTSTAMP:20260421T195734
CREATED:20251231T153310Z
LAST-MODIFIED:20260114T183009Z
UID:10010364-1787835600-1787842800@trinitysummerside.ca
SUMMARY:Silvertones Choir Rehearsal
DESCRIPTION:In the Sanctuary.
URL:https://trinitysummerside.ca/event/silvertones-choir-rehearsal/2026-08-27/
END:VEVENT
BEGIN:VEVENT
DTSTART;TZID=Atlantic/Bermuda:20260829T100000
DTEND;TZID=Atlantic/Bermuda:20260829T120000
DTSTAMP:20260421T195734
CREATED:20260120T163406Z
LAST-MODIFIED:20260120T163406Z
UID:10010439-1787997600-1788004800@trinitysummerside.ca
SUMMARY:Trinity Arts Group
DESCRIPTION:Usually in the auditorium following Feed My Sheep Breakfasts 10am or 9am on the Saturdays with no breakfasts.
URL:https://trinitysummerside.ca/event/trinity-arts-group/2026-08-29/
END:VEVENT
BEGIN:VEVENT
DTSTART;TZID=Atlantic/Bermuda:20260830T103000
DTEND;TZID=Atlantic/Bermuda:20260830T113000
DTSTAMP:20260421T195734
CREATED:20251219T170423Z
LAST-MODIFIED:20251222T182006Z
UID:10010192-1788085800-1788089400@trinitysummerside.ca
SUMMARY:Sunday Worship Service
DESCRIPTION:
URL:https://trinitysummerside.ca/event/sunday-worship-service/2026-08-30/
END:VEVENT
BEGIN:VEVENT
DTSTART;TZID=Atlantic/Bermuda:20260901T100000
DTEND;TZID=Atlantic/Bermuda:20260901T130000
DTSTAMP:20260421T195734
CREATED:20260206T153229Z
LAST-MODIFIED:20260206T153229Z
UID:10010877-1788256800-1788267600@trinitysummerside.ca
SUMMARY:Trinity Food Box Program
DESCRIPTION:Volunteers are able to see you between 10am and 1pm.  Please bring a reusable grocery bag. \nIf you have not yet registered you will need to show ID for yourself and anyone else in your household. \nIf there is a snow day (schools are cancelled) we will not be open.
URL:https://trinitysummerside.ca/event/trinity-food-box-program/2026-09-01/
END:VEVENT
BEGIN:VEVENT
DTSTART;TZID=Atlantic/Bermuda:20260903T120000
DTEND;TZID=Atlantic/Bermuda:20260903T150000
DTSTAMP:20260421T195734
CREATED:20260206T153339Z
LAST-MODIFIED:20260206T153339Z
UID:10010923-1788436800-1788447600@trinitysummerside.ca
SUMMARY:Trinity Food Box Program
DESCRIPTION:Volunteers are able to see you between 12pm and 3pm.  Please bring a reusable grocery bag. \nIf you have not yet registered you will need to show ID for yourself and anyone else in your household. \nIf there is a snow day (schools are cancelled) we will not be open.
URL:https://trinitysummerside.ca/event/trinity-food-box-program-2/2026-09-03/
END:VEVENT
BEGIN:VEVENT
DTSTART;TZID=Atlantic/Bermuda:20260903T130000
DTEND;TZID=Atlantic/Bermuda:20260903T150000
DTSTAMP:20260421T195734
CREATED:20251231T153310Z
LAST-MODIFIED:20260114T183009Z
UID:10010365-1788440400-1788447600@trinitysummerside.ca
SUMMARY:Silvertones Choir Rehearsal
DESCRIPTION:In the Sanctuary.
URL:https://trinitysummerside.ca/event/silvertones-choir-rehearsal/2026-09-03/
END:VEVENT
BEGIN:VEVENT
DTSTART;TZID=Atlantic/Bermuda:20260905T100000
DTEND;TZID=Atlantic/Bermuda:20260905T120000
DTSTAMP:20260421T195734
CREATED:20260120T163406Z
LAST-MODIFIED:20260120T163406Z
UID:10010440-1788602400-1788609600@trinitysummerside.ca
SUMMARY:Trinity Arts Group
DESCRIPTION:Usually in the auditorium following Feed My Sheep Breakfasts 10am or 9am on the Saturdays with no breakfasts.
URL:https://trinitysummerside.ca/event/trinity-arts-group/2026-09-05/
END:VEVENT
BEGIN:VEVENT
DTSTART;TZID=Atlantic/Bermuda:20260906T103000
DTEND;TZID=Atlantic/Bermuda:20260906T113000
DTSTAMP:20260421T195734
CREATED:20251219T170423Z
LAST-MODIFIED:20251222T182006Z
UID:10010193-1788690600-1788694200@trinitysummerside.ca
SUMMARY:Sunday Worship Service
DESCRIPTION:
URL:https://trinitysummerside.ca/event/sunday-worship-service/2026-09-06/
END:VEVENT
BEGIN:VEVENT
DTSTART;TZID=Atlantic/Bermuda:20260908T100000
DTEND;TZID=Atlantic/Bermuda:20260908T130000
DTSTAMP:20260421T195734
CREATED:20260206T153229Z
LAST-MODIFIED:20260206T153229Z
UID:10010878-1788861600-1788872400@trinitysummerside.ca
SUMMARY:Trinity Food Box Program
DESCRIPTION:Volunteers are able to see you between 10am and 1pm.  Please bring a reusable grocery bag. \nIf you have not yet registered you will need to show ID for yourself and anyone else in your household. \nIf there is a snow day (schools are cancelled) we will not be open.
URL:https://trinitysummerside.ca/event/trinity-food-box-program/2026-09-08/
END:VEVENT
BEGIN:VEVENT
DTSTART;TZID=Atlantic/Bermuda:20260910T120000
DTEND;TZID=Atlantic/Bermuda:20260910T150000
DTSTAMP:20260421T195734
CREATED:20260206T153339Z
LAST-MODIFIED:20260206T153339Z
UID:10010924-1789041600-1789052400@trinitysummerside.ca
SUMMARY:Trinity Food Box Program
DESCRIPTION:Volunteers are able to see you between 12pm and 3pm.  Please bring a reusable grocery bag. \nIf you have not yet registered you will need to show ID for yourself and anyone else in your household. \nIf there is a snow day (schools are cancelled) we will not be open.
URL:https://trinitysummerside.ca/event/trinity-food-box-program-2/2026-09-10/
END:VEVENT
END:VCALENDAR