BEGIN:VCALENDAR
VERSION:2.0
PRODID:-//Trinity United Church Summerside - ECPv6.15.20//NONSGML v1.0//EN
CALSCALE:GREGORIAN
METHOD:PUBLISH
X-WR-CALNAME:Trinity United Church Summerside
X-ORIGINAL-URL:https://trinitysummerside.ca
X-WR-CALDESC:Events for Trinity United Church Summerside
REFRESH-INTERVAL;VALUE=DURATION:PT1H
X-Robots-Tag:noindex
X-PUBLISHED-TTL:PT1H
BEGIN:VTIMEZONE
TZID:Atlantic/Bermuda
BEGIN:DAYLIGHT
TZOFFSETFROM:-0400
TZOFFSETTO:-0300
TZNAME:ADT
DTSTART:20250309T060000
END:DAYLIGHT
BEGIN:STANDARD
TZOFFSETFROM:-0300
TZOFFSETTO:-0400
TZNAME:AST
DTSTART:20251102T050000
END:STANDARD
BEGIN:DAYLIGHT
TZOFFSETFROM:-0400
TZOFFSETTO:-0300
TZNAME:ADT
DTSTART:20260308T060000
END:DAYLIGHT
BEGIN:STANDARD
TZOFFSETFROM:-0300
TZOFFSETTO:-0400
TZNAME:AST
DTSTART:20261101T050000
END:STANDARD
BEGIN:DAYLIGHT
TZOFFSETFROM:-0400
TZOFFSETTO:-0300
TZNAME:ADT
DTSTART:20270314T060000
END:DAYLIGHT
BEGIN:STANDARD
TZOFFSETFROM:-0300
TZOFFSETTO:-0400
TZNAME:AST
DTSTART:20271107T050000
END:STANDARD
END:VTIMEZONE
BEGIN:VEVENT
DTSTART;TZID=Atlantic/Bermuda:20260317T100000
DTEND;TZID=Atlantic/Bermuda:20260317T130000
DTSTAMP:20260421T201104
CREATED:20260206T153229Z
LAST-MODIFIED:20260206T153229Z
UID:10010853-1773741600-1773752400@trinitysummerside.ca
SUMMARY:Trinity Food Box Program
DESCRIPTION:Volunteers are able to see you between 10am and 1pm.  Please bring a reusable grocery bag. \nIf you have not yet registered you will need to show ID for yourself and anyone else in your household. \nIf there is a snow day (schools are cancelled) we will not be open.
URL:https://trinitysummerside.ca/event/trinity-food-box-program/2026-03-17/
END:VEVENT
BEGIN:VEVENT
DTSTART;TZID=Atlantic/Bermuda:20260317T090000
DTEND;TZID=Atlantic/Bermuda:20260317T130000
DTSTAMP:20260421T201104
CREATED:20260120T164417Z
LAST-MODIFIED:20260319T171037Z
UID:10010747-1773738000-1773752400@trinitysummerside.ca
SUMMARY:Private Kitchen Rental
DESCRIPTION:
URL:https://trinitysummerside.ca/event/private-kitchen-rental-7/2026-03-17/
END:VEVENT
BEGIN:VEVENT
DTSTART;TZID=Atlantic/Bermuda:20260315T103000
DTEND;TZID=Atlantic/Bermuda:20260315T113000
DTSTAMP:20260421T201104
CREATED:20251219T170423Z
LAST-MODIFIED:20251222T182006Z
UID:10010168-1773570600-1773574200@trinitysummerside.ca
SUMMARY:Sunday Worship Service
DESCRIPTION:
URL:https://trinitysummerside.ca/event/sunday-worship-service/2026-03-15/
END:VEVENT
BEGIN:VEVENT
DTSTART;TZID=Atlantic/Bermuda:20260314T100000
DTEND;TZID=Atlantic/Bermuda:20260314T120000
DTSTAMP:20260421T201104
CREATED:20260120T163406Z
LAST-MODIFIED:20260120T163406Z
UID:10010415-1773482400-1773489600@trinitysummerside.ca
SUMMARY:Trinity Arts Group
DESCRIPTION:Usually in the auditorium following Feed My Sheep Breakfasts 10am or 9am on the Saturdays with no breakfasts.
URL:https://trinitysummerside.ca/event/trinity-arts-group/2026-03-14/
END:VEVENT
BEGIN:VEVENT
DTSTART;TZID=Atlantic/Bermuda:20260314T083000
DTEND;TZID=Atlantic/Bermuda:20260314T100000
DTSTAMP:20260421T201104
CREATED:20251231T152915Z
LAST-MODIFIED:20251231T152915Z
UID:10010214-1773477000-1773482400@trinitysummerside.ca
SUMMARY:Feed My Sheep Breakfast
DESCRIPTION:In the Auditorium.
URL:https://trinitysummerside.ca/event/feed-my-sheep-breakfast-4/2026-03-14/
END:VEVENT
BEGIN:VEVENT
DTSTART;TZID=Atlantic/Bermuda:20260312T130000
DTEND;TZID=Atlantic/Bermuda:20260312T150000
DTSTAMP:20260421T201104
CREATED:20251231T153310Z
LAST-MODIFIED:20260114T183009Z
UID:10010340-1773320400-1773327600@trinitysummerside.ca
SUMMARY:Silvertones Choir Rehearsal
DESCRIPTION:In the Sanctuary.
URL:https://trinitysummerside.ca/event/silvertones-choir-rehearsal/2026-03-12/
END:VEVENT
BEGIN:VEVENT
DTSTART;TZID=Atlantic/Bermuda:20260312T120000
DTEND;TZID=Atlantic/Bermuda:20260312T150000
DTSTAMP:20260421T201104
CREATED:20260206T153339Z
LAST-MODIFIED:20260206T153339Z
UID:10010898-1773316800-1773327600@trinitysummerside.ca
SUMMARY:Trinity Food Box Program
DESCRIPTION:Volunteers are able to see you between 12pm and 3pm.  Please bring a reusable grocery bag. \nIf you have not yet registered you will need to show ID for yourself and anyone else in your household. \nIf there is a snow day (schools are cancelled) we will not be open.
URL:https://trinitysummerside.ca/event/trinity-food-box-program-2/2026-03-12/
END:VEVENT
BEGIN:VEVENT
DTSTART;TZID=Atlantic/Bermuda:20260312T093000
DTEND;TZID=Atlantic/Bermuda:20260312T103000
DTSTAMP:20260421T201104
CREATED:20260204T143540Z
LAST-MODIFIED:20260204T143540Z
UID:10010845-1773307800-1773311400@trinitysummerside.ca
SUMMARY:Trinity Café - Lenten Series on Judas
DESCRIPTION:9:30am in the sanctuary – all are welcome\, bring your own beverage from home. \nCorina and Rev Rachel to lead.
URL:https://trinitysummerside.ca/event/trinity-cafe-lenten-series-on-judas/2026-03-12/
END:VEVENT
BEGIN:VEVENT
DTSTART;TZID=Atlantic/Bermuda:20260311T174500
DTEND;TZID=Atlantic/Bermuda:20260311T200000
DTSTAMP:20260421T201104
CREATED:20260203T141757Z
LAST-MODIFIED:20260203T141757Z
UID:10010818-1773251100-1773259200@trinitysummerside.ca
SUMMARY:Choir rehearsals
DESCRIPTION:Hand Bell Choir 5:45pm \nTrinity Choir 7pm
URL:https://trinitysummerside.ca/event/choir-rehearsals-2/2026-03-11/
END:VEVENT
BEGIN:VEVENT
DTSTART;TZID=Atlantic/Bermuda:20260311T134500
DTEND;TZID=Atlantic/Bermuda:20260311T143000
DTSTAMP:20260421T201104
CREATED:20260302T172418Z
LAST-MODIFIED:20260302T172418Z
UID:10010947-1773236700-1773239400@trinitysummerside.ca
SUMMARY:Andrews Home service
DESCRIPTION:
URL:https://trinitysummerside.ca/event/andrews-home-service/
END:VEVENT
BEGIN:VEVENT
DTSTART;TZID=Atlantic/Bermuda:20260311T110000
DTEND;TZID=Atlantic/Bermuda:20260311T123000
DTSTAMP:20260421T201105
CREATED:20260302T172334Z
LAST-MODIFIED:20260302T172334Z
UID:10010946-1773226800-1773232200@trinitysummerside.ca
SUMMARY:UCW Meeting
DESCRIPTION:Boardroom
URL:https://trinitysummerside.ca/event/ucw-meeting-2/
END:VEVENT
BEGIN:VEVENT
DTSTART;TZID=Atlantic/Bermuda:20260311T110000
DTEND;TZID=Atlantic/Bermuda:20260311T123000
DTSTAMP:20260421T201105
CREATED:20260302T172247Z
LAST-MODIFIED:20260302T172247Z
UID:10010945-1773226800-1773232200@trinitysummerside.ca
SUMMARY:Worship Team meeting
DESCRIPTION:Boardroom and zoom
URL:https://trinitysummerside.ca/event/worship-team-meeting-2/
END:VEVENT
BEGIN:VEVENT
DTSTART;TZID=Atlantic/Bermuda:20260311T090000
DTEND;TZID=Atlantic/Bermuda:20260311T130000
DTSTAMP:20260421T201105
CREATED:20260302T171903Z
LAST-MODIFIED:20260302T171903Z
UID:10010941-1773219600-1773234000@trinitysummerside.ca
SUMMARY:Private Kitchen rental
DESCRIPTION:9am-1pm
URL:https://trinitysummerside.ca/event/private-kitchen-rental-8/2026-03-11/
END:VEVENT
BEGIN:VEVENT
DTSTART;TZID=Atlantic/Bermuda:20260311T080000
DTEND;TZID=Atlantic/Bermuda:20260311T090000
DTSTAMP:20260421T201105
CREATED:20260120T163740Z
LAST-MODIFIED:20260120T163740Z
UID:10010724-1773216000-1773219600@trinitysummerside.ca
SUMMARY:Men's Breakfasts
DESCRIPTION:Seashell Café (26152 Route 2)
URL:https://trinitysummerside.ca/event/mens-breakfasts/2026-03-11/
END:VEVENT
BEGIN:VEVENT
DTSTART;TZID=Atlantic/Bermuda:20260311T080000
DTEND;TZID=Atlantic/Bermuda:20260311T090000
DTSTAMP:20260421T201105
CREATED:20260120T163630Z
LAST-MODIFIED:20260120T163810Z
UID:10010676-1773216000-1773219600@trinitysummerside.ca
SUMMARY:Women's Breakfasts
DESCRIPTION:Waterfront Café at Holland College campus.
URL:https://trinitysummerside.ca/event/womens-breakfasts/2026-03-11/
END:VEVENT
BEGIN:VEVENT
DTSTART;TZID=Atlantic/Bermuda:20260310T100000
DTEND;TZID=Atlantic/Bermuda:20260310T130000
DTSTAMP:20260421T201105
CREATED:20260206T153229Z
LAST-MODIFIED:20260206T153229Z
UID:10010852-1773136800-1773147600@trinitysummerside.ca
SUMMARY:Trinity Food Box Program
DESCRIPTION:Volunteers are able to see you between 10am and 1pm.  Please bring a reusable grocery bag. \nIf you have not yet registered you will need to show ID for yourself and anyone else in your household. \nIf there is a snow day (schools are cancelled) we will not be open.
URL:https://trinitysummerside.ca/event/trinity-food-box-program/2026-03-10/
END:VEVENT
BEGIN:VEVENT
DTSTART;TZID=Atlantic/Bermuda:20260310T090000
DTEND;TZID=Atlantic/Bermuda:20260310T130000
DTSTAMP:20260421T201105
CREATED:20260120T164417Z
LAST-MODIFIED:20260319T171037Z
UID:10010746-1773133200-1773147600@trinitysummerside.ca
SUMMARY:Private Kitchen Rental
DESCRIPTION:
URL:https://trinitysummerside.ca/event/private-kitchen-rental-7/2026-03-10/
END:VEVENT
BEGIN:VEVENT
DTSTART;TZID=Atlantic/Bermuda:20260309T150000
DTEND;TZID=Atlantic/Bermuda:20260309T160000
DTSTAMP:20260421T201105
CREATED:20260302T172158Z
LAST-MODIFIED:20260302T172158Z
UID:10010944-1773068400-1773072000@trinitysummerside.ca
SUMMARY:Faith in Action team meeting
DESCRIPTION:in auditorium
URL:https://trinitysummerside.ca/event/faith-in-action-team-meeting-2/
END:VEVENT
BEGIN:VEVENT
DTSTART;TZID=Atlantic/Bermuda:20260309T130000
DTEND;TZID=Atlantic/Bermuda:20260309T150000
DTSTAMP:20260421T201105
CREATED:20260114T185229Z
LAST-MODIFIED:20260302T173836Z
UID:10010400-1773061200-1773068400@trinitysummerside.ca
SUMMARY:Seniors Games
DESCRIPTION:Auditorium
URL:https://trinitysummerside.ca/event/seniors-games-2/2026-03-09/
END:VEVENT
BEGIN:VEVENT
DTSTART;TZID=Atlantic/Bermuda:20260308T113000
DTEND;TZID=Atlantic/Bermuda:20260308T123000
DTSTAMP:20260421T201105
CREATED:20260302T172116Z
LAST-MODIFIED:20260302T172116Z
UID:10010943-1772969400-1772973000@trinitysummerside.ca
SUMMARY:Trinity Annual General Meeting
DESCRIPTION:following Worship
URL:https://trinitysummerside.ca/event/trinity-annual-general-meeting/
END:VEVENT
BEGIN:VEVENT
DTSTART;TZID=Atlantic/Bermuda:20260308T103000
DTEND;TZID=Atlantic/Bermuda:20260308T113000
DTSTAMP:20260421T201105
CREATED:20251219T170423Z
LAST-MODIFIED:20251222T182006Z
UID:10010167-1772965800-1772969400@trinitysummerside.ca
SUMMARY:Sunday Worship Service
DESCRIPTION:
URL:https://trinitysummerside.ca/event/sunday-worship-service/2026-03-08/
END:VEVENT
BEGIN:VEVENT
DTSTART;TZID=Atlantic/Bermuda:20260307T100000
DTEND;TZID=Atlantic/Bermuda:20260307T120000
DTSTAMP:20260421T201105
CREATED:20260120T163406Z
LAST-MODIFIED:20260120T163406Z
UID:10010414-1772877600-1772884800@trinitysummerside.ca
SUMMARY:Trinity Arts Group
DESCRIPTION:Usually in the auditorium following Feed My Sheep Breakfasts 10am or 9am on the Saturdays with no breakfasts.
URL:https://trinitysummerside.ca/event/trinity-arts-group/2026-03-07/
END:VEVENT
BEGIN:VEVENT
DTSTART;TZID=Atlantic/Bermuda:20260306T160000
DTEND;TZID=Atlantic/Bermuda:20260306T173000
DTSTAMP:20260421T201105
CREATED:20260302T172013Z
LAST-MODIFIED:20260302T172013Z
UID:10010942-1772812800-1772818200@trinitysummerside.ca
SUMMARY:Governance Team meeting - zoom only
DESCRIPTION:
URL:https://trinitysummerside.ca/event/governance-team-meeting-zoom-only/
END:VEVENT
BEGIN:VEVENT
DTSTART;TZID=Atlantic/Bermuda:20260305T130000
DTEND;TZID=Atlantic/Bermuda:20260305T150000
DTSTAMP:20260421T201105
CREATED:20251231T153310Z
LAST-MODIFIED:20260114T183009Z
UID:10010339-1772715600-1772722800@trinitysummerside.ca
SUMMARY:Silvertones Choir Rehearsal
DESCRIPTION:In the Sanctuary.
URL:https://trinitysummerside.ca/event/silvertones-choir-rehearsal/2026-03-05/
END:VEVENT
BEGIN:VEVENT
DTSTART;TZID=Atlantic/Bermuda:20260305T120000
DTEND;TZID=Atlantic/Bermuda:20260305T150000
DTSTAMP:20260421T201105
CREATED:20260206T153339Z
LAST-MODIFIED:20260206T153339Z
UID:10010897-1772712000-1772722800@trinitysummerside.ca
SUMMARY:Trinity Food Box Program
DESCRIPTION:Volunteers are able to see you between 12pm and 3pm.  Please bring a reusable grocery bag. \nIf you have not yet registered you will need to show ID for yourself and anyone else in your household. \nIf there is a snow day (schools are cancelled) we will not be open.
URL:https://trinitysummerside.ca/event/trinity-food-box-program-2/2026-03-05/
END:VEVENT
BEGIN:VEVENT
DTSTART;TZID=Atlantic/Bermuda:20260305T093000
DTEND;TZID=Atlantic/Bermuda:20260305T103000
DTSTAMP:20260421T201105
CREATED:20260204T143540Z
LAST-MODIFIED:20260204T143540Z
UID:10010844-1772703000-1772706600@trinitysummerside.ca
SUMMARY:Trinity Café - Lenten Series on Judas
DESCRIPTION:9:30am in the sanctuary – all are welcome\, bring your own beverage from home. \nCorina and Rev Rachel to lead.
URL:https://trinitysummerside.ca/event/trinity-cafe-lenten-series-on-judas/2026-03-05/
END:VEVENT
BEGIN:VEVENT
DTSTART;TZID=Atlantic/Bermuda:20260304T174500
DTEND;TZID=Atlantic/Bermuda:20260304T200000
DTSTAMP:20260421T201105
CREATED:20260203T141757Z
LAST-MODIFIED:20260203T141757Z
UID:10010817-1772646300-1772654400@trinitysummerside.ca
SUMMARY:Choir rehearsals
DESCRIPTION:Hand Bell Choir 5:45pm \nTrinity Choir 7pm
URL:https://trinitysummerside.ca/event/choir-rehearsals-2/2026-03-04/
END:VEVENT
BEGIN:VEVENT
DTSTART;TZID=Atlantic/Bermuda:20260304T090000
DTEND;TZID=Atlantic/Bermuda:20260304T130000
DTSTAMP:20260421T201105
CREATED:20260302T171903Z
LAST-MODIFIED:20260302T171903Z
UID:10010940-1772614800-1772629200@trinitysummerside.ca
SUMMARY:Private Kitchen rental
DESCRIPTION:9am-1pm
URL:https://trinitysummerside.ca/event/private-kitchen-rental-8/2026-03-04/
END:VEVENT
BEGIN:VEVENT
DTSTART;TZID=Atlantic/Bermuda:20260304T080000
DTEND;TZID=Atlantic/Bermuda:20260304T090000
DTSTAMP:20260421T201105
CREATED:20260120T163740Z
LAST-MODIFIED:20260120T163740Z
UID:10010723-1772611200-1772614800@trinitysummerside.ca
SUMMARY:Men's Breakfasts
DESCRIPTION:Seashell Café (26152 Route 2)
URL:https://trinitysummerside.ca/event/mens-breakfasts/2026-03-04/
END:VEVENT
BEGIN:VEVENT
DTSTART;TZID=Atlantic/Bermuda:20260304T080000
DTEND;TZID=Atlantic/Bermuda:20260304T090000
DTSTAMP:20260421T201105
CREATED:20260120T163630Z
LAST-MODIFIED:20260120T163810Z
UID:10010675-1772611200-1772614800@trinitysummerside.ca
SUMMARY:Women's Breakfasts
DESCRIPTION:Waterfront Café at Holland College campus.
URL:https://trinitysummerside.ca/event/womens-breakfasts/2026-03-04/
END:VEVENT
END:VCALENDAR