BEGIN:VCALENDAR
VERSION:2.0
PRODID:-//Trinity United Church Summerside - ECPv6.15.20//NONSGML v1.0//EN
CALSCALE:GREGORIAN
METHOD:PUBLISH
X-WR-CALNAME:Trinity United Church Summerside
X-ORIGINAL-URL:https://trinitysummerside.ca
X-WR-CALDESC:Events for Trinity United Church Summerside
REFRESH-INTERVAL;VALUE=DURATION:PT1H
X-Robots-Tag:noindex
X-PUBLISHED-TTL:PT1H
BEGIN:VTIMEZONE
TZID:Atlantic/Bermuda
BEGIN:DAYLIGHT
TZOFFSETFROM:-0400
TZOFFSETTO:-0300
TZNAME:ADT
DTSTART:20250309T060000
END:DAYLIGHT
BEGIN:STANDARD
TZOFFSETFROM:-0300
TZOFFSETTO:-0400
TZNAME:AST
DTSTART:20251102T050000
END:STANDARD
BEGIN:DAYLIGHT
TZOFFSETFROM:-0400
TZOFFSETTO:-0300
TZNAME:ADT
DTSTART:20260308T060000
END:DAYLIGHT
BEGIN:STANDARD
TZOFFSETFROM:-0300
TZOFFSETTO:-0400
TZNAME:AST
DTSTART:20261101T050000
END:STANDARD
BEGIN:DAYLIGHT
TZOFFSETFROM:-0400
TZOFFSETTO:-0300
TZNAME:ADT
DTSTART:20270314T060000
END:DAYLIGHT
BEGIN:STANDARD
TZOFFSETFROM:-0300
TZOFFSETTO:-0400
TZNAME:AST
DTSTART:20271107T050000
END:STANDARD
END:VTIMEZONE
BEGIN:VEVENT
DTSTART;TZID=Atlantic/Bermuda:20260228T083000
DTEND;TZID=Atlantic/Bermuda:20260228T100000
DTSTAMP:20260421T220915
CREATED:20251231T153012Z
LAST-MODIFIED:20251231T153012Z
UID:10010273-1772267400-1772272800@trinitysummerside.ca
SUMMARY:Feed My Sheep Breakfast
DESCRIPTION:In the Auditorium.
URL:https://trinitysummerside.ca/event/feed-my-sheep-breakfast-5/2026-02-28/
END:VEVENT
BEGIN:VEVENT
DTSTART;TZID=Atlantic/Bermuda:20260227T113000
DTEND;TZID=Atlantic/Bermuda:20260227T130000
DTSTAMP:20260421T220915
CREATED:20260203T143332Z
LAST-MODIFIED:20260203T143332Z
UID:10010840-1772191800-1772197200@trinitysummerside.ca
SUMMARY:Lenten Luncheon at Trinity
DESCRIPTION:Lenten Luncheons\, hosted by the Summerside & Area\nChristian Council. Every Lenten luncheon begins with a\ndevotional service at the host church\, followed by a lunch.\nFree will offering toward Merrill J MacLeod Scholarship.\nSchedule of host churches & guest speakers on the\nSummerside & Area Facebook page:\nww.facebook.com/SSACCSummerside \n 
URL:https://trinitysummerside.ca/event/lenten-luncheon-at-trinity/
END:VEVENT
BEGIN:VEVENT
DTSTART;TZID=Atlantic/Bermuda:20260226T183000
DTEND;TZID=Atlantic/Bermuda:20260226T210000
DTSTAMP:20260421T220915
CREATED:20260203T143034Z
LAST-MODIFIED:20260203T143034Z
UID:10010839-1772130600-1772139600@trinitysummerside.ca
SUMMARY:Trinity Council Meeting zoom only
DESCRIPTION:
URL:https://trinitysummerside.ca/event/trinity-council-meeting-zoom-only-2/
END:VEVENT
BEGIN:VEVENT
DTSTART;TZID=Atlantic/Bermuda:20260226T130000
DTEND;TZID=Atlantic/Bermuda:20260226T150000
DTSTAMP:20260421T220915
CREATED:20251231T153310Z
LAST-MODIFIED:20260114T183009Z
UID:10010338-1772110800-1772118000@trinitysummerside.ca
SUMMARY:Silvertones Choir Rehearsal
DESCRIPTION:In the Sanctuary.
URL:https://trinitysummerside.ca/event/silvertones-choir-rehearsal/2026-02-26/
END:VEVENT
BEGIN:VEVENT
DTSTART;TZID=Atlantic/Bermuda:20260226T120000
DTEND;TZID=Atlantic/Bermuda:20260226T150000
DTSTAMP:20260421T220915
CREATED:20260206T153339Z
LAST-MODIFIED:20260206T153339Z
UID:10010896-1772107200-1772118000@trinitysummerside.ca
SUMMARY:Trinity Food Box Program
DESCRIPTION:Volunteers are able to see you between 12pm and 3pm.  Please bring a reusable grocery bag. \nIf you have not yet registered you will need to show ID for yourself and anyone else in your household. \nIf there is a snow day (schools are cancelled) we will not be open.
URL:https://trinitysummerside.ca/event/trinity-food-box-program-2/2026-02-26/
END:VEVENT
BEGIN:VEVENT
DTSTART;TZID=Atlantic/Bermuda:20260226T110000
DTEND;TZID=Atlantic/Bermuda:20260226T120000
DTSTAMP:20260421T220915
CREATED:20260206T155503Z
LAST-MODIFIED:20260206T155503Z
UID:10010939-1772103600-1772107200@trinitysummerside.ca
SUMMARY:Affirming Ministry Meeting
DESCRIPTION:in Auditorium
URL:https://trinitysummerside.ca/event/affirming-ministry-meeting-2/
END:VEVENT
BEGIN:VEVENT
DTSTART;TZID=Atlantic/Bermuda:20260226T093000
DTEND;TZID=Atlantic/Bermuda:20260226T103000
DTSTAMP:20260421T220915
CREATED:20260204T143540Z
LAST-MODIFIED:20260204T143540Z
UID:10010843-1772098200-1772101800@trinitysummerside.ca
SUMMARY:Trinity Café - Lenten Series on Judas
DESCRIPTION:9:30am in the sanctuary – all are welcome\, bring your own beverage from home. \nCorina and Rev Rachel to lead.
URL:https://trinitysummerside.ca/event/trinity-cafe-lenten-series-on-judas/2026-02-26/
END:VEVENT
BEGIN:VEVENT
DTSTART;TZID=Atlantic/Bermuda:20260225T174500
DTEND;TZID=Atlantic/Bermuda:20260225T200000
DTSTAMP:20260421T220915
CREATED:20260203T141757Z
LAST-MODIFIED:20260203T141757Z
UID:10010816-1772041500-1772049600@trinitysummerside.ca
SUMMARY:Choir rehearsals
DESCRIPTION:Hand Bell Choir 5:45pm \nTrinity Choir 7pm
URL:https://trinitysummerside.ca/event/choir-rehearsals-2/2026-02-25/
END:VEVENT
BEGIN:VEVENT
DTSTART;TZID=Atlantic/Bermuda:20260225T143000
DTEND;TZID=Atlantic/Bermuda:20260225T153000
DTSTAMP:20260421T220915
CREATED:20260203T142943Z
LAST-MODIFIED:20260203T142943Z
UID:10010838-1772029800-1772033400@trinitysummerside.ca
SUMMARY:Staff Team Meeting
DESCRIPTION:Boardroom and zoom
URL:https://trinitysummerside.ca/event/staff-team-meeting/
END:VEVENT
BEGIN:VEVENT
DTSTART;TZID=Atlantic/Bermuda:20260225T133000
DTEND;TZID=Atlantic/Bermuda:20260225T140000
DTSTAMP:20260421T220915
CREATED:20260120T165458Z
LAST-MODIFIED:20260120T165458Z
UID:10010811-1772026200-1772028000@trinitysummerside.ca
SUMMARY:Summerset Manor Service
DESCRIPTION:
URL:https://trinitysummerside.ca/event/summerset-manor-service/
END:VEVENT
BEGIN:VEVENT
DTSTART;TZID=Atlantic/Bermuda:20260225T080000
DTEND;TZID=Atlantic/Bermuda:20260225T090000
DTSTAMP:20260421T220915
CREATED:20260120T163740Z
LAST-MODIFIED:20260120T163740Z
UID:10010722-1772006400-1772010000@trinitysummerside.ca
SUMMARY:Men's Breakfasts
DESCRIPTION:Seashell Café (26152 Route 2)
URL:https://trinitysummerside.ca/event/mens-breakfasts/2026-02-25/
END:VEVENT
BEGIN:VEVENT
DTSTART;TZID=Atlantic/Bermuda:20260225T080000
DTEND;TZID=Atlantic/Bermuda:20260225T090000
DTSTAMP:20260421T220915
CREATED:20260120T163630Z
LAST-MODIFIED:20260120T163810Z
UID:10010674-1772006400-1772010000@trinitysummerside.ca
SUMMARY:Women's Breakfasts
DESCRIPTION:Waterfront Café at Holland College campus.
URL:https://trinitysummerside.ca/event/womens-breakfasts/2026-02-25/
END:VEVENT
BEGIN:VEVENT
DTSTART;TZID=Atlantic/Bermuda:20260224T100000
DTEND;TZID=Atlantic/Bermuda:20260224T130000
DTSTAMP:20260421T220915
CREATED:20260206T153229Z
LAST-MODIFIED:20260206T153229Z
UID:10010850-1771927200-1771938000@trinitysummerside.ca
SUMMARY:Trinity Food Box Program
DESCRIPTION:Volunteers are able to see you between 10am and 1pm.  Please bring a reusable grocery bag. \nIf you have not yet registered you will need to show ID for yourself and anyone else in your household. \nIf there is a snow day (schools are cancelled) we will not be open.
URL:https://trinitysummerside.ca/event/trinity-food-box-program/2026-02-24/
END:VEVENT
BEGIN:VEVENT
DTSTART;TZID=Atlantic/Bermuda:20260224T090000
DTEND;TZID=Atlantic/Bermuda:20260224T130000
DTSTAMP:20260421T220915
CREATED:20260120T164417Z
LAST-MODIFIED:20260319T171037Z
UID:10010744-1771923600-1771938000@trinitysummerside.ca
SUMMARY:Private Kitchen Rental
DESCRIPTION:
URL:https://trinitysummerside.ca/event/private-kitchen-rental-7/2026-02-24/
END:VEVENT
BEGIN:VEVENT
DTSTART;TZID=Atlantic/Bermuda:20260223T130000
DTEND;TZID=Atlantic/Bermuda:20260223T150000
DTSTAMP:20260421T220915
CREATED:20260114T185229Z
LAST-MODIFIED:20260302T173836Z
UID:10010398-1771851600-1771858800@trinitysummerside.ca
SUMMARY:Seniors Games
DESCRIPTION:Auditorium
URL:https://trinitysummerside.ca/event/seniors-games-2/2026-02-23/
END:VEVENT
BEGIN:VEVENT
DTSTART;TZID=Atlantic/Bermuda:20260222T103000
DTEND;TZID=Atlantic/Bermuda:20260222T113000
DTSTAMP:20260421T220915
CREATED:20251219T170423Z
LAST-MODIFIED:20251222T182006Z
UID:10010165-1771756200-1771759800@trinitysummerside.ca
SUMMARY:Sunday Worship Service
DESCRIPTION:
URL:https://trinitysummerside.ca/event/sunday-worship-service/2026-02-22/
END:VEVENT
BEGIN:VEVENT
DTSTART;TZID=Atlantic/Bermuda:20260221T100000
DTEND;TZID=Atlantic/Bermuda:20260221T120000
DTSTAMP:20260421T220915
CREATED:20260120T163406Z
LAST-MODIFIED:20260120T163406Z
UID:10010412-1771668000-1771675200@trinitysummerside.ca
SUMMARY:Trinity Arts Group
DESCRIPTION:Usually in the auditorium following Feed My Sheep Breakfasts 10am or 9am on the Saturdays with no breakfasts.
URL:https://trinitysummerside.ca/event/trinity-arts-group/2026-02-21/
END:VEVENT
BEGIN:VEVENT
DTSTART;TZID=Atlantic/Bermuda:20260219T133000
DTEND;TZID=Atlantic/Bermuda:20260219T140000
DTSTAMP:20260421T220915
CREATED:20260120T165410Z
LAST-MODIFIED:20260120T165410Z
UID:10010810-1771507800-1771509600@trinitysummerside.ca
SUMMARY:Parkhill Service
DESCRIPTION:
URL:https://trinitysummerside.ca/event/parkhill-service/
END:VEVENT
BEGIN:VEVENT
DTSTART;TZID=Atlantic/Bermuda:20260219T130000
DTEND;TZID=Atlantic/Bermuda:20260219T150000
DTSTAMP:20260421T220915
CREATED:20251231T153310Z
LAST-MODIFIED:20260114T183009Z
UID:10010337-1771506000-1771513200@trinitysummerside.ca
SUMMARY:Silvertones Choir Rehearsal
DESCRIPTION:In the Sanctuary.
URL:https://trinitysummerside.ca/event/silvertones-choir-rehearsal/2026-02-19/
END:VEVENT
BEGIN:VEVENT
DTSTART;TZID=Atlantic/Bermuda:20260219T120000
DTEND;TZID=Atlantic/Bermuda:20260219T150000
DTSTAMP:20260421T220915
CREATED:20260206T153339Z
LAST-MODIFIED:20260206T153339Z
UID:10010895-1771502400-1771513200@trinitysummerside.ca
SUMMARY:Trinity Food Box Program
DESCRIPTION:Volunteers are able to see you between 12pm and 3pm.  Please bring a reusable grocery bag. \nIf you have not yet registered you will need to show ID for yourself and anyone else in your household. \nIf there is a snow day (schools are cancelled) we will not be open.
URL:https://trinitysummerside.ca/event/trinity-food-box-program-2/2026-02-19/
END:VEVENT
BEGIN:VEVENT
DTSTART;TZID=Atlantic/Bermuda:20260219T093000
DTEND;TZID=Atlantic/Bermuda:20260219T103000
DTSTAMP:20260421T220915
CREATED:20260204T143540Z
LAST-MODIFIED:20260204T143540Z
UID:10010842-1771493400-1771497000@trinitysummerside.ca
SUMMARY:Trinity Café - Lenten Series on Judas
DESCRIPTION:9:30am in the sanctuary – all are welcome\, bring your own beverage from home. \nCorina and Rev Rachel to lead.
URL:https://trinitysummerside.ca/event/trinity-cafe-lenten-series-on-judas/2026-02-19/
END:VEVENT
BEGIN:VEVENT
DTSTART;TZID=Atlantic/Bermuda:20260218T183000
DTEND;TZID=Atlantic/Bermuda:20260218T190000
DTSTAMP:20260421T220915
CREATED:20260120T165333Z
LAST-MODIFIED:20260120T165333Z
UID:10010809-1771439400-1771441200@trinitysummerside.ca
SUMMARY:Ash Wednesday Service
DESCRIPTION:Sanctuary
URL:https://trinitysummerside.ca/event/ash-wednesday-service/
END:VEVENT
BEGIN:VEVENT
DTSTART;TZID=Atlantic/Bermuda:20260218T174500
DTEND;TZID=Atlantic/Bermuda:20260218T200000
DTSTAMP:20260421T220915
CREATED:20260203T141757Z
LAST-MODIFIED:20260203T141757Z
UID:10010815-1771436700-1771444800@trinitysummerside.ca
SUMMARY:Choir rehearsals
DESCRIPTION:Hand Bell Choir 5:45pm \nTrinity Choir 7pm
URL:https://trinitysummerside.ca/event/choir-rehearsals-2/2026-02-18/
END:VEVENT
BEGIN:VEVENT
DTSTART;TZID=Atlantic/Bermuda:20260218T133000
DTEND;TZID=Atlantic/Bermuda:20260218T140000
DTSTAMP:20260421T220915
CREATED:20260120T165256Z
LAST-MODIFIED:20260120T165256Z
UID:10010808-1771421400-1771423200@trinitysummerside.ca
SUMMARY:Wedgewood Manor service
DESCRIPTION:
URL:https://trinitysummerside.ca/event/wedgewood-manor-service/
END:VEVENT
BEGIN:VEVENT
DTSTART;TZID=Atlantic/Bermuda:20260218T100000
DTEND;TZID=Atlantic/Bermuda:20260218T113000
DTSTAMP:20260421T220915
CREATED:20260203T142424Z
LAST-MODIFIED:20260203T142424Z
UID:10010837-1771408800-1771414200@trinitysummerside.ca
SUMMARY:Pastoral Care Team Meeting
DESCRIPTION:Boardroom and Zoom
URL:https://trinitysummerside.ca/event/pastoral-care-team-meeting-2/
END:VEVENT
BEGIN:VEVENT
DTSTART;TZID=Atlantic/Bermuda:20260218T080000
DTEND;TZID=Atlantic/Bermuda:20260218T090000
DTSTAMP:20260421T220915
CREATED:20260120T163740Z
LAST-MODIFIED:20260120T163740Z
UID:10010721-1771401600-1771405200@trinitysummerside.ca
SUMMARY:Men's Breakfasts
DESCRIPTION:Seashell Café (26152 Route 2)
URL:https://trinitysummerside.ca/event/mens-breakfasts/2026-02-18/
END:VEVENT
BEGIN:VEVENT
DTSTART;TZID=Atlantic/Bermuda:20260218T080000
DTEND;TZID=Atlantic/Bermuda:20260218T090000
DTSTAMP:20260421T220915
CREATED:20260120T163630Z
LAST-MODIFIED:20260120T163810Z
UID:10010673-1771401600-1771405200@trinitysummerside.ca
SUMMARY:Women's Breakfasts
DESCRIPTION:Waterfront Café at Holland College campus.
URL:https://trinitysummerside.ca/event/womens-breakfasts/2026-02-18/
END:VEVENT
BEGIN:VEVENT
DTSTART;TZID=Atlantic/Bermuda:20260217T160000
DTEND;TZID=Atlantic/Bermuda:20260217T180000
DTSTAMP:20260421T220915
CREATED:20260120T165136Z
LAST-MODIFIED:20260120T165156Z
UID:10010807-1771344000-1771351200@trinitysummerside.ca
SUMMARY:Pancake Supper
DESCRIPTION:Details to be confirmed\, probably 4pm-6pm by donation.
URL:https://trinitysummerside.ca/event/pancake-supper/
END:VEVENT
BEGIN:VEVENT
DTSTART;TZID=Atlantic/Bermuda:20260217T113000
DTEND;TZID=Atlantic/Bermuda:20260217T130000
DTSTAMP:20260421T220915
CREATED:20260120T164935Z
LAST-MODIFIED:20260120T164935Z
UID:10010806-1771327800-1771333200@trinitysummerside.ca
SUMMARY:Trinity Ladies Luncheon - King Wok
DESCRIPTION:Join us at King Wok on Water Street at 11:30am
URL:https://trinitysummerside.ca/event/trinity-ladies-luncheon-king-wok/
END:VEVENT
BEGIN:VEVENT
DTSTART;TZID=Atlantic/Bermuda:20260217T100000
DTEND;TZID=Atlantic/Bermuda:20260217T130000
DTSTAMP:20260421T220915
CREATED:20260206T153229Z
LAST-MODIFIED:20260206T153229Z
UID:10010849-1771322400-1771333200@trinitysummerside.ca
SUMMARY:Trinity Food Box Program
DESCRIPTION:Volunteers are able to see you between 10am and 1pm.  Please bring a reusable grocery bag. \nIf you have not yet registered you will need to show ID for yourself and anyone else in your household. \nIf there is a snow day (schools are cancelled) we will not be open.
URL:https://trinitysummerside.ca/event/trinity-food-box-program/2026-02-17/
END:VEVENT
END:VCALENDAR