BEGIN:VCALENDAR
VERSION:2.0
PRODID:-//Trinity United Church Summerside - ECPv6.15.20//NONSGML v1.0//EN
CALSCALE:GREGORIAN
METHOD:PUBLISH
X-WR-CALNAME:Trinity United Church Summerside
X-ORIGINAL-URL:https://trinitysummerside.ca
X-WR-CALDESC:Events for Trinity United Church Summerside
REFRESH-INTERVAL;VALUE=DURATION:PT1H
X-Robots-Tag:noindex
X-PUBLISHED-TTL:PT1H
BEGIN:VTIMEZONE
TZID:Atlantic/Bermuda
BEGIN:DAYLIGHT
TZOFFSETFROM:-0400
TZOFFSETTO:-0300
TZNAME:ADT
DTSTART:20250309T060000
END:DAYLIGHT
BEGIN:STANDARD
TZOFFSETFROM:-0300
TZOFFSETTO:-0400
TZNAME:AST
DTSTART:20251102T050000
END:STANDARD
BEGIN:DAYLIGHT
TZOFFSETFROM:-0400
TZOFFSETTO:-0300
TZNAME:ADT
DTSTART:20260308T060000
END:DAYLIGHT
BEGIN:STANDARD
TZOFFSETFROM:-0300
TZOFFSETTO:-0400
TZNAME:AST
DTSTART:20261101T050000
END:STANDARD
BEGIN:DAYLIGHT
TZOFFSETFROM:-0400
TZOFFSETTO:-0300
TZNAME:ADT
DTSTART:20270314T060000
END:DAYLIGHT
BEGIN:STANDARD
TZOFFSETFROM:-0300
TZOFFSETTO:-0400
TZNAME:AST
DTSTART:20271107T050000
END:STANDARD
END:VTIMEZONE
BEGIN:VEVENT
DTSTART;TZID=Atlantic/Bermuda:20260623T100000
DTEND;TZID=Atlantic/Bermuda:20260623T130000
DTSTAMP:20260421T180408
CREATED:20260206T153229Z
LAST-MODIFIED:20260206T153229Z
UID:10010867-1782208800-1782219600@trinitysummerside.ca
SUMMARY:Trinity Food Box Program
DESCRIPTION:Volunteers are able to see you between 10am and 1pm.  Please bring a reusable grocery bag. \nIf you have not yet registered you will need to show ID for yourself and anyone else in your household. \nIf there is a snow day (schools are cancelled) we will not be open.
URL:https://trinitysummerside.ca/event/trinity-food-box-program/2026-06-23/
END:VEVENT
BEGIN:VEVENT
DTSTART;TZID=Atlantic/Bermuda:20260624T080000
DTEND;TZID=Atlantic/Bermuda:20260624T090000
DTSTAMP:20260421T180408
CREATED:20260120T163630Z
LAST-MODIFIED:20260120T163810Z
UID:10010691-1782288000-1782291600@trinitysummerside.ca
SUMMARY:Women's Breakfasts
DESCRIPTION:Waterfront Café at Holland College campus.
URL:https://trinitysummerside.ca/event/womens-breakfasts/2026-06-24/
END:VEVENT
BEGIN:VEVENT
DTSTART;TZID=Atlantic/Bermuda:20260624T080000
DTEND;TZID=Atlantic/Bermuda:20260624T090000
DTSTAMP:20260421T180408
CREATED:20260120T163740Z
LAST-MODIFIED:20260120T163740Z
UID:10010739-1782288000-1782291600@trinitysummerside.ca
SUMMARY:Men's Breakfasts
DESCRIPTION:Seashell Café (26152 Route 2)
URL:https://trinitysummerside.ca/event/mens-breakfasts/2026-06-24/
END:VEVENT
BEGIN:VEVENT
DTSTART;TZID=Atlantic/Bermuda:20260624T174500
DTEND;TZID=Atlantic/Bermuda:20260624T200000
DTSTAMP:20260421T180408
CREATED:20260203T141757Z
LAST-MODIFIED:20260203T141757Z
UID:10010833-1782323100-1782331200@trinitysummerside.ca
SUMMARY:Choir rehearsals
DESCRIPTION:Hand Bell Choir 5:45pm \nTrinity Choir 7pm
URL:https://trinitysummerside.ca/event/choir-rehearsals-2/2026-06-24/
END:VEVENT
BEGIN:VEVENT
DTSTART;TZID=Atlantic/Bermuda:20260625T120000
DTEND;TZID=Atlantic/Bermuda:20260625T150000
DTSTAMP:20260421T180408
CREATED:20260206T153339Z
LAST-MODIFIED:20260206T153339Z
UID:10010913-1782388800-1782399600@trinitysummerside.ca
SUMMARY:Trinity Food Box Program
DESCRIPTION:Volunteers are able to see you between 12pm and 3pm.  Please bring a reusable grocery bag. \nIf you have not yet registered you will need to show ID for yourself and anyone else in your household. \nIf there is a snow day (schools are cancelled) we will not be open.
URL:https://trinitysummerside.ca/event/trinity-food-box-program-2/2026-06-25/
END:VEVENT
BEGIN:VEVENT
DTSTART;TZID=Atlantic/Bermuda:20260625T130000
DTEND;TZID=Atlantic/Bermuda:20260625T150000
DTSTAMP:20260421T180408
CREATED:20251231T153310Z
LAST-MODIFIED:20260114T183009Z
UID:10010355-1782392400-1782399600@trinitysummerside.ca
SUMMARY:Silvertones Choir Rehearsal
DESCRIPTION:In the Sanctuary.
URL:https://trinitysummerside.ca/event/silvertones-choir-rehearsal/2026-06-25/
END:VEVENT
BEGIN:VEVENT
DTSTART;TZID=Atlantic/Bermuda:20260627T083000
DTEND;TZID=Atlantic/Bermuda:20260627T100000
DTSTAMP:20260421T180408
CREATED:20251231T153012Z
LAST-MODIFIED:20251231T153012Z
UID:10010277-1782549000-1782554400@trinitysummerside.ca
SUMMARY:Feed My Sheep Breakfast
DESCRIPTION:In the Auditorium.
URL:https://trinitysummerside.ca/event/feed-my-sheep-breakfast-5/2026-06-27/
END:VEVENT
BEGIN:VEVENT
DTSTART;TZID=Atlantic/Bermuda:20260627T100000
DTEND;TZID=Atlantic/Bermuda:20260627T120000
DTSTAMP:20260421T180408
CREATED:20260120T163406Z
LAST-MODIFIED:20260120T163406Z
UID:10010430-1782554400-1782561600@trinitysummerside.ca
SUMMARY:Trinity Arts Group
DESCRIPTION:Usually in the auditorium following Feed My Sheep Breakfasts 10am or 9am on the Saturdays with no breakfasts.
URL:https://trinitysummerside.ca/event/trinity-arts-group/2026-06-27/
END:VEVENT
BEGIN:VEVENT
DTSTART;TZID=Atlantic/Bermuda:20260628T103000
DTEND;TZID=Atlantic/Bermuda:20260628T113000
DTSTAMP:20260421T180408
CREATED:20251219T170423Z
LAST-MODIFIED:20251222T182006Z
UID:10010183-1782642600-1782646200@trinitysummerside.ca
SUMMARY:Sunday Worship Service
DESCRIPTION:
URL:https://trinitysummerside.ca/event/sunday-worship-service/2026-06-28/
END:VEVENT
BEGIN:VEVENT
DTSTART;TZID=Atlantic/Bermuda:20260630T100000
DTEND;TZID=Atlantic/Bermuda:20260630T130000
DTSTAMP:20260421T180408
CREATED:20260206T153229Z
LAST-MODIFIED:20260206T153229Z
UID:10010868-1782813600-1782824400@trinitysummerside.ca
SUMMARY:Trinity Food Box Program
DESCRIPTION:Volunteers are able to see you between 10am and 1pm.  Please bring a reusable grocery bag. \nIf you have not yet registered you will need to show ID for yourself and anyone else in your household. \nIf there is a snow day (schools are cancelled) we will not be open.
URL:https://trinitysummerside.ca/event/trinity-food-box-program/2026-06-30/
END:VEVENT
BEGIN:VEVENT
DTSTART;TZID=Atlantic/Bermuda:20260702T120000
DTEND;TZID=Atlantic/Bermuda:20260702T150000
DTSTAMP:20260421T180408
CREATED:20260206T153339Z
LAST-MODIFIED:20260206T153339Z
UID:10010914-1782993600-1783004400@trinitysummerside.ca
SUMMARY:Trinity Food Box Program
DESCRIPTION:Volunteers are able to see you between 12pm and 3pm.  Please bring a reusable grocery bag. \nIf you have not yet registered you will need to show ID for yourself and anyone else in your household. \nIf there is a snow day (schools are cancelled) we will not be open.
URL:https://trinitysummerside.ca/event/trinity-food-box-program-2/2026-07-02/
END:VEVENT
BEGIN:VEVENT
DTSTART;TZID=Atlantic/Bermuda:20260702T130000
DTEND;TZID=Atlantic/Bermuda:20260702T150000
DTSTAMP:20260421T180408
CREATED:20251231T153310Z
LAST-MODIFIED:20260114T183009Z
UID:10010356-1782997200-1783004400@trinitysummerside.ca
SUMMARY:Silvertones Choir Rehearsal
DESCRIPTION:In the Sanctuary.
URL:https://trinitysummerside.ca/event/silvertones-choir-rehearsal/2026-07-02/
END:VEVENT
BEGIN:VEVENT
DTSTART;TZID=Atlantic/Bermuda:20260704T100000
DTEND;TZID=Atlantic/Bermuda:20260704T120000
DTSTAMP:20260421T180408
CREATED:20260120T163406Z
LAST-MODIFIED:20260120T163406Z
UID:10010431-1783159200-1783166400@trinitysummerside.ca
SUMMARY:Trinity Arts Group
DESCRIPTION:Usually in the auditorium following Feed My Sheep Breakfasts 10am or 9am on the Saturdays with no breakfasts.
URL:https://trinitysummerside.ca/event/trinity-arts-group/2026-07-04/
END:VEVENT
BEGIN:VEVENT
DTSTART;TZID=Atlantic/Bermuda:20260705T103000
DTEND;TZID=Atlantic/Bermuda:20260705T113000
DTSTAMP:20260421T180408
CREATED:20251219T170423Z
LAST-MODIFIED:20251222T182006Z
UID:10010184-1783247400-1783251000@trinitysummerside.ca
SUMMARY:Sunday Worship Service
DESCRIPTION:
URL:https://trinitysummerside.ca/event/sunday-worship-service/2026-07-05/
END:VEVENT
BEGIN:VEVENT
DTSTART;TZID=Atlantic/Bermuda:20260707T100000
DTEND;TZID=Atlantic/Bermuda:20260707T130000
DTSTAMP:20260421T180408
CREATED:20260206T153229Z
LAST-MODIFIED:20260206T153229Z
UID:10010869-1783418400-1783429200@trinitysummerside.ca
SUMMARY:Trinity Food Box Program
DESCRIPTION:Volunteers are able to see you between 10am and 1pm.  Please bring a reusable grocery bag. \nIf you have not yet registered you will need to show ID for yourself and anyone else in your household. \nIf there is a snow day (schools are cancelled) we will not be open.
URL:https://trinitysummerside.ca/event/trinity-food-box-program/2026-07-07/
END:VEVENT
BEGIN:VEVENT
DTSTART;TZID=Atlantic/Bermuda:20260709T120000
DTEND;TZID=Atlantic/Bermuda:20260709T150000
DTSTAMP:20260421T180408
CREATED:20260206T153339Z
LAST-MODIFIED:20260206T153339Z
UID:10010915-1783598400-1783609200@trinitysummerside.ca
SUMMARY:Trinity Food Box Program
DESCRIPTION:Volunteers are able to see you between 12pm and 3pm.  Please bring a reusable grocery bag. \nIf you have not yet registered you will need to show ID for yourself and anyone else in your household. \nIf there is a snow day (schools are cancelled) we will not be open.
URL:https://trinitysummerside.ca/event/trinity-food-box-program-2/2026-07-09/
END:VEVENT
BEGIN:VEVENT
DTSTART;TZID=Atlantic/Bermuda:20260709T130000
DTEND;TZID=Atlantic/Bermuda:20260709T150000
DTSTAMP:20260421T180408
CREATED:20251231T153310Z
LAST-MODIFIED:20260114T183009Z
UID:10010357-1783602000-1783609200@trinitysummerside.ca
SUMMARY:Silvertones Choir Rehearsal
DESCRIPTION:In the Sanctuary.
URL:https://trinitysummerside.ca/event/silvertones-choir-rehearsal/2026-07-09/
END:VEVENT
BEGIN:VEVENT
DTSTART;TZID=Atlantic/Bermuda:20260711T083000
DTEND;TZID=Atlantic/Bermuda:20260711T100000
DTSTAMP:20260421T180408
CREATED:20251231T152915Z
LAST-MODIFIED:20251231T152915Z
UID:10010218-1783758600-1783764000@trinitysummerside.ca
SUMMARY:Feed My Sheep Breakfast
DESCRIPTION:In the Auditorium.
URL:https://trinitysummerside.ca/event/feed-my-sheep-breakfast-4/2026-07-11/
END:VEVENT
BEGIN:VEVENT
DTSTART;TZID=Atlantic/Bermuda:20260711T100000
DTEND;TZID=Atlantic/Bermuda:20260711T120000
DTSTAMP:20260421T180408
CREATED:20260120T163406Z
LAST-MODIFIED:20260120T163406Z
UID:10010432-1783764000-1783771200@trinitysummerside.ca
SUMMARY:Trinity Arts Group
DESCRIPTION:Usually in the auditorium following Feed My Sheep Breakfasts 10am or 9am on the Saturdays with no breakfasts.
URL:https://trinitysummerside.ca/event/trinity-arts-group/2026-07-11/
END:VEVENT
BEGIN:VEVENT
DTSTART;TZID=Atlantic/Bermuda:20260712T103000
DTEND;TZID=Atlantic/Bermuda:20260712T113000
DTSTAMP:20260421T180408
CREATED:20251219T170423Z
LAST-MODIFIED:20251222T182006Z
UID:10010185-1783852200-1783855800@trinitysummerside.ca
SUMMARY:Sunday Worship Service
DESCRIPTION:
URL:https://trinitysummerside.ca/event/sunday-worship-service/2026-07-12/
END:VEVENT
BEGIN:VEVENT
DTSTART;TZID=Atlantic/Bermuda:20260714T100000
DTEND;TZID=Atlantic/Bermuda:20260714T130000
DTSTAMP:20260421T180408
CREATED:20260206T153229Z
LAST-MODIFIED:20260206T153229Z
UID:10010870-1784023200-1784034000@trinitysummerside.ca
SUMMARY:Trinity Food Box Program
DESCRIPTION:Volunteers are able to see you between 10am and 1pm.  Please bring a reusable grocery bag. \nIf you have not yet registered you will need to show ID for yourself and anyone else in your household. \nIf there is a snow day (schools are cancelled) we will not be open.
URL:https://trinitysummerside.ca/event/trinity-food-box-program/2026-07-14/
END:VEVENT
BEGIN:VEVENT
DTSTART;TZID=Atlantic/Bermuda:20260716T120000
DTEND;TZID=Atlantic/Bermuda:20260716T150000
DTSTAMP:20260421T180408
CREATED:20260206T153339Z
LAST-MODIFIED:20260206T153339Z
UID:10010916-1784203200-1784214000@trinitysummerside.ca
SUMMARY:Trinity Food Box Program
DESCRIPTION:Volunteers are able to see you between 12pm and 3pm.  Please bring a reusable grocery bag. \nIf you have not yet registered you will need to show ID for yourself and anyone else in your household. \nIf there is a snow day (schools are cancelled) we will not be open.
URL:https://trinitysummerside.ca/event/trinity-food-box-program-2/2026-07-16/
END:VEVENT
BEGIN:VEVENT
DTSTART;TZID=Atlantic/Bermuda:20260716T130000
DTEND;TZID=Atlantic/Bermuda:20260716T150000
DTSTAMP:20260421T180408
CREATED:20251231T153310Z
LAST-MODIFIED:20260114T183009Z
UID:10010358-1784206800-1784214000@trinitysummerside.ca
SUMMARY:Silvertones Choir Rehearsal
DESCRIPTION:In the Sanctuary.
URL:https://trinitysummerside.ca/event/silvertones-choir-rehearsal/2026-07-16/
END:VEVENT
BEGIN:VEVENT
DTSTART;TZID=Atlantic/Bermuda:20260718T100000
DTEND;TZID=Atlantic/Bermuda:20260718T120000
DTSTAMP:20260421T180408
CREATED:20260120T163406Z
LAST-MODIFIED:20260120T163406Z
UID:10010433-1784368800-1784376000@trinitysummerside.ca
SUMMARY:Trinity Arts Group
DESCRIPTION:Usually in the auditorium following Feed My Sheep Breakfasts 10am or 9am on the Saturdays with no breakfasts.
URL:https://trinitysummerside.ca/event/trinity-arts-group/2026-07-18/
END:VEVENT
BEGIN:VEVENT
DTSTART;TZID=Atlantic/Bermuda:20260719T103000
DTEND;TZID=Atlantic/Bermuda:20260719T113000
DTSTAMP:20260421T180408
CREATED:20251219T170423Z
LAST-MODIFIED:20251222T182006Z
UID:10010186-1784457000-1784460600@trinitysummerside.ca
SUMMARY:Sunday Worship Service
DESCRIPTION:
URL:https://trinitysummerside.ca/event/sunday-worship-service/2026-07-19/
END:VEVENT
BEGIN:VEVENT
DTSTART;TZID=Atlantic/Bermuda:20260721T100000
DTEND;TZID=Atlantic/Bermuda:20260721T130000
DTSTAMP:20260421T180408
CREATED:20260206T153229Z
LAST-MODIFIED:20260206T153229Z
UID:10010871-1784628000-1784638800@trinitysummerside.ca
SUMMARY:Trinity Food Box Program
DESCRIPTION:Volunteers are able to see you between 10am and 1pm.  Please bring a reusable grocery bag. \nIf you have not yet registered you will need to show ID for yourself and anyone else in your household. \nIf there is a snow day (schools are cancelled) we will not be open.
URL:https://trinitysummerside.ca/event/trinity-food-box-program/2026-07-21/
END:VEVENT
BEGIN:VEVENT
DTSTART;TZID=Atlantic/Bermuda:20260723T120000
DTEND;TZID=Atlantic/Bermuda:20260723T150000
DTSTAMP:20260421T180408
CREATED:20260206T153339Z
LAST-MODIFIED:20260206T153339Z
UID:10010917-1784808000-1784818800@trinitysummerside.ca
SUMMARY:Trinity Food Box Program
DESCRIPTION:Volunteers are able to see you between 12pm and 3pm.  Please bring a reusable grocery bag. \nIf you have not yet registered you will need to show ID for yourself and anyone else in your household. \nIf there is a snow day (schools are cancelled) we will not be open.
URL:https://trinitysummerside.ca/event/trinity-food-box-program-2/2026-07-23/
END:VEVENT
BEGIN:VEVENT
DTSTART;TZID=Atlantic/Bermuda:20260723T130000
DTEND;TZID=Atlantic/Bermuda:20260723T150000
DTSTAMP:20260421T180408
CREATED:20251231T153310Z
LAST-MODIFIED:20260114T183009Z
UID:10010359-1784811600-1784818800@trinitysummerside.ca
SUMMARY:Silvertones Choir Rehearsal
DESCRIPTION:In the Sanctuary.
URL:https://trinitysummerside.ca/event/silvertones-choir-rehearsal/2026-07-23/
END:VEVENT
BEGIN:VEVENT
DTSTART;TZID=Atlantic/Bermuda:20260725T083000
DTEND;TZID=Atlantic/Bermuda:20260725T100000
DTSTAMP:20260421T180408
CREATED:20251231T153012Z
LAST-MODIFIED:20251231T153012Z
UID:10010278-1784968200-1784973600@trinitysummerside.ca
SUMMARY:Feed My Sheep Breakfast
DESCRIPTION:In the Auditorium.
URL:https://trinitysummerside.ca/event/feed-my-sheep-breakfast-5/2026-07-25/
END:VEVENT
BEGIN:VEVENT
DTSTART;TZID=Atlantic/Bermuda:20260725T100000
DTEND;TZID=Atlantic/Bermuda:20260725T120000
DTSTAMP:20260421T180408
CREATED:20260120T163406Z
LAST-MODIFIED:20260120T163406Z
UID:10010434-1784973600-1784980800@trinitysummerside.ca
SUMMARY:Trinity Arts Group
DESCRIPTION:Usually in the auditorium following Feed My Sheep Breakfasts 10am or 9am on the Saturdays with no breakfasts.
URL:https://trinitysummerside.ca/event/trinity-arts-group/2026-07-25/
END:VEVENT
END:VCALENDAR