BEGIN:VCALENDAR
VERSION:2.0
PRODID:-//Trinity United Church Summerside - ECPv6.15.20//NONSGML v1.0//EN
CALSCALE:GREGORIAN
METHOD:PUBLISH
X-WR-CALNAME:Trinity United Church Summerside
X-ORIGINAL-URL:https://trinitysummerside.ca
X-WR-CALDESC:Events for Trinity United Church Summerside
REFRESH-INTERVAL;VALUE=DURATION:PT1H
X-Robots-Tag:noindex
X-PUBLISHED-TTL:PT1H
BEGIN:VTIMEZONE
TZID:Atlantic/Bermuda
BEGIN:DAYLIGHT
TZOFFSETFROM:-0400
TZOFFSETTO:-0300
TZNAME:ADT
DTSTART:20250309T060000
END:DAYLIGHT
BEGIN:STANDARD
TZOFFSETFROM:-0300
TZOFFSETTO:-0400
TZNAME:AST
DTSTART:20251102T050000
END:STANDARD
BEGIN:DAYLIGHT
TZOFFSETFROM:-0400
TZOFFSETTO:-0300
TZNAME:ADT
DTSTART:20260308T060000
END:DAYLIGHT
BEGIN:STANDARD
TZOFFSETFROM:-0300
TZOFFSETTO:-0400
TZNAME:AST
DTSTART:20261101T050000
END:STANDARD
BEGIN:DAYLIGHT
TZOFFSETFROM:-0400
TZOFFSETTO:-0300
TZNAME:ADT
DTSTART:20270314T060000
END:DAYLIGHT
BEGIN:STANDARD
TZOFFSETFROM:-0300
TZOFFSETTO:-0400
TZNAME:AST
DTSTART:20271107T050000
END:STANDARD
END:VTIMEZONE
BEGIN:VEVENT
DTSTART;TZID=Atlantic/Bermuda:20260425T100000
DTEND;TZID=Atlantic/Bermuda:20260425T233000
DTSTAMP:20260421T161707
CREATED:20260319T172052Z
LAST-MODIFIED:20260319T172052Z
UID:10010982-1777111200-1777159800@trinitysummerside.ca
SUMMARY:Private Rental - Auditorium
DESCRIPTION:
URL:https://trinitysummerside.ca/event/private-rental-auditorium/
END:VEVENT
BEGIN:VEVENT
DTSTART;TZID=Atlantic/Bermuda:20260426T103000
DTEND;TZID=Atlantic/Bermuda:20260426T113000
DTSTAMP:20260421T161707
CREATED:20251219T170423Z
LAST-MODIFIED:20251222T182006Z
UID:10010174-1777199400-1777203000@trinitysummerside.ca
SUMMARY:Sunday Worship Service
DESCRIPTION:
URL:https://trinitysummerside.ca/event/sunday-worship-service/2026-04-26/
END:VEVENT
BEGIN:VEVENT
DTSTART;TZID=Atlantic/Bermuda:20260426T150000
DTEND;TZID=Atlantic/Bermuda:20260426T163000
DTSTAMP:20260421T161707
CREATED:20260319T172202Z
LAST-MODIFIED:20260319T172202Z
UID:10010983-1777215600-1777221000@trinitysummerside.ca
SUMMARY:Summerside Community Choir Spring Concert
DESCRIPTION:Sanctuary – tickets available at the door
URL:https://trinitysummerside.ca/event/summerside-community-choir-spring-concert/
END:VEVENT
BEGIN:VEVENT
DTSTART;TZID=Atlantic/Bermuda:20260427T130000
DTEND;TZID=Atlantic/Bermuda:20260427T150000
DTSTAMP:20260421T161707
CREATED:20260319T170629Z
LAST-MODIFIED:20260319T170629Z
UID:10010969-1777294800-1777302000@trinitysummerside.ca
SUMMARY:Private rental - Boardroom
DESCRIPTION:
URL:https://trinitysummerside.ca/event/private-rental-boardroom/2026-04-27/
END:VEVENT
BEGIN:VEVENT
DTSTART;TZID=Atlantic/Bermuda:20260428T100000
DTEND;TZID=Atlantic/Bermuda:20260428T130000
DTSTAMP:20260421T161707
CREATED:20260206T153229Z
LAST-MODIFIED:20260206T153229Z
UID:10010859-1777370400-1777381200@trinitysummerside.ca
SUMMARY:Trinity Food Box Program
DESCRIPTION:Volunteers are able to see you between 10am and 1pm.  Please bring a reusable grocery bag. \nIf you have not yet registered you will need to show ID for yourself and anyone else in your household. \nIf there is a snow day (schools are cancelled) we will not be open.
URL:https://trinitysummerside.ca/event/trinity-food-box-program/2026-04-28/
END:VEVENT
BEGIN:VEVENT
DTSTART;TZID=Atlantic/Bermuda:20260429T080000
DTEND;TZID=Atlantic/Bermuda:20260429T090000
DTSTAMP:20260421T161707
CREATED:20260120T163630Z
LAST-MODIFIED:20260120T163810Z
UID:10010683-1777449600-1777453200@trinitysummerside.ca
SUMMARY:Women's Breakfasts
DESCRIPTION:Waterfront Café at Holland College campus.
URL:https://trinitysummerside.ca/event/womens-breakfasts/2026-04-29/
END:VEVENT
BEGIN:VEVENT
DTSTART;TZID=Atlantic/Bermuda:20260429T080000
DTEND;TZID=Atlantic/Bermuda:20260429T090000
DTSTAMP:20260421T161707
CREATED:20260120T163740Z
LAST-MODIFIED:20260120T163740Z
UID:10010731-1777449600-1777453200@trinitysummerside.ca
SUMMARY:Men's Breakfasts
DESCRIPTION:Seashell Café (26152 Route 2)
URL:https://trinitysummerside.ca/event/mens-breakfasts/2026-04-29/
END:VEVENT
BEGIN:VEVENT
DTSTART;TZID=Atlantic/Bermuda:20260429T100000
DTEND;TZID=Atlantic/Bermuda:20260429T113000
DTSTAMP:20260421T161707
CREATED:20260319T172325Z
LAST-MODIFIED:20260319T172325Z
UID:10010985-1777456800-1777462200@trinitysummerside.ca
SUMMARY:Pastoral Care Team Meeting - Boardroom
DESCRIPTION:
URL:https://trinitysummerside.ca/event/pastoral-care-team-meeting-boardroom/
END:VEVENT
BEGIN:VEVENT
DTSTART;TZID=Atlantic/Bermuda:20260429T133000
DTEND;TZID=Atlantic/Bermuda:20260429T140000
DTSTAMP:20260421T161707
CREATED:20260319T172255Z
LAST-MODIFIED:20260319T172255Z
UID:10010984-1777469400-1777471200@trinitysummerside.ca
SUMMARY:Summerset Manor Service
DESCRIPTION:
URL:https://trinitysummerside.ca/event/summerset-manor-service-3/
END:VEVENT
BEGIN:VEVENT
DTSTART;TZID=Atlantic/Bermuda:20260429T174500
DTEND;TZID=Atlantic/Bermuda:20260429T200000
DTSTAMP:20260421T161707
CREATED:20260203T141757Z
LAST-MODIFIED:20260203T141757Z
UID:10010825-1777484700-1777492800@trinitysummerside.ca
SUMMARY:Choir rehearsals
DESCRIPTION:Hand Bell Choir 5:45pm \nTrinity Choir 7pm
URL:https://trinitysummerside.ca/event/choir-rehearsals-2/2026-04-29/
END:VEVENT
BEGIN:VEVENT
DTSTART;TZID=Atlantic/Bermuda:20260430T093000
DTEND;TZID=Atlantic/Bermuda:20260430T103000
DTSTAMP:20260421T161707
CREATED:20260409T121446Z
LAST-MODIFIED:20260409T121446Z
UID:10010989-1777541400-1777545000@trinitysummerside.ca
SUMMARY:Trinity Café
DESCRIPTION:Holy Communion & UCC –\nMatthew 26:26-28\, Mark 14:22-24\, Luke 22:17-20 (April 16)\nThe Beatitudes – Matthew 5:1-12\n•\nBeatitudes Part One: Set Up of the Study (April 23)\n•\nBeatitudes Part Two: Poor In Spirit & Those Who Mourn (April 30)\n•\nBeatitudes Part Three: The Meek & Justice Seekers (May 7)\n•\nBeatitudes Part Four: The Merciful & Pure in Heart (May 14)\n•\nBeatitudes Part Five: Peace Makers & Those Persecuted (May 21)\n•\nBeatitudes Part Six: Full Review of Beatitudes (May 28)
URL:https://trinitysummerside.ca/event/trinity-cafe/2026-04-30/
END:VEVENT
BEGIN:VEVENT
DTSTART;TZID=Atlantic/Bermuda:20260430T120000
DTEND;TZID=Atlantic/Bermuda:20260430T150000
DTSTAMP:20260421T161707
CREATED:20260206T153339Z
LAST-MODIFIED:20260206T153339Z
UID:10010905-1777550400-1777561200@trinitysummerside.ca
SUMMARY:Trinity Food Box Program
DESCRIPTION:Volunteers are able to see you between 12pm and 3pm.  Please bring a reusable grocery bag. \nIf you have not yet registered you will need to show ID for yourself and anyone else in your household. \nIf there is a snow day (schools are cancelled) we will not be open.
URL:https://trinitysummerside.ca/event/trinity-food-box-program-2/2026-04-30/
END:VEVENT
BEGIN:VEVENT
DTSTART;TZID=Atlantic/Bermuda:20260430T130000
DTEND;TZID=Atlantic/Bermuda:20260430T150000
DTSTAMP:20260421T161707
CREATED:20251231T153310Z
LAST-MODIFIED:20260114T183009Z
UID:10010347-1777554000-1777561200@trinitysummerside.ca
SUMMARY:Silvertones Choir Rehearsal
DESCRIPTION:In the Sanctuary.
URL:https://trinitysummerside.ca/event/silvertones-choir-rehearsal/2026-04-30/
END:VEVENT
BEGIN:VEVENT
DTSTART;TZID=Atlantic/Bermuda:20260502T090000
DTEND;TZID=Atlantic/Bermuda:20260502T150000
DTSTAMP:20260421T161707
CREATED:20260319T172432Z
LAST-MODIFIED:20260319T172432Z
UID:10010986-1777712400-1777734000@trinitysummerside.ca
SUMMARY:Private Auditorium Rental
DESCRIPTION:
URL:https://trinitysummerside.ca/event/private-auditorium-rental-3/
END:VEVENT
BEGIN:VEVENT
DTSTART;TZID=Atlantic/Bermuda:20260502T100000
DTEND;TZID=Atlantic/Bermuda:20260502T120000
DTSTAMP:20260421T161707
CREATED:20260120T163406Z
LAST-MODIFIED:20260120T163406Z
UID:10010422-1777716000-1777723200@trinitysummerside.ca
SUMMARY:Trinity Arts Group
DESCRIPTION:Usually in the auditorium following Feed My Sheep Breakfasts 10am or 9am on the Saturdays with no breakfasts.
URL:https://trinitysummerside.ca/event/trinity-arts-group/2026-05-02/
END:VEVENT
BEGIN:VEVENT
DTSTART;TZID=Atlantic/Bermuda:20260503T103000
DTEND;TZID=Atlantic/Bermuda:20260503T113000
DTSTAMP:20260421T161707
CREATED:20251219T170423Z
LAST-MODIFIED:20251222T182006Z
UID:10010175-1777804200-1777807800@trinitysummerside.ca
SUMMARY:Sunday Worship Service
DESCRIPTION:
URL:https://trinitysummerside.ca/event/sunday-worship-service/2026-05-03/
END:VEVENT
BEGIN:VEVENT
DTSTART;TZID=Atlantic/Bermuda:20260504T130000
DTEND;TZID=Atlantic/Bermuda:20260504T150000
DTSTAMP:20260421T161707
CREATED:20260319T170629Z
LAST-MODIFIED:20260319T170629Z
UID:10010970-1777899600-1777906800@trinitysummerside.ca
SUMMARY:Private rental - Boardroom
DESCRIPTION:
URL:https://trinitysummerside.ca/event/private-rental-boardroom/2026-05-04/
END:VEVENT
BEGIN:VEVENT
DTSTART;TZID=Atlantic/Bermuda:20260505T100000
DTEND;TZID=Atlantic/Bermuda:20260505T130000
DTSTAMP:20260421T161707
CREATED:20260206T153229Z
LAST-MODIFIED:20260206T153229Z
UID:10010860-1777975200-1777986000@trinitysummerside.ca
SUMMARY:Trinity Food Box Program
DESCRIPTION:Volunteers are able to see you between 10am and 1pm.  Please bring a reusable grocery bag. \nIf you have not yet registered you will need to show ID for yourself and anyone else in your household. \nIf there is a snow day (schools are cancelled) we will not be open.
URL:https://trinitysummerside.ca/event/trinity-food-box-program/2026-05-05/
END:VEVENT
BEGIN:VEVENT
DTSTART;TZID=Atlantic/Bermuda:20260506T080000
DTEND;TZID=Atlantic/Bermuda:20260506T090000
DTSTAMP:20260421T161707
CREATED:20260120T163630Z
LAST-MODIFIED:20260120T163810Z
UID:10010684-1778054400-1778058000@trinitysummerside.ca
SUMMARY:Women's Breakfasts
DESCRIPTION:Waterfront Café at Holland College campus.
URL:https://trinitysummerside.ca/event/womens-breakfasts/2026-05-06/
END:VEVENT
BEGIN:VEVENT
DTSTART;TZID=Atlantic/Bermuda:20260506T080000
DTEND;TZID=Atlantic/Bermuda:20260506T090000
DTSTAMP:20260421T161707
CREATED:20260120T163740Z
LAST-MODIFIED:20260120T163740Z
UID:10010732-1778054400-1778058000@trinitysummerside.ca
SUMMARY:Men's Breakfasts
DESCRIPTION:Seashell Café (26152 Route 2)
URL:https://trinitysummerside.ca/event/mens-breakfasts/2026-05-06/
END:VEVENT
BEGIN:VEVENT
DTSTART;TZID=Atlantic/Bermuda:20260506T174500
DTEND;TZID=Atlantic/Bermuda:20260506T200000
DTSTAMP:20260421T161707
CREATED:20260203T141757Z
LAST-MODIFIED:20260203T141757Z
UID:10010826-1778089500-1778097600@trinitysummerside.ca
SUMMARY:Choir rehearsals
DESCRIPTION:Hand Bell Choir 5:45pm \nTrinity Choir 7pm
URL:https://trinitysummerside.ca/event/choir-rehearsals-2/2026-05-06/
END:VEVENT
BEGIN:VEVENT
DTSTART;TZID=Atlantic/Bermuda:20260507T093000
DTEND;TZID=Atlantic/Bermuda:20260507T103000
DTSTAMP:20260421T161707
CREATED:20260409T121446Z
LAST-MODIFIED:20260409T121446Z
UID:10010990-1778146200-1778149800@trinitysummerside.ca
SUMMARY:Trinity Café
DESCRIPTION:Holy Communion & UCC –\nMatthew 26:26-28\, Mark 14:22-24\, Luke 22:17-20 (April 16)\nThe Beatitudes – Matthew 5:1-12\n•\nBeatitudes Part One: Set Up of the Study (April 23)\n•\nBeatitudes Part Two: Poor In Spirit & Those Who Mourn (April 30)\n•\nBeatitudes Part Three: The Meek & Justice Seekers (May 7)\n•\nBeatitudes Part Four: The Merciful & Pure in Heart (May 14)\n•\nBeatitudes Part Five: Peace Makers & Those Persecuted (May 21)\n•\nBeatitudes Part Six: Full Review of Beatitudes (May 28)
URL:https://trinitysummerside.ca/event/trinity-cafe/2026-05-07/
END:VEVENT
BEGIN:VEVENT
DTSTART;TZID=Atlantic/Bermuda:20260507T120000
DTEND;TZID=Atlantic/Bermuda:20260507T150000
DTSTAMP:20260421T161707
CREATED:20260206T153339Z
LAST-MODIFIED:20260206T153339Z
UID:10010906-1778155200-1778166000@trinitysummerside.ca
SUMMARY:Trinity Food Box Program
DESCRIPTION:Volunteers are able to see you between 12pm and 3pm.  Please bring a reusable grocery bag. \nIf you have not yet registered you will need to show ID for yourself and anyone else in your household. \nIf there is a snow day (schools are cancelled) we will not be open.
URL:https://trinitysummerside.ca/event/trinity-food-box-program-2/2026-05-07/
END:VEVENT
BEGIN:VEVENT
DTSTART;TZID=Atlantic/Bermuda:20260507T130000
DTEND;TZID=Atlantic/Bermuda:20260507T150000
DTSTAMP:20260421T161707
CREATED:20251231T153310Z
LAST-MODIFIED:20260114T183009Z
UID:10010348-1778158800-1778166000@trinitysummerside.ca
SUMMARY:Silvertones Choir Rehearsal
DESCRIPTION:In the Sanctuary.
URL:https://trinitysummerside.ca/event/silvertones-choir-rehearsal/2026-05-07/
END:VEVENT
BEGIN:VEVENT
DTSTART;TZID=Atlantic/Bermuda:20260509T083000
DTEND;TZID=Atlantic/Bermuda:20260509T100000
DTSTAMP:20260421T161707
CREATED:20251231T152915Z
LAST-MODIFIED:20251231T152915Z
UID:10010216-1778315400-1778320800@trinitysummerside.ca
SUMMARY:Feed My Sheep Breakfast
DESCRIPTION:In the Auditorium.
URL:https://trinitysummerside.ca/event/feed-my-sheep-breakfast-4/2026-05-09/
END:VEVENT
BEGIN:VEVENT
DTSTART;TZID=Atlantic/Bermuda:20260509T100000
DTEND;TZID=Atlantic/Bermuda:20260509T120000
DTSTAMP:20260421T161707
CREATED:20260120T163406Z
LAST-MODIFIED:20260120T163406Z
UID:10010423-1778320800-1778328000@trinitysummerside.ca
SUMMARY:Trinity Arts Group
DESCRIPTION:Usually in the auditorium following Feed My Sheep Breakfasts 10am or 9am on the Saturdays with no breakfasts.
URL:https://trinitysummerside.ca/event/trinity-arts-group/2026-05-09/
END:VEVENT
BEGIN:VEVENT
DTSTART;TZID=Atlantic/Bermuda:20260510T103000
DTEND;TZID=Atlantic/Bermuda:20260510T113000
DTSTAMP:20260421T161707
CREATED:20251219T170423Z
LAST-MODIFIED:20251222T182006Z
UID:10010176-1778409000-1778412600@trinitysummerside.ca
SUMMARY:Sunday Worship Service
DESCRIPTION:
URL:https://trinitysummerside.ca/event/sunday-worship-service/2026-05-10/
END:VEVENT
BEGIN:VEVENT
DTSTART;TZID=Atlantic/Bermuda:20260511T130000
DTEND;TZID=Atlantic/Bermuda:20260511T150000
DTSTAMP:20260421T161707
CREATED:20260319T170629Z
LAST-MODIFIED:20260319T170629Z
UID:10010971-1778504400-1778511600@trinitysummerside.ca
SUMMARY:Private rental - Boardroom
DESCRIPTION:
URL:https://trinitysummerside.ca/event/private-rental-boardroom/2026-05-11/
END:VEVENT
BEGIN:VEVENT
DTSTART;TZID=Atlantic/Bermuda:20260512T100000
DTEND;TZID=Atlantic/Bermuda:20260512T130000
DTSTAMP:20260421T161707
CREATED:20260206T153229Z
LAST-MODIFIED:20260206T153229Z
UID:10010861-1778580000-1778590800@trinitysummerside.ca
SUMMARY:Trinity Food Box Program
DESCRIPTION:Volunteers are able to see you between 10am and 1pm.  Please bring a reusable grocery bag. \nIf you have not yet registered you will need to show ID for yourself and anyone else in your household. \nIf there is a snow day (schools are cancelled) we will not be open.
URL:https://trinitysummerside.ca/event/trinity-food-box-program/2026-05-12/
END:VEVENT
BEGIN:VEVENT
DTSTART;TZID=Atlantic/Bermuda:20260513T080000
DTEND;TZID=Atlantic/Bermuda:20260513T090000
DTSTAMP:20260421T161707
CREATED:20260120T163630Z
LAST-MODIFIED:20260120T163810Z
UID:10010685-1778659200-1778662800@trinitysummerside.ca
SUMMARY:Women's Breakfasts
DESCRIPTION:Waterfront Café at Holland College campus.
URL:https://trinitysummerside.ca/event/womens-breakfasts/2026-05-13/
END:VEVENT
END:VCALENDAR