BEGIN:VCALENDAR
VERSION:2.0
PRODID:-//Trinity United Church Summerside - ECPv6.15.20//NONSGML v1.0//EN
CALSCALE:GREGORIAN
METHOD:PUBLISH
X-WR-CALNAME:Trinity United Church Summerside
X-ORIGINAL-URL:https://trinitysummerside.ca
X-WR-CALDESC:Events for Trinity United Church Summerside
REFRESH-INTERVAL;VALUE=DURATION:PT1H
X-Robots-Tag:noindex
X-PUBLISHED-TTL:PT1H
BEGIN:VTIMEZONE
TZID:Atlantic/Bermuda
BEGIN:DAYLIGHT
TZOFFSETFROM:-0400
TZOFFSETTO:-0300
TZNAME:ADT
DTSTART:20250309T060000
END:DAYLIGHT
BEGIN:STANDARD
TZOFFSETFROM:-0300
TZOFFSETTO:-0400
TZNAME:AST
DTSTART:20251102T050000
END:STANDARD
BEGIN:DAYLIGHT
TZOFFSETFROM:-0400
TZOFFSETTO:-0300
TZNAME:ADT
DTSTART:20260308T060000
END:DAYLIGHT
BEGIN:STANDARD
TZOFFSETFROM:-0300
TZOFFSETTO:-0400
TZNAME:AST
DTSTART:20261101T050000
END:STANDARD
BEGIN:DAYLIGHT
TZOFFSETFROM:-0400
TZOFFSETTO:-0300
TZNAME:ADT
DTSTART:20270314T060000
END:DAYLIGHT
BEGIN:STANDARD
TZOFFSETFROM:-0300
TZOFFSETTO:-0400
TZNAME:AST
DTSTART:20271107T050000
END:STANDARD
END:VTIMEZONE
BEGIN:VEVENT
DTSTART;TZID=Atlantic/Bermuda:20260926T100000
DTEND;TZID=Atlantic/Bermuda:20260926T120000
DTSTAMP:20260421T215100
CREATED:20260120T163406Z
LAST-MODIFIED:20260120T163406Z
UID:10010443-1790416800-1790424000@trinitysummerside.ca
SUMMARY:Trinity Arts Group
DESCRIPTION:Usually in the auditorium following Feed My Sheep Breakfasts 10am or 9am on the Saturdays with no breakfasts.
URL:https://trinitysummerside.ca/event/trinity-arts-group/2026-09-26/
END:VEVENT
BEGIN:VEVENT
DTSTART;TZID=Atlantic/Bermuda:20260927T103000
DTEND;TZID=Atlantic/Bermuda:20260927T113000
DTSTAMP:20260421T215100
CREATED:20251219T170423Z
LAST-MODIFIED:20251222T182006Z
UID:10010196-1790505000-1790508600@trinitysummerside.ca
SUMMARY:Sunday Worship Service
DESCRIPTION:
URL:https://trinitysummerside.ca/event/sunday-worship-service/2026-09-27/
END:VEVENT
BEGIN:VEVENT
DTSTART;TZID=Atlantic/Bermuda:20260929T100000
DTEND;TZID=Atlantic/Bermuda:20260929T130000
DTSTAMP:20260421T215100
CREATED:20260206T153229Z
LAST-MODIFIED:20260206T153229Z
UID:10010881-1790676000-1790686800@trinitysummerside.ca
SUMMARY:Trinity Food Box Program
DESCRIPTION:Volunteers are able to see you between 10am and 1pm.  Please bring a reusable grocery bag. \nIf you have not yet registered you will need to show ID for yourself and anyone else in your household. \nIf there is a snow day (schools are cancelled) we will not be open.
URL:https://trinitysummerside.ca/event/trinity-food-box-program/2026-09-29/
END:VEVENT
BEGIN:VEVENT
DTSTART;TZID=Atlantic/Bermuda:20261001T120000
DTEND;TZID=Atlantic/Bermuda:20261001T150000
DTSTAMP:20260421T215100
CREATED:20260206T153339Z
LAST-MODIFIED:20260206T153339Z
UID:10010927-1790856000-1790866800@trinitysummerside.ca
SUMMARY:Trinity Food Box Program
DESCRIPTION:Volunteers are able to see you between 12pm and 3pm.  Please bring a reusable grocery bag. \nIf you have not yet registered you will need to show ID for yourself and anyone else in your household. \nIf there is a snow day (schools are cancelled) we will not be open.
URL:https://trinitysummerside.ca/event/trinity-food-box-program-2/2026-10-01/
END:VEVENT
BEGIN:VEVENT
DTSTART;TZID=Atlantic/Bermuda:20261001T130000
DTEND;TZID=Atlantic/Bermuda:20261001T150000
DTSTAMP:20260421T215100
CREATED:20251231T153310Z
LAST-MODIFIED:20260114T183009Z
UID:10010369-1790859600-1790866800@trinitysummerside.ca
SUMMARY:Silvertones Choir Rehearsal
DESCRIPTION:In the Sanctuary.
URL:https://trinitysummerside.ca/event/silvertones-choir-rehearsal/2026-10-01/
END:VEVENT
BEGIN:VEVENT
DTSTART;TZID=Atlantic/Bermuda:20261003T100000
DTEND;TZID=Atlantic/Bermuda:20261003T120000
DTSTAMP:20260421T215100
CREATED:20260120T163406Z
LAST-MODIFIED:20260120T163406Z
UID:10010444-1791021600-1791028800@trinitysummerside.ca
SUMMARY:Trinity Arts Group
DESCRIPTION:Usually in the auditorium following Feed My Sheep Breakfasts 10am or 9am on the Saturdays with no breakfasts.
URL:https://trinitysummerside.ca/event/trinity-arts-group/2026-10-03/
END:VEVENT
BEGIN:VEVENT
DTSTART;TZID=Atlantic/Bermuda:20261004T103000
DTEND;TZID=Atlantic/Bermuda:20261004T113000
DTSTAMP:20260421T215100
CREATED:20251219T170423Z
LAST-MODIFIED:20251222T182006Z
UID:10010197-1791109800-1791113400@trinitysummerside.ca
SUMMARY:Sunday Worship Service
DESCRIPTION:
URL:https://trinitysummerside.ca/event/sunday-worship-service/2026-10-04/
END:VEVENT
BEGIN:VEVENT
DTSTART;TZID=Atlantic/Bermuda:20261006T100000
DTEND;TZID=Atlantic/Bermuda:20261006T130000
DTSTAMP:20260421T215100
CREATED:20260206T153229Z
LAST-MODIFIED:20260206T153229Z
UID:10010882-1791280800-1791291600@trinitysummerside.ca
SUMMARY:Trinity Food Box Program
DESCRIPTION:Volunteers are able to see you between 10am and 1pm.  Please bring a reusable grocery bag. \nIf you have not yet registered you will need to show ID for yourself and anyone else in your household. \nIf there is a snow day (schools are cancelled) we will not be open.
URL:https://trinitysummerside.ca/event/trinity-food-box-program/2026-10-06/
END:VEVENT
BEGIN:VEVENT
DTSTART;TZID=Atlantic/Bermuda:20261008T120000
DTEND;TZID=Atlantic/Bermuda:20261008T150000
DTSTAMP:20260421T215100
CREATED:20260206T153339Z
LAST-MODIFIED:20260206T153339Z
UID:10010928-1791460800-1791471600@trinitysummerside.ca
SUMMARY:Trinity Food Box Program
DESCRIPTION:Volunteers are able to see you between 12pm and 3pm.  Please bring a reusable grocery bag. \nIf you have not yet registered you will need to show ID for yourself and anyone else in your household. \nIf there is a snow day (schools are cancelled) we will not be open.
URL:https://trinitysummerside.ca/event/trinity-food-box-program-2/2026-10-08/
END:VEVENT
BEGIN:VEVENT
DTSTART;TZID=Atlantic/Bermuda:20261008T130000
DTEND;TZID=Atlantic/Bermuda:20261008T150000
DTSTAMP:20260421T215100
CREATED:20251231T153310Z
LAST-MODIFIED:20260114T183009Z
UID:10010370-1791464400-1791471600@trinitysummerside.ca
SUMMARY:Silvertones Choir Rehearsal
DESCRIPTION:In the Sanctuary.
URL:https://trinitysummerside.ca/event/silvertones-choir-rehearsal/2026-10-08/
END:VEVENT
BEGIN:VEVENT
DTSTART;TZID=Atlantic/Bermuda:20261010T083000
DTEND;TZID=Atlantic/Bermuda:20261010T100000
DTSTAMP:20260421T215100
CREATED:20251231T152915Z
LAST-MODIFIED:20251231T152915Z
UID:10010221-1791621000-1791626400@trinitysummerside.ca
SUMMARY:Feed My Sheep Breakfast
DESCRIPTION:In the Auditorium.
URL:https://trinitysummerside.ca/event/feed-my-sheep-breakfast-4/2026-10-10/
END:VEVENT
BEGIN:VEVENT
DTSTART;TZID=Atlantic/Bermuda:20261010T100000
DTEND;TZID=Atlantic/Bermuda:20261010T120000
DTSTAMP:20260421T215100
CREATED:20260120T163406Z
LAST-MODIFIED:20260120T163406Z
UID:10010445-1791626400-1791633600@trinitysummerside.ca
SUMMARY:Trinity Arts Group
DESCRIPTION:Usually in the auditorium following Feed My Sheep Breakfasts 10am or 9am on the Saturdays with no breakfasts.
URL:https://trinitysummerside.ca/event/trinity-arts-group/2026-10-10/
END:VEVENT
BEGIN:VEVENT
DTSTART;TZID=Atlantic/Bermuda:20261011T103000
DTEND;TZID=Atlantic/Bermuda:20261011T113000
DTSTAMP:20260421T215100
CREATED:20251219T170423Z
LAST-MODIFIED:20251222T182006Z
UID:10010198-1791714600-1791718200@trinitysummerside.ca
SUMMARY:Sunday Worship Service
DESCRIPTION:
URL:https://trinitysummerside.ca/event/sunday-worship-service/2026-10-11/
END:VEVENT
BEGIN:VEVENT
DTSTART;TZID=Atlantic/Bermuda:20261013T100000
DTEND;TZID=Atlantic/Bermuda:20261013T130000
DTSTAMP:20260421T215100
CREATED:20260206T153229Z
LAST-MODIFIED:20260206T153229Z
UID:10010883-1791885600-1791896400@trinitysummerside.ca
SUMMARY:Trinity Food Box Program
DESCRIPTION:Volunteers are able to see you between 10am and 1pm.  Please bring a reusable grocery bag. \nIf you have not yet registered you will need to show ID for yourself and anyone else in your household. \nIf there is a snow day (schools are cancelled) we will not be open.
URL:https://trinitysummerside.ca/event/trinity-food-box-program/2026-10-13/
END:VEVENT
BEGIN:VEVENT
DTSTART;TZID=Atlantic/Bermuda:20261015T120000
DTEND;TZID=Atlantic/Bermuda:20261015T150000
DTSTAMP:20260421T215100
CREATED:20260206T153339Z
LAST-MODIFIED:20260206T153339Z
UID:10010929-1792065600-1792076400@trinitysummerside.ca
SUMMARY:Trinity Food Box Program
DESCRIPTION:Volunteers are able to see you between 12pm and 3pm.  Please bring a reusable grocery bag. \nIf you have not yet registered you will need to show ID for yourself and anyone else in your household. \nIf there is a snow day (schools are cancelled) we will not be open.
URL:https://trinitysummerside.ca/event/trinity-food-box-program-2/2026-10-15/
END:VEVENT
BEGIN:VEVENT
DTSTART;TZID=Atlantic/Bermuda:20261015T130000
DTEND;TZID=Atlantic/Bermuda:20261015T150000
DTSTAMP:20260421T215100
CREATED:20251231T153310Z
LAST-MODIFIED:20260114T183009Z
UID:10010371-1792069200-1792076400@trinitysummerside.ca
SUMMARY:Silvertones Choir Rehearsal
DESCRIPTION:In the Sanctuary.
URL:https://trinitysummerside.ca/event/silvertones-choir-rehearsal/2026-10-15/
END:VEVENT
BEGIN:VEVENT
DTSTART;TZID=Atlantic/Bermuda:20261017T100000
DTEND;TZID=Atlantic/Bermuda:20261017T120000
DTSTAMP:20260421T215100
CREATED:20260120T163406Z
LAST-MODIFIED:20260120T163406Z
UID:10010446-1792231200-1792238400@trinitysummerside.ca
SUMMARY:Trinity Arts Group
DESCRIPTION:Usually in the auditorium following Feed My Sheep Breakfasts 10am or 9am on the Saturdays with no breakfasts.
URL:https://trinitysummerside.ca/event/trinity-arts-group/2026-10-17/
END:VEVENT
BEGIN:VEVENT
DTSTART;TZID=Atlantic/Bermuda:20261018T103000
DTEND;TZID=Atlantic/Bermuda:20261018T113000
DTSTAMP:20260421T215100
CREATED:20251219T170423Z
LAST-MODIFIED:20251222T182006Z
UID:10010199-1792319400-1792323000@trinitysummerside.ca
SUMMARY:Sunday Worship Service
DESCRIPTION:
URL:https://trinitysummerside.ca/event/sunday-worship-service/2026-10-18/
END:VEVENT
BEGIN:VEVENT
DTSTART;TZID=Atlantic/Bermuda:20261020T100000
DTEND;TZID=Atlantic/Bermuda:20261020T130000
DTSTAMP:20260421T215100
CREATED:20260206T153229Z
LAST-MODIFIED:20260206T153229Z
UID:10010884-1792490400-1792501200@trinitysummerside.ca
SUMMARY:Trinity Food Box Program
DESCRIPTION:Volunteers are able to see you between 10am and 1pm.  Please bring a reusable grocery bag. \nIf you have not yet registered you will need to show ID for yourself and anyone else in your household. \nIf there is a snow day (schools are cancelled) we will not be open.
URL:https://trinitysummerside.ca/event/trinity-food-box-program/2026-10-20/
END:VEVENT
BEGIN:VEVENT
DTSTART;TZID=Atlantic/Bermuda:20261022T120000
DTEND;TZID=Atlantic/Bermuda:20261022T150000
DTSTAMP:20260421T215100
CREATED:20260206T153339Z
LAST-MODIFIED:20260206T153339Z
UID:10010930-1792670400-1792681200@trinitysummerside.ca
SUMMARY:Trinity Food Box Program
DESCRIPTION:Volunteers are able to see you between 12pm and 3pm.  Please bring a reusable grocery bag. \nIf you have not yet registered you will need to show ID for yourself and anyone else in your household. \nIf there is a snow day (schools are cancelled) we will not be open.
URL:https://trinitysummerside.ca/event/trinity-food-box-program-2/2026-10-22/
END:VEVENT
BEGIN:VEVENT
DTSTART;TZID=Atlantic/Bermuda:20261022T130000
DTEND;TZID=Atlantic/Bermuda:20261022T150000
DTSTAMP:20260421T215100
CREATED:20251231T153310Z
LAST-MODIFIED:20260114T183009Z
UID:10010372-1792674000-1792681200@trinitysummerside.ca
SUMMARY:Silvertones Choir Rehearsal
DESCRIPTION:In the Sanctuary.
URL:https://trinitysummerside.ca/event/silvertones-choir-rehearsal/2026-10-22/
END:VEVENT
BEGIN:VEVENT
DTSTART;TZID=Atlantic/Bermuda:20261024T083000
DTEND;TZID=Atlantic/Bermuda:20261024T100000
DTSTAMP:20260421T215100
CREATED:20251231T153012Z
LAST-MODIFIED:20251231T153012Z
UID:10010281-1792830600-1792836000@trinitysummerside.ca
SUMMARY:Feed My Sheep Breakfast
DESCRIPTION:In the Auditorium.
URL:https://trinitysummerside.ca/event/feed-my-sheep-breakfast-5/2026-10-24/
END:VEVENT
BEGIN:VEVENT
DTSTART;TZID=Atlantic/Bermuda:20261024T100000
DTEND;TZID=Atlantic/Bermuda:20261024T120000
DTSTAMP:20260421T215100
CREATED:20260120T163406Z
LAST-MODIFIED:20260120T163406Z
UID:10010447-1792836000-1792843200@trinitysummerside.ca
SUMMARY:Trinity Arts Group
DESCRIPTION:Usually in the auditorium following Feed My Sheep Breakfasts 10am or 9am on the Saturdays with no breakfasts.
URL:https://trinitysummerside.ca/event/trinity-arts-group/2026-10-24/
END:VEVENT
BEGIN:VEVENT
DTSTART;TZID=Atlantic/Bermuda:20261025T103000
DTEND;TZID=Atlantic/Bermuda:20261025T113000
DTSTAMP:20260421T215100
CREATED:20251219T170423Z
LAST-MODIFIED:20251222T182006Z
UID:10010200-1792924200-1792927800@trinitysummerside.ca
SUMMARY:Sunday Worship Service
DESCRIPTION:
URL:https://trinitysummerside.ca/event/sunday-worship-service/2026-10-25/
END:VEVENT
BEGIN:VEVENT
DTSTART;TZID=Atlantic/Bermuda:20261027T100000
DTEND;TZID=Atlantic/Bermuda:20261027T130000
DTSTAMP:20260421T215100
CREATED:20260206T153229Z
LAST-MODIFIED:20260206T153229Z
UID:10010885-1793095200-1793106000@trinitysummerside.ca
SUMMARY:Trinity Food Box Program
DESCRIPTION:Volunteers are able to see you between 10am and 1pm.  Please bring a reusable grocery bag. \nIf you have not yet registered you will need to show ID for yourself and anyone else in your household. \nIf there is a snow day (schools are cancelled) we will not be open.
URL:https://trinitysummerside.ca/event/trinity-food-box-program/2026-10-27/
END:VEVENT
BEGIN:VEVENT
DTSTART;TZID=Atlantic/Bermuda:20261029T120000
DTEND;TZID=Atlantic/Bermuda:20261029T150000
DTSTAMP:20260421T215100
CREATED:20260206T153339Z
LAST-MODIFIED:20260206T153339Z
UID:10010931-1793275200-1793286000@trinitysummerside.ca
SUMMARY:Trinity Food Box Program
DESCRIPTION:Volunteers are able to see you between 12pm and 3pm.  Please bring a reusable grocery bag. \nIf you have not yet registered you will need to show ID for yourself and anyone else in your household. \nIf there is a snow day (schools are cancelled) we will not be open.
URL:https://trinitysummerside.ca/event/trinity-food-box-program-2/2026-10-29/
END:VEVENT
BEGIN:VEVENT
DTSTART;TZID=Atlantic/Bermuda:20261029T130000
DTEND;TZID=Atlantic/Bermuda:20261029T150000
DTSTAMP:20260421T215100
CREATED:20251231T153310Z
LAST-MODIFIED:20260114T183009Z
UID:10010373-1793278800-1793286000@trinitysummerside.ca
SUMMARY:Silvertones Choir Rehearsal
DESCRIPTION:In the Sanctuary.
URL:https://trinitysummerside.ca/event/silvertones-choir-rehearsal/2026-10-29/
END:VEVENT
BEGIN:VEVENT
DTSTART;TZID=Atlantic/Bermuda:20261031T100000
DTEND;TZID=Atlantic/Bermuda:20261031T120000
DTSTAMP:20260421T215100
CREATED:20260120T163406Z
LAST-MODIFIED:20260120T163406Z
UID:10010448-1793440800-1793448000@trinitysummerside.ca
SUMMARY:Trinity Arts Group
DESCRIPTION:Usually in the auditorium following Feed My Sheep Breakfasts 10am or 9am on the Saturdays with no breakfasts.
URL:https://trinitysummerside.ca/event/trinity-arts-group/2026-10-31/
END:VEVENT
BEGIN:VEVENT
DTSTART;TZID=Atlantic/Bermuda:20261101T103000
DTEND;TZID=Atlantic/Bermuda:20261101T113000
DTSTAMP:20260421T215100
CREATED:20251219T170423Z
LAST-MODIFIED:20251222T182006Z
UID:10010201-1793529000-1793532600@trinitysummerside.ca
SUMMARY:Sunday Worship Service
DESCRIPTION:
URL:https://trinitysummerside.ca/event/sunday-worship-service/2026-11-01/
END:VEVENT
BEGIN:VEVENT
DTSTART;TZID=Atlantic/Bermuda:20261103T100000
DTEND;TZID=Atlantic/Bermuda:20261103T130000
DTSTAMP:20260421T215100
CREATED:20260206T153229Z
LAST-MODIFIED:20260206T153229Z
UID:10010886-1793700000-1793710800@trinitysummerside.ca
SUMMARY:Trinity Food Box Program
DESCRIPTION:Volunteers are able to see you between 10am and 1pm.  Please bring a reusable grocery bag. \nIf you have not yet registered you will need to show ID for yourself and anyone else in your household. \nIf there is a snow day (schools are cancelled) we will not be open.
URL:https://trinitysummerside.ca/event/trinity-food-box-program/2026-11-03/
END:VEVENT
END:VCALENDAR