BEGIN:VCALENDAR
VERSION:2.0
PRODID:-//Trinity United Church Summerside - ECPv6.15.20//NONSGML v1.0//EN
CALSCALE:GREGORIAN
METHOD:PUBLISH
X-WR-CALNAME:Trinity United Church Summerside
X-ORIGINAL-URL:https://trinitysummerside.ca
X-WR-CALDESC:Events for Trinity United Church Summerside
REFRESH-INTERVAL;VALUE=DURATION:PT1H
X-Robots-Tag:noindex
X-PUBLISHED-TTL:PT1H
BEGIN:VTIMEZONE
TZID:Atlantic/Bermuda
BEGIN:DAYLIGHT
TZOFFSETFROM:-0400
TZOFFSETTO:-0300
TZNAME:ADT
DTSTART:20250309T060000
END:DAYLIGHT
BEGIN:STANDARD
TZOFFSETFROM:-0300
TZOFFSETTO:-0400
TZNAME:AST
DTSTART:20251102T050000
END:STANDARD
BEGIN:DAYLIGHT
TZOFFSETFROM:-0400
TZOFFSETTO:-0300
TZNAME:ADT
DTSTART:20260308T060000
END:DAYLIGHT
BEGIN:STANDARD
TZOFFSETFROM:-0300
TZOFFSETTO:-0400
TZNAME:AST
DTSTART:20261101T050000
END:STANDARD
BEGIN:DAYLIGHT
TZOFFSETFROM:-0400
TZOFFSETTO:-0300
TZNAME:ADT
DTSTART:20270314T060000
END:DAYLIGHT
BEGIN:STANDARD
TZOFFSETFROM:-0300
TZOFFSETTO:-0400
TZNAME:AST
DTSTART:20271107T050000
END:STANDARD
END:VTIMEZONE
BEGIN:VEVENT
DTSTART;TZID=Atlantic/Bermuda:20260408T160000
DTEND;TZID=Atlantic/Bermuda:20260408T170000
DTSTAMP:20260421T161715
CREATED:20260319T170454Z
LAST-MODIFIED:20260319T170454Z
UID:10010966-1775664000-1775667600@trinitysummerside.ca
SUMMARY:Property Team Meeting
DESCRIPTION:Boardroom
URL:https://trinitysummerside.ca/event/property-team-meeting-2/
END:VEVENT
BEGIN:VEVENT
DTSTART;TZID=Atlantic/Bermuda:20260408T174500
DTEND;TZID=Atlantic/Bermuda:20260408T200000
DTSTAMP:20260421T161715
CREATED:20260203T141757Z
LAST-MODIFIED:20260203T141757Z
UID:10010822-1775670300-1775678400@trinitysummerside.ca
SUMMARY:Choir rehearsals
DESCRIPTION:Hand Bell Choir 5:45pm \nTrinity Choir 7pm
URL:https://trinitysummerside.ca/event/choir-rehearsals-2/2026-04-08/
END:VEVENT
BEGIN:VEVENT
DTSTART;TZID=Atlantic/Bermuda:20260409T120000
DTEND;TZID=Atlantic/Bermuda:20260409T150000
DTSTAMP:20260421T161715
CREATED:20260206T153339Z
LAST-MODIFIED:20260206T153339Z
UID:10010902-1775736000-1775746800@trinitysummerside.ca
SUMMARY:Trinity Food Box Program
DESCRIPTION:Volunteers are able to see you between 12pm and 3pm.  Please bring a reusable grocery bag. \nIf you have not yet registered you will need to show ID for yourself and anyone else in your household. \nIf there is a snow day (schools are cancelled) we will not be open.
URL:https://trinitysummerside.ca/event/trinity-food-box-program-2/2026-04-09/
END:VEVENT
BEGIN:VEVENT
DTSTART;TZID=Atlantic/Bermuda:20260409T130000
DTEND;TZID=Atlantic/Bermuda:20260409T150000
DTSTAMP:20260421T161715
CREATED:20251231T153310Z
LAST-MODIFIED:20260114T183009Z
UID:10010344-1775739600-1775746800@trinitysummerside.ca
SUMMARY:Silvertones Choir Rehearsal
DESCRIPTION:In the Sanctuary.
URL:https://trinitysummerside.ca/event/silvertones-choir-rehearsal/2026-04-09/
END:VEVENT
BEGIN:VEVENT
DTSTART;TZID=Atlantic/Bermuda:20260411T083000
DTEND;TZID=Atlantic/Bermuda:20260411T100000
DTSTAMP:20260421T161715
CREATED:20251231T152915Z
LAST-MODIFIED:20251231T152915Z
UID:10010215-1775896200-1775901600@trinitysummerside.ca
SUMMARY:Feed My Sheep Breakfast
DESCRIPTION:In the Auditorium.
URL:https://trinitysummerside.ca/event/feed-my-sheep-breakfast-4/2026-04-11/
END:VEVENT
BEGIN:VEVENT
DTSTART;TZID=Atlantic/Bermuda:20260411T100000
DTEND;TZID=Atlantic/Bermuda:20260411T120000
DTSTAMP:20260421T161715
CREATED:20260120T163406Z
LAST-MODIFIED:20260120T163406Z
UID:10010419-1775901600-1775908800@trinitysummerside.ca
SUMMARY:Trinity Arts Group
DESCRIPTION:Usually in the auditorium following Feed My Sheep Breakfasts 10am or 9am on the Saturdays with no breakfasts.
URL:https://trinitysummerside.ca/event/trinity-arts-group/2026-04-11/
END:VEVENT
BEGIN:VEVENT
DTSTART;TZID=Atlantic/Bermuda:20260412T103000
DTEND;TZID=Atlantic/Bermuda:20260412T113000
DTSTAMP:20260421T161715
CREATED:20251219T170423Z
LAST-MODIFIED:20251222T182006Z
UID:10010172-1775989800-1775993400@trinitysummerside.ca
SUMMARY:Sunday Worship Service
DESCRIPTION:
URL:https://trinitysummerside.ca/event/sunday-worship-service/2026-04-12/
END:VEVENT
BEGIN:VEVENT
DTSTART;TZID=Atlantic/Bermuda:20260413T130000
DTEND;TZID=Atlantic/Bermuda:20260413T150000
DTSTAMP:20260421T161715
CREATED:20260319T170629Z
LAST-MODIFIED:20260319T170629Z
UID:10010967-1776085200-1776092400@trinitysummerside.ca
SUMMARY:Private rental - Boardroom
DESCRIPTION:
URL:https://trinitysummerside.ca/event/private-rental-boardroom/2026-04-13/
END:VEVENT
BEGIN:VEVENT
DTSTART;TZID=Atlantic/Bermuda:20260414T100000
DTEND;TZID=Atlantic/Bermuda:20260414T130000
DTSTAMP:20260421T161715
CREATED:20260206T153229Z
LAST-MODIFIED:20260206T153229Z
UID:10010857-1776160800-1776171600@trinitysummerside.ca
SUMMARY:Trinity Food Box Program
DESCRIPTION:Volunteers are able to see you between 10am and 1pm.  Please bring a reusable grocery bag. \nIf you have not yet registered you will need to show ID for yourself and anyone else in your household. \nIf there is a snow day (schools are cancelled) we will not be open.
URL:https://trinitysummerside.ca/event/trinity-food-box-program/2026-04-14/
END:VEVENT
BEGIN:VEVENT
DTSTART;TZID=Atlantic/Bermuda:20260414T150000
DTEND;TZID=Atlantic/Bermuda:20260414T160000
DTSTAMP:20260421T161715
CREATED:20260319T171118Z
LAST-MODIFIED:20260319T171118Z
UID:10010975-1776178800-1776182400@trinitysummerside.ca
SUMMARY:Faith in Action meeting
DESCRIPTION:Auditorium
URL:https://trinitysummerside.ca/event/faith-in-action-meeting/
END:VEVENT
BEGIN:VEVENT
DTSTART;TZID=Atlantic/Bermuda:20260415T080000
DTEND;TZID=Atlantic/Bermuda:20260415T090000
DTSTAMP:20260421T161715
CREATED:20260120T163630Z
LAST-MODIFIED:20260120T163810Z
UID:10010681-1776240000-1776243600@trinitysummerside.ca
SUMMARY:Women's Breakfasts
DESCRIPTION:Waterfront Café at Holland College campus.
URL:https://trinitysummerside.ca/event/womens-breakfasts/2026-04-15/
END:VEVENT
BEGIN:VEVENT
DTSTART;TZID=Atlantic/Bermuda:20260415T080000
DTEND;TZID=Atlantic/Bermuda:20260415T090000
DTSTAMP:20260421T161715
CREATED:20260120T163740Z
LAST-MODIFIED:20260120T163740Z
UID:10010729-1776240000-1776243600@trinitysummerside.ca
SUMMARY:Men's Breakfasts
DESCRIPTION:Seashell Café (26152 Route 2)
URL:https://trinitysummerside.ca/event/mens-breakfasts/2026-04-15/
END:VEVENT
BEGIN:VEVENT
DTSTART;TZID=Atlantic/Bermuda:20260415T174500
DTEND;TZID=Atlantic/Bermuda:20260415T200000
DTSTAMP:20260421T161715
CREATED:20260203T141757Z
LAST-MODIFIED:20260203T141757Z
UID:10010823-1776275100-1776283200@trinitysummerside.ca
SUMMARY:Choir rehearsals
DESCRIPTION:Hand Bell Choir 5:45pm \nTrinity Choir 7pm
URL:https://trinitysummerside.ca/event/choir-rehearsals-2/2026-04-15/
END:VEVENT
BEGIN:VEVENT
DTSTART;TZID=Atlantic/Bermuda:20260416T093000
DTEND;TZID=Atlantic/Bermuda:20260416T103000
DTSTAMP:20260421T161715
CREATED:20260409T121446Z
LAST-MODIFIED:20260409T121446Z
UID:10010987-1776331800-1776335400@trinitysummerside.ca
SUMMARY:Trinity Café
DESCRIPTION:Holy Communion & UCC –\nMatthew 26:26-28\, Mark 14:22-24\, Luke 22:17-20 (April 16)\nThe Beatitudes – Matthew 5:1-12\n•\nBeatitudes Part One: Set Up of the Study (April 23)\n•\nBeatitudes Part Two: Poor In Spirit & Those Who Mourn (April 30)\n•\nBeatitudes Part Three: The Meek & Justice Seekers (May 7)\n•\nBeatitudes Part Four: The Merciful & Pure in Heart (May 14)\n•\nBeatitudes Part Five: Peace Makers & Those Persecuted (May 21)\n•\nBeatitudes Part Six: Full Review of Beatitudes (May 28)
URL:https://trinitysummerside.ca/event/trinity-cafe/2026-04-16/
END:VEVENT
BEGIN:VEVENT
DTSTART;TZID=Atlantic/Bermuda:20260416T120000
DTEND;TZID=Atlantic/Bermuda:20260416T150000
DTSTAMP:20260421T161715
CREATED:20260206T153339Z
LAST-MODIFIED:20260206T153339Z
UID:10010903-1776340800-1776351600@trinitysummerside.ca
SUMMARY:Trinity Food Box Program
DESCRIPTION:Volunteers are able to see you between 12pm and 3pm.  Please bring a reusable grocery bag. \nIf you have not yet registered you will need to show ID for yourself and anyone else in your household. \nIf there is a snow day (schools are cancelled) we will not be open.
URL:https://trinitysummerside.ca/event/trinity-food-box-program-2/2026-04-16/
END:VEVENT
BEGIN:VEVENT
DTSTART;TZID=Atlantic/Bermuda:20260416T130000
DTEND;TZID=Atlantic/Bermuda:20260416T150000
DTSTAMP:20260421T161715
CREATED:20251231T153310Z
LAST-MODIFIED:20260114T183009Z
UID:10010345-1776344400-1776351600@trinitysummerside.ca
SUMMARY:Silvertones Choir Rehearsal
DESCRIPTION:In the Sanctuary.
URL:https://trinitysummerside.ca/event/silvertones-choir-rehearsal/2026-04-16/
END:VEVENT
BEGIN:VEVENT
DTSTART;TZID=Atlantic/Bermuda:20260418T100000
DTEND;TZID=Atlantic/Bermuda:20260418T120000
DTSTAMP:20260421T161715
CREATED:20260120T163406Z
LAST-MODIFIED:20260120T163406Z
UID:10010420-1776506400-1776513600@trinitysummerside.ca
SUMMARY:Trinity Arts Group
DESCRIPTION:Usually in the auditorium following Feed My Sheep Breakfasts 10am or 9am on the Saturdays with no breakfasts.
URL:https://trinitysummerside.ca/event/trinity-arts-group/2026-04-18/
END:VEVENT
BEGIN:VEVENT
DTSTART;TZID=Atlantic/Bermuda:20260419T103000
DTEND;TZID=Atlantic/Bermuda:20260419T113000
DTSTAMP:20260421T161715
CREATED:20251219T170423Z
LAST-MODIFIED:20251222T182006Z
UID:10010173-1776594600-1776598200@trinitysummerside.ca
SUMMARY:Sunday Worship Service
DESCRIPTION:
URL:https://trinitysummerside.ca/event/sunday-worship-service/2026-04-19/
END:VEVENT
BEGIN:VEVENT
DTSTART;TZID=Atlantic/Bermuda:20260419T113000
DTEND;TZID=Atlantic/Bermuda:20260419T123000
DTSTAMP:20260421T161715
CREATED:20260319T171222Z
LAST-MODIFIED:20260319T171222Z
UID:10010976-1776598200-1776601800@trinitysummerside.ca
SUMMARY:Tea\, Coffee and Conversation in Auditorium
DESCRIPTION:Put on by the Pastoral Team
URL:https://trinitysummerside.ca/event/tea-coffee-and-conversation-in-auditorium/
END:VEVENT
BEGIN:VEVENT
DTSTART;TZID=Atlantic/Bermuda:20260420T130000
DTEND;TZID=Atlantic/Bermuda:20260420T150000
DTSTAMP:20260421T161715
CREATED:20260319T170629Z
LAST-MODIFIED:20260319T170629Z
UID:10010968-1776690000-1776697200@trinitysummerside.ca
SUMMARY:Private rental - Boardroom
DESCRIPTION:
URL:https://trinitysummerside.ca/event/private-rental-boardroom/2026-04-20/
END:VEVENT
BEGIN:VEVENT
DTSTART;TZID=Atlantic/Bermuda:20260421T100000
DTEND;TZID=Atlantic/Bermuda:20260421T130000
DTSTAMP:20260421T161715
CREATED:20260206T153229Z
LAST-MODIFIED:20260206T153229Z
UID:10010858-1776765600-1776776400@trinitysummerside.ca
SUMMARY:Trinity Food Box Program
DESCRIPTION:Volunteers are able to see you between 10am and 1pm.  Please bring a reusable grocery bag. \nIf you have not yet registered you will need to show ID for yourself and anyone else in your household. \nIf there is a snow day (schools are cancelled) we will not be open.
URL:https://trinitysummerside.ca/event/trinity-food-box-program/2026-04-21/
END:VEVENT
BEGIN:VEVENT
DTSTART;TZID=Atlantic/Bermuda:20260421T113000
DTEND;TZID=Atlantic/Bermuda:20260421T130000
DTSTAMP:20260421T161715
CREATED:20260319T171653Z
LAST-MODIFIED:20260319T171653Z
UID:10010977-1776771000-1776776400@trinitysummerside.ca
SUMMARY:Trinity Ladies Luncheon @ 5Eleven West
DESCRIPTION:
URL:https://trinitysummerside.ca/event/trinity-ladies-luncheon-5eleven-west/
END:VEVENT
BEGIN:VEVENT
DTSTART;TZID=Atlantic/Bermuda:20260422T080000
DTEND;TZID=Atlantic/Bermuda:20260422T090000
DTSTAMP:20260421T161715
CREATED:20260120T163630Z
LAST-MODIFIED:20260120T163810Z
UID:10010682-1776844800-1776848400@trinitysummerside.ca
SUMMARY:Women's Breakfasts
DESCRIPTION:Waterfront Café at Holland College campus.
URL:https://trinitysummerside.ca/event/womens-breakfasts/2026-04-22/
END:VEVENT
BEGIN:VEVENT
DTSTART;TZID=Atlantic/Bermuda:20260422T080000
DTEND;TZID=Atlantic/Bermuda:20260422T090000
DTSTAMP:20260421T161715
CREATED:20260120T163740Z
LAST-MODIFIED:20260120T163740Z
UID:10010730-1776844800-1776848400@trinitysummerside.ca
SUMMARY:Men's Breakfasts
DESCRIPTION:Seashell Café (26152 Route 2)
URL:https://trinitysummerside.ca/event/mens-breakfasts/2026-04-22/
END:VEVENT
BEGIN:VEVENT
DTSTART;TZID=Atlantic/Bermuda:20260422T133000
DTEND;TZID=Atlantic/Bermuda:20260422T140000
DTSTAMP:20260421T161715
CREATED:20260319T171738Z
LAST-MODIFIED:20260319T171738Z
UID:10010978-1776864600-1776866400@trinitysummerside.ca
SUMMARY:Wedgewood Manor service
DESCRIPTION:
URL:https://trinitysummerside.ca/event/wedgewood-manor-service-3/
END:VEVENT
BEGIN:VEVENT
DTSTART;TZID=Atlantic/Bermuda:20260422T143000
DTEND;TZID=Atlantic/Bermuda:20260422T153000
DTSTAMP:20260421T161715
CREATED:20260319T171803Z
LAST-MODIFIED:20260319T171803Z
UID:10010979-1776868200-1776871800@trinitysummerside.ca
SUMMARY:Staff Meeting - Boardroom and Zoom
DESCRIPTION:
URL:https://trinitysummerside.ca/event/staff-meeting-boardroom-and-zoom/
END:VEVENT
BEGIN:VEVENT
DTSTART;TZID=Atlantic/Bermuda:20260422T174500
DTEND;TZID=Atlantic/Bermuda:20260422T200000
DTSTAMP:20260421T161715
CREATED:20260203T141757Z
LAST-MODIFIED:20260203T141757Z
UID:10010824-1776879900-1776888000@trinitysummerside.ca
SUMMARY:Choir rehearsals
DESCRIPTION:Hand Bell Choir 5:45pm \nTrinity Choir 7pm
URL:https://trinitysummerside.ca/event/choir-rehearsals-2/2026-04-22/
END:VEVENT
BEGIN:VEVENT
DTSTART;TZID=Atlantic/Bermuda:20260423T093000
DTEND;TZID=Atlantic/Bermuda:20260423T103000
DTSTAMP:20260421T161715
CREATED:20260409T121446Z
LAST-MODIFIED:20260409T121446Z
UID:10010988-1776936600-1776940200@trinitysummerside.ca
SUMMARY:Trinity Café
DESCRIPTION:Holy Communion & UCC –\nMatthew 26:26-28\, Mark 14:22-24\, Luke 22:17-20 (April 16)\nThe Beatitudes – Matthew 5:1-12\n•\nBeatitudes Part One: Set Up of the Study (April 23)\n•\nBeatitudes Part Two: Poor In Spirit & Those Who Mourn (April 30)\n•\nBeatitudes Part Three: The Meek & Justice Seekers (May 7)\n•\nBeatitudes Part Four: The Merciful & Pure in Heart (May 14)\n•\nBeatitudes Part Five: Peace Makers & Those Persecuted (May 21)\n•\nBeatitudes Part Six: Full Review of Beatitudes (May 28)
URL:https://trinitysummerside.ca/event/trinity-cafe/2026-04-23/
END:VEVENT
BEGIN:VEVENT
DTSTART;TZID=Atlantic/Bermuda:20260423T120000
DTEND;TZID=Atlantic/Bermuda:20260423T150000
DTSTAMP:20260421T161715
CREATED:20260206T153339Z
LAST-MODIFIED:20260206T153339Z
UID:10010904-1776945600-1776956400@trinitysummerside.ca
SUMMARY:Trinity Food Box Program
DESCRIPTION:Volunteers are able to see you between 12pm and 3pm.  Please bring a reusable grocery bag. \nIf you have not yet registered you will need to show ID for yourself and anyone else in your household. \nIf there is a snow day (schools are cancelled) we will not be open.
URL:https://trinitysummerside.ca/event/trinity-food-box-program-2/2026-04-23/
END:VEVENT
BEGIN:VEVENT
DTSTART;TZID=Atlantic/Bermuda:20260423T130000
DTEND;TZID=Atlantic/Bermuda:20260423T150000
DTSTAMP:20260421T161715
CREATED:20251231T153310Z
LAST-MODIFIED:20260114T183009Z
UID:10010346-1776949200-1776956400@trinitysummerside.ca
SUMMARY:Silvertones Choir Rehearsal
DESCRIPTION:In the Sanctuary.
URL:https://trinitysummerside.ca/event/silvertones-choir-rehearsal/2026-04-23/
END:VEVENT
END:VCALENDAR