BEGIN:VCALENDAR
VERSION:2.0
PRODID:-//Trinity United Church Summerside - ECPv6.15.20//NONSGML v1.0//EN
CALSCALE:GREGORIAN
METHOD:PUBLISH
X-ORIGINAL-URL:https://trinitysummerside.ca
X-WR-CALDESC:Events for Trinity United Church Summerside
REFRESH-INTERVAL;VALUE=DURATION:PT1H
X-Robots-Tag:noindex
X-PUBLISHED-TTL:PT1H
BEGIN:VTIMEZONE
TZID:Atlantic/Bermuda
BEGIN:DAYLIGHT
TZOFFSETFROM:-0400
TZOFFSETTO:-0300
TZNAME:ADT
DTSTART:20290311T060000
END:DAYLIGHT
BEGIN:STANDARD
TZOFFSETFROM:-0300
TZOFFSETTO:-0400
TZNAME:AST
DTSTART:20291104T050000
END:STANDARD
BEGIN:DAYLIGHT
TZOFFSETFROM:-0400
TZOFFSETTO:-0300
TZNAME:ADT
DTSTART:20300310T060000
END:DAYLIGHT
BEGIN:STANDARD
TZOFFSETFROM:-0300
TZOFFSETTO:-0400
TZNAME:AST
DTSTART:20301103T050000
END:STANDARD
BEGIN:DAYLIGHT
TZOFFSETFROM:-0400
TZOFFSETTO:-0300
TZNAME:ADT
DTSTART:20310309T060000
END:DAYLIGHT
BEGIN:STANDARD
TZOFFSETFROM:-0300
TZOFFSETTO:-0400
TZNAME:AST
DTSTART:20311102T050000
END:STANDARD
BEGIN:DAYLIGHT
TZOFFSETFROM:-0400
TZOFFSETTO:-0300
TZNAME:ADT
DTSTART:20320314T060000
END:DAYLIGHT
BEGIN:STANDARD
TZOFFSETFROM:-0300
TZOFFSETTO:-0400
TZNAME:AST
DTSTART:20321107T050000
END:STANDARD
END:VTIMEZONE
BEGIN:VEVENT
DTSTART;TZID=Atlantic/Bermuda:20301116T100000
DTEND;TZID=Atlantic/Bermuda:20301116T120000
DTSTAMP:20260423T075908
CREATED:20260120T163406Z
LAST-MODIFIED:20260120T163406Z
UID:10010659-1921053600-1921060800@trinitysummerside.ca
SUMMARY:Trinity Arts Group
DESCRIPTION:Usually in the auditorium following Feed My Sheep Breakfasts 10am or 9am on the Saturdays with no breakfasts.
URL:https://trinitysummerside.ca/event/trinity-arts-group/2030-11-16/
END:VEVENT
BEGIN:VEVENT
DTSTART;TZID=Atlantic/Bermuda:20301123T083000
DTEND;TZID=Atlantic/Bermuda:20301123T100000
DTSTAMP:20260423T075908
CREATED:20251231T153012Z
LAST-MODIFIED:20251231T153012Z
UID:10010330-1921653000-1921658400@trinitysummerside.ca
SUMMARY:Feed My Sheep Breakfast
DESCRIPTION:In the Auditorium.
URL:https://trinitysummerside.ca/event/feed-my-sheep-breakfast-5/2030-11-23/
END:VEVENT
BEGIN:VEVENT
DTSTART;TZID=Atlantic/Bermuda:20301123T100000
DTEND;TZID=Atlantic/Bermuda:20301123T120000
DTSTAMP:20260423T075908
CREATED:20260120T163406Z
LAST-MODIFIED:20260120T163406Z
UID:10010660-1921658400-1921665600@trinitysummerside.ca
SUMMARY:Trinity Arts Group
DESCRIPTION:Usually in the auditorium following Feed My Sheep Breakfasts 10am or 9am on the Saturdays with no breakfasts.
URL:https://trinitysummerside.ca/event/trinity-arts-group/2030-11-23/
END:VEVENT
BEGIN:VEVENT
DTSTART;TZID=Atlantic/Bermuda:20301130T100000
DTEND;TZID=Atlantic/Bermuda:20301130T120000
DTSTAMP:20260423T075908
CREATED:20260120T163406Z
LAST-MODIFIED:20260120T163406Z
UID:10010661-1922263200-1922270400@trinitysummerside.ca
SUMMARY:Trinity Arts Group
DESCRIPTION:Usually in the auditorium following Feed My Sheep Breakfasts 10am or 9am on the Saturdays with no breakfasts.
URL:https://trinitysummerside.ca/event/trinity-arts-group/2030-11-30/
END:VEVENT
BEGIN:VEVENT
DTSTART;TZID=Atlantic/Bermuda:20301207T100000
DTEND;TZID=Atlantic/Bermuda:20301207T120000
DTSTAMP:20260423T075908
CREATED:20260120T163406Z
LAST-MODIFIED:20260120T163406Z
UID:10010662-1922868000-1922875200@trinitysummerside.ca
SUMMARY:Trinity Arts Group
DESCRIPTION:Usually in the auditorium following Feed My Sheep Breakfasts 10am or 9am on the Saturdays with no breakfasts.
URL:https://trinitysummerside.ca/event/trinity-arts-group/2030-12-07/
END:VEVENT
BEGIN:VEVENT
DTSTART;TZID=Atlantic/Bermuda:20301214T083000
DTEND;TZID=Atlantic/Bermuda:20301214T100000
DTSTAMP:20260423T075908
CREATED:20251231T152915Z
LAST-MODIFIED:20251231T152915Z
UID:10010271-1923467400-1923472800@trinitysummerside.ca
SUMMARY:Feed My Sheep Breakfast
DESCRIPTION:In the Auditorium.
URL:https://trinitysummerside.ca/event/feed-my-sheep-breakfast-4/2030-12-14/
END:VEVENT
BEGIN:VEVENT
DTSTART;TZID=Atlantic/Bermuda:20301214T100000
DTEND;TZID=Atlantic/Bermuda:20301214T120000
DTSTAMP:20260423T075908
CREATED:20260120T163406Z
LAST-MODIFIED:20260120T163406Z
UID:10010663-1923472800-1923480000@trinitysummerside.ca
SUMMARY:Trinity Arts Group
DESCRIPTION:Usually in the auditorium following Feed My Sheep Breakfasts 10am or 9am on the Saturdays with no breakfasts.
URL:https://trinitysummerside.ca/event/trinity-arts-group/2030-12-14/
END:VEVENT
BEGIN:VEVENT
DTSTART;TZID=Atlantic/Bermuda:20301221T100000
DTEND;TZID=Atlantic/Bermuda:20301221T120000
DTSTAMP:20260423T075908
CREATED:20260120T163406Z
LAST-MODIFIED:20260120T163406Z
UID:10010664-1924077600-1924084800@trinitysummerside.ca
SUMMARY:Trinity Arts Group
DESCRIPTION:Usually in the auditorium following Feed My Sheep Breakfasts 10am or 9am on the Saturdays with no breakfasts.
URL:https://trinitysummerside.ca/event/trinity-arts-group/2030-12-21/
END:VEVENT
BEGIN:VEVENT
DTSTART;TZID=Atlantic/Bermuda:20301228T083000
DTEND;TZID=Atlantic/Bermuda:20301228T100000
DTSTAMP:20260423T075908
CREATED:20251231T153012Z
LAST-MODIFIED:20251231T153012Z
UID:10010331-1924677000-1924682400@trinitysummerside.ca
SUMMARY:Feed My Sheep Breakfast
DESCRIPTION:In the Auditorium.
URL:https://trinitysummerside.ca/event/feed-my-sheep-breakfast-5/2030-12-28/
END:VEVENT
BEGIN:VEVENT
DTSTART;TZID=Atlantic/Bermuda:20301228T100000
DTEND;TZID=Atlantic/Bermuda:20301228T120000
DTSTAMP:20260423T075908
CREATED:20260120T163406Z
LAST-MODIFIED:20260120T163406Z
UID:10010665-1924682400-1924689600@trinitysummerside.ca
SUMMARY:Trinity Arts Group
DESCRIPTION:Usually in the auditorium following Feed My Sheep Breakfasts 10am or 9am on the Saturdays with no breakfasts.
URL:https://trinitysummerside.ca/event/trinity-arts-group/2030-12-28/
END:VEVENT
BEGIN:VEVENT
DTSTART;TZID=Atlantic/Bermuda:20310104T100000
DTEND;TZID=Atlantic/Bermuda:20310104T120000
DTSTAMP:20260423T075908
CREATED:20260120T163406Z
LAST-MODIFIED:20260120T163406Z
UID:10010666-1925287200-1925294400@trinitysummerside.ca
SUMMARY:Trinity Arts Group
DESCRIPTION:Usually in the auditorium following Feed My Sheep Breakfasts 10am or 9am on the Saturdays with no breakfasts.
URL:https://trinitysummerside.ca/event/trinity-arts-group/2031-01-04/
END:VEVENT
BEGIN:VEVENT
DTSTART;TZID=Atlantic/Bermuda:20310111T100000
DTEND;TZID=Atlantic/Bermuda:20310111T120000
DTSTAMP:20260423T075908
CREATED:20260120T163406Z
LAST-MODIFIED:20260120T163406Z
UID:10010667-1925892000-1925899200@trinitysummerside.ca
SUMMARY:Trinity Arts Group
DESCRIPTION:Usually in the auditorium following Feed My Sheep Breakfasts 10am or 9am on the Saturdays with no breakfasts.
URL:https://trinitysummerside.ca/event/trinity-arts-group/2031-01-11/
END:VEVENT
BEGIN:VEVENT
DTSTART;TZID=Atlantic/Bermuda:20310118T100000
DTEND;TZID=Atlantic/Bermuda:20310118T120000
DTSTAMP:20260423T075908
CREATED:20260120T163406Z
LAST-MODIFIED:20260120T163406Z
UID:10010668-1926496800-1926504000@trinitysummerside.ca
SUMMARY:Trinity Arts Group
DESCRIPTION:Usually in the auditorium following Feed My Sheep Breakfasts 10am or 9am on the Saturdays with no breakfasts.
URL:https://trinitysummerside.ca/event/trinity-arts-group/2031-01-18/
END:VEVENT
END:VCALENDAR