BEGIN:VCALENDAR
VERSION:2.0
PRODID:-//Trinity United Church Summerside - ECPv6.15.20//NONSGML v1.0//EN
CALSCALE:GREGORIAN
METHOD:PUBLISH
X-ORIGINAL-URL:https://trinitysummerside.ca
X-WR-CALDESC:Events for Trinity United Church Summerside
REFRESH-INTERVAL;VALUE=DURATION:PT1H
X-Robots-Tag:noindex
X-PUBLISHED-TTL:PT1H
BEGIN:VTIMEZONE
TZID:Atlantic/Bermuda
BEGIN:DAYLIGHT
TZOFFSETFROM:-0400
TZOFFSETTO:-0300
TZNAME:ADT
DTSTART:20290311T060000
END:DAYLIGHT
BEGIN:STANDARD
TZOFFSETFROM:-0300
TZOFFSETTO:-0400
TZNAME:AST
DTSTART:20291104T050000
END:STANDARD
BEGIN:DAYLIGHT
TZOFFSETFROM:-0400
TZOFFSETTO:-0300
TZNAME:ADT
DTSTART:20300310T060000
END:DAYLIGHT
BEGIN:STANDARD
TZOFFSETFROM:-0300
TZOFFSETTO:-0400
TZNAME:AST
DTSTART:20301103T050000
END:STANDARD
BEGIN:DAYLIGHT
TZOFFSETFROM:-0400
TZOFFSETTO:-0300
TZNAME:ADT
DTSTART:20310309T060000
END:DAYLIGHT
BEGIN:STANDARD
TZOFFSETFROM:-0300
TZOFFSETTO:-0400
TZNAME:AST
DTSTART:20311102T050000
END:STANDARD
END:VTIMEZONE
BEGIN:VEVENT
DTSTART;TZID=Atlantic/Bermuda:20300713T083000
DTEND;TZID=Atlantic/Bermuda:20300713T100000
DTSTAMP:20260423T051609
CREATED:20251231T152915Z
LAST-MODIFIED:20251231T152915Z
UID:10010266-1910161800-1910167200@trinitysummerside.ca
SUMMARY:Feed My Sheep Breakfast
DESCRIPTION:In the Auditorium.
URL:https://trinitysummerside.ca/event/feed-my-sheep-breakfast-4/2030-07-13/
END:VEVENT
BEGIN:VEVENT
DTSTART;TZID=Atlantic/Bermuda:20300713T100000
DTEND;TZID=Atlantic/Bermuda:20300713T120000
DTSTAMP:20260423T051609
CREATED:20260120T163406Z
LAST-MODIFIED:20260120T163406Z
UID:10010641-1910167200-1910174400@trinitysummerside.ca
SUMMARY:Trinity Arts Group
DESCRIPTION:Usually in the auditorium following Feed My Sheep Breakfasts 10am or 9am on the Saturdays with no breakfasts.
URL:https://trinitysummerside.ca/event/trinity-arts-group/2030-07-13/
END:VEVENT
BEGIN:VEVENT
DTSTART;TZID=Atlantic/Bermuda:20300720T100000
DTEND;TZID=Atlantic/Bermuda:20300720T120000
DTSTAMP:20260423T051609
CREATED:20260120T163406Z
LAST-MODIFIED:20260120T163406Z
UID:10010642-1910772000-1910779200@trinitysummerside.ca
SUMMARY:Trinity Arts Group
DESCRIPTION:Usually in the auditorium following Feed My Sheep Breakfasts 10am or 9am on the Saturdays with no breakfasts.
URL:https://trinitysummerside.ca/event/trinity-arts-group/2030-07-20/
END:VEVENT
BEGIN:VEVENT
DTSTART;TZID=Atlantic/Bermuda:20300727T083000
DTEND;TZID=Atlantic/Bermuda:20300727T100000
DTSTAMP:20260423T051609
CREATED:20251231T153012Z
LAST-MODIFIED:20251231T153012Z
UID:10010326-1911371400-1911376800@trinitysummerside.ca
SUMMARY:Feed My Sheep Breakfast
DESCRIPTION:In the Auditorium.
URL:https://trinitysummerside.ca/event/feed-my-sheep-breakfast-5/2030-07-27/
END:VEVENT
BEGIN:VEVENT
DTSTART;TZID=Atlantic/Bermuda:20300727T100000
DTEND;TZID=Atlantic/Bermuda:20300727T120000
DTSTAMP:20260423T051609
CREATED:20260120T163406Z
LAST-MODIFIED:20260120T163406Z
UID:10010643-1911376800-1911384000@trinitysummerside.ca
SUMMARY:Trinity Arts Group
DESCRIPTION:Usually in the auditorium following Feed My Sheep Breakfasts 10am or 9am on the Saturdays with no breakfasts.
URL:https://trinitysummerside.ca/event/trinity-arts-group/2030-07-27/
END:VEVENT
BEGIN:VEVENT
DTSTART;TZID=Atlantic/Bermuda:20300803T100000
DTEND;TZID=Atlantic/Bermuda:20300803T120000
DTSTAMP:20260423T051609
CREATED:20260120T163406Z
LAST-MODIFIED:20260120T163406Z
UID:10010644-1911981600-1911988800@trinitysummerside.ca
SUMMARY:Trinity Arts Group
DESCRIPTION:Usually in the auditorium following Feed My Sheep Breakfasts 10am or 9am on the Saturdays with no breakfasts.
URL:https://trinitysummerside.ca/event/trinity-arts-group/2030-08-03/
END:VEVENT
BEGIN:VEVENT
DTSTART;TZID=Atlantic/Bermuda:20300810T083000
DTEND;TZID=Atlantic/Bermuda:20300810T100000
DTSTAMP:20260423T051609
CREATED:20251231T152915Z
LAST-MODIFIED:20251231T152915Z
UID:10010267-1912581000-1912586400@trinitysummerside.ca
SUMMARY:Feed My Sheep Breakfast
DESCRIPTION:In the Auditorium.
URL:https://trinitysummerside.ca/event/feed-my-sheep-breakfast-4/2030-08-10/
END:VEVENT
BEGIN:VEVENT
DTSTART;TZID=Atlantic/Bermuda:20300810T100000
DTEND;TZID=Atlantic/Bermuda:20300810T120000
DTSTAMP:20260423T051609
CREATED:20260120T163406Z
LAST-MODIFIED:20260120T163406Z
UID:10010645-1912586400-1912593600@trinitysummerside.ca
SUMMARY:Trinity Arts Group
DESCRIPTION:Usually in the auditorium following Feed My Sheep Breakfasts 10am or 9am on the Saturdays with no breakfasts.
URL:https://trinitysummerside.ca/event/trinity-arts-group/2030-08-10/
END:VEVENT
BEGIN:VEVENT
DTSTART;TZID=Atlantic/Bermuda:20300817T100000
DTEND;TZID=Atlantic/Bermuda:20300817T120000
DTSTAMP:20260423T051609
CREATED:20260120T163406Z
LAST-MODIFIED:20260120T163406Z
UID:10010646-1913191200-1913198400@trinitysummerside.ca
SUMMARY:Trinity Arts Group
DESCRIPTION:Usually in the auditorium following Feed My Sheep Breakfasts 10am or 9am on the Saturdays with no breakfasts.
URL:https://trinitysummerside.ca/event/trinity-arts-group/2030-08-17/
END:VEVENT
BEGIN:VEVENT
DTSTART;TZID=Atlantic/Bermuda:20300824T083000
DTEND;TZID=Atlantic/Bermuda:20300824T100000
DTSTAMP:20260423T051609
CREATED:20251231T153012Z
LAST-MODIFIED:20251231T153012Z
UID:10010327-1913790600-1913796000@trinitysummerside.ca
SUMMARY:Feed My Sheep Breakfast
DESCRIPTION:In the Auditorium.
URL:https://trinitysummerside.ca/event/feed-my-sheep-breakfast-5/2030-08-24/
END:VEVENT
BEGIN:VEVENT
DTSTART;TZID=Atlantic/Bermuda:20300824T100000
DTEND;TZID=Atlantic/Bermuda:20300824T120000
DTSTAMP:20260423T051609
CREATED:20260120T163406Z
LAST-MODIFIED:20260120T163406Z
UID:10010647-1913796000-1913803200@trinitysummerside.ca
SUMMARY:Trinity Arts Group
DESCRIPTION:Usually in the auditorium following Feed My Sheep Breakfasts 10am or 9am on the Saturdays with no breakfasts.
URL:https://trinitysummerside.ca/event/trinity-arts-group/2030-08-24/
END:VEVENT
BEGIN:VEVENT
DTSTART;TZID=Atlantic/Bermuda:20300831T100000
DTEND;TZID=Atlantic/Bermuda:20300831T120000
DTSTAMP:20260423T051609
CREATED:20260120T163406Z
LAST-MODIFIED:20260120T163406Z
UID:10010648-1914400800-1914408000@trinitysummerside.ca
SUMMARY:Trinity Arts Group
DESCRIPTION:Usually in the auditorium following Feed My Sheep Breakfasts 10am or 9am on the Saturdays with no breakfasts.
URL:https://trinitysummerside.ca/event/trinity-arts-group/2030-08-31/
END:VEVENT
BEGIN:VEVENT
DTSTART;TZID=Atlantic/Bermuda:20300907T100000
DTEND;TZID=Atlantic/Bermuda:20300907T120000
DTSTAMP:20260423T051609
CREATED:20260120T163406Z
LAST-MODIFIED:20260120T163406Z
UID:10010649-1915005600-1915012800@trinitysummerside.ca
SUMMARY:Trinity Arts Group
DESCRIPTION:Usually in the auditorium following Feed My Sheep Breakfasts 10am or 9am on the Saturdays with no breakfasts.
URL:https://trinitysummerside.ca/event/trinity-arts-group/2030-09-07/
END:VEVENT
BEGIN:VEVENT
DTSTART;TZID=Atlantic/Bermuda:20300914T083000
DTEND;TZID=Atlantic/Bermuda:20300914T100000
DTSTAMP:20260423T051609
CREATED:20251231T152915Z
LAST-MODIFIED:20251231T152915Z
UID:10010268-1915605000-1915610400@trinitysummerside.ca
SUMMARY:Feed My Sheep Breakfast
DESCRIPTION:In the Auditorium.
URL:https://trinitysummerside.ca/event/feed-my-sheep-breakfast-4/2030-09-14/
END:VEVENT
BEGIN:VEVENT
DTSTART;TZID=Atlantic/Bermuda:20300914T100000
DTEND;TZID=Atlantic/Bermuda:20300914T120000
DTSTAMP:20260423T051609
CREATED:20260120T163406Z
LAST-MODIFIED:20260120T163406Z
UID:10010650-1915610400-1915617600@trinitysummerside.ca
SUMMARY:Trinity Arts Group
DESCRIPTION:Usually in the auditorium following Feed My Sheep Breakfasts 10am or 9am on the Saturdays with no breakfasts.
URL:https://trinitysummerside.ca/event/trinity-arts-group/2030-09-14/
END:VEVENT
BEGIN:VEVENT
DTSTART;TZID=Atlantic/Bermuda:20300921T100000
DTEND;TZID=Atlantic/Bermuda:20300921T120000
DTSTAMP:20260423T051609
CREATED:20260120T163406Z
LAST-MODIFIED:20260120T163406Z
UID:10010651-1916215200-1916222400@trinitysummerside.ca
SUMMARY:Trinity Arts Group
DESCRIPTION:Usually in the auditorium following Feed My Sheep Breakfasts 10am or 9am on the Saturdays with no breakfasts.
URL:https://trinitysummerside.ca/event/trinity-arts-group/2030-09-21/
END:VEVENT
BEGIN:VEVENT
DTSTART;TZID=Atlantic/Bermuda:20300928T083000
DTEND;TZID=Atlantic/Bermuda:20300928T100000
DTSTAMP:20260423T051609
CREATED:20251231T153012Z
LAST-MODIFIED:20251231T153012Z
UID:10010328-1916814600-1916820000@trinitysummerside.ca
SUMMARY:Feed My Sheep Breakfast
DESCRIPTION:In the Auditorium.
URL:https://trinitysummerside.ca/event/feed-my-sheep-breakfast-5/2030-09-28/
END:VEVENT
BEGIN:VEVENT
DTSTART;TZID=Atlantic/Bermuda:20300928T100000
DTEND;TZID=Atlantic/Bermuda:20300928T120000
DTSTAMP:20260423T051609
CREATED:20260120T163406Z
LAST-MODIFIED:20260120T163406Z
UID:10010652-1916820000-1916827200@trinitysummerside.ca
SUMMARY:Trinity Arts Group
DESCRIPTION:Usually in the auditorium following Feed My Sheep Breakfasts 10am or 9am on the Saturdays with no breakfasts.
URL:https://trinitysummerside.ca/event/trinity-arts-group/2030-09-28/
END:VEVENT
BEGIN:VEVENT
DTSTART;TZID=Atlantic/Bermuda:20301005T100000
DTEND;TZID=Atlantic/Bermuda:20301005T120000
DTSTAMP:20260423T051609
CREATED:20260120T163406Z
LAST-MODIFIED:20260120T163406Z
UID:10010653-1917424800-1917432000@trinitysummerside.ca
SUMMARY:Trinity Arts Group
DESCRIPTION:Usually in the auditorium following Feed My Sheep Breakfasts 10am or 9am on the Saturdays with no breakfasts.
URL:https://trinitysummerside.ca/event/trinity-arts-group/2030-10-05/
END:VEVENT
BEGIN:VEVENT
DTSTART;TZID=Atlantic/Bermuda:20301012T083000
DTEND;TZID=Atlantic/Bermuda:20301012T100000
DTSTAMP:20260423T051609
CREATED:20251231T152915Z
LAST-MODIFIED:20251231T152915Z
UID:10010269-1918024200-1918029600@trinitysummerside.ca
SUMMARY:Feed My Sheep Breakfast
DESCRIPTION:In the Auditorium.
URL:https://trinitysummerside.ca/event/feed-my-sheep-breakfast-4/2030-10-12/
END:VEVENT
BEGIN:VEVENT
DTSTART;TZID=Atlantic/Bermuda:20301012T100000
DTEND;TZID=Atlantic/Bermuda:20301012T120000
DTSTAMP:20260423T051609
CREATED:20260120T163406Z
LAST-MODIFIED:20260120T163406Z
UID:10010654-1918029600-1918036800@trinitysummerside.ca
SUMMARY:Trinity Arts Group
DESCRIPTION:Usually in the auditorium following Feed My Sheep Breakfasts 10am or 9am on the Saturdays with no breakfasts.
URL:https://trinitysummerside.ca/event/trinity-arts-group/2030-10-12/
END:VEVENT
BEGIN:VEVENT
DTSTART;TZID=Atlantic/Bermuda:20301019T100000
DTEND;TZID=Atlantic/Bermuda:20301019T120000
DTSTAMP:20260423T051609
CREATED:20260120T163406Z
LAST-MODIFIED:20260120T163406Z
UID:10010655-1918634400-1918641600@trinitysummerside.ca
SUMMARY:Trinity Arts Group
DESCRIPTION:Usually in the auditorium following Feed My Sheep Breakfasts 10am or 9am on the Saturdays with no breakfasts.
URL:https://trinitysummerside.ca/event/trinity-arts-group/2030-10-19/
END:VEVENT
BEGIN:VEVENT
DTSTART;TZID=Atlantic/Bermuda:20301026T083000
DTEND;TZID=Atlantic/Bermuda:20301026T100000
DTSTAMP:20260423T051609
CREATED:20251231T153012Z
LAST-MODIFIED:20251231T153012Z
UID:10010329-1919233800-1919239200@trinitysummerside.ca
SUMMARY:Feed My Sheep Breakfast
DESCRIPTION:In the Auditorium.
URL:https://trinitysummerside.ca/event/feed-my-sheep-breakfast-5/2030-10-26/
END:VEVENT
BEGIN:VEVENT
DTSTART;TZID=Atlantic/Bermuda:20301026T100000
DTEND;TZID=Atlantic/Bermuda:20301026T120000
DTSTAMP:20260423T051609
CREATED:20260120T163406Z
LAST-MODIFIED:20260120T163406Z
UID:10010656-1919239200-1919246400@trinitysummerside.ca
SUMMARY:Trinity Arts Group
DESCRIPTION:Usually in the auditorium following Feed My Sheep Breakfasts 10am or 9am on the Saturdays with no breakfasts.
URL:https://trinitysummerside.ca/event/trinity-arts-group/2030-10-26/
END:VEVENT
BEGIN:VEVENT
DTSTART;TZID=Atlantic/Bermuda:20301102T100000
DTEND;TZID=Atlantic/Bermuda:20301102T120000
DTSTAMP:20260423T051609
CREATED:20260120T163406Z
LAST-MODIFIED:20260120T163406Z
UID:10010657-1919844000-1919851200@trinitysummerside.ca
SUMMARY:Trinity Arts Group
DESCRIPTION:Usually in the auditorium following Feed My Sheep Breakfasts 10am or 9am on the Saturdays with no breakfasts.
URL:https://trinitysummerside.ca/event/trinity-arts-group/2030-11-02/
END:VEVENT
BEGIN:VEVENT
DTSTART;TZID=Atlantic/Bermuda:20301109T083000
DTEND;TZID=Atlantic/Bermuda:20301109T100000
DTSTAMP:20260423T051609
CREATED:20251231T152915Z
LAST-MODIFIED:20251231T152915Z
UID:10010270-1920443400-1920448800@trinitysummerside.ca
SUMMARY:Feed My Sheep Breakfast
DESCRIPTION:In the Auditorium.
URL:https://trinitysummerside.ca/event/feed-my-sheep-breakfast-4/2030-11-09/
END:VEVENT
BEGIN:VEVENT
DTSTART;TZID=Atlantic/Bermuda:20301109T100000
DTEND;TZID=Atlantic/Bermuda:20301109T120000
DTSTAMP:20260423T051609
CREATED:20260120T163406Z
LAST-MODIFIED:20260120T163406Z
UID:10010658-1920448800-1920456000@trinitysummerside.ca
SUMMARY:Trinity Arts Group
DESCRIPTION:Usually in the auditorium following Feed My Sheep Breakfasts 10am or 9am on the Saturdays with no breakfasts.
URL:https://trinitysummerside.ca/event/trinity-arts-group/2030-11-09/
END:VEVENT
BEGIN:VEVENT
DTSTART;TZID=Atlantic/Bermuda:20301116T100000
DTEND;TZID=Atlantic/Bermuda:20301116T120000
DTSTAMP:20260423T051609
CREATED:20260120T163406Z
LAST-MODIFIED:20260120T163406Z
UID:10010659-1921053600-1921060800@trinitysummerside.ca
SUMMARY:Trinity Arts Group
DESCRIPTION:Usually in the auditorium following Feed My Sheep Breakfasts 10am or 9am on the Saturdays with no breakfasts.
URL:https://trinitysummerside.ca/event/trinity-arts-group/2030-11-16/
END:VEVENT
BEGIN:VEVENT
DTSTART;TZID=Atlantic/Bermuda:20301123T083000
DTEND;TZID=Atlantic/Bermuda:20301123T100000
DTSTAMP:20260423T051609
CREATED:20251231T153012Z
LAST-MODIFIED:20251231T153012Z
UID:10010330-1921653000-1921658400@trinitysummerside.ca
SUMMARY:Feed My Sheep Breakfast
DESCRIPTION:In the Auditorium.
URL:https://trinitysummerside.ca/event/feed-my-sheep-breakfast-5/2030-11-23/
END:VEVENT
BEGIN:VEVENT
DTSTART;TZID=Atlantic/Bermuda:20301123T100000
DTEND;TZID=Atlantic/Bermuda:20301123T120000
DTSTAMP:20260423T051609
CREATED:20260120T163406Z
LAST-MODIFIED:20260120T163406Z
UID:10010660-1921658400-1921665600@trinitysummerside.ca
SUMMARY:Trinity Arts Group
DESCRIPTION:Usually in the auditorium following Feed My Sheep Breakfasts 10am or 9am on the Saturdays with no breakfasts.
URL:https://trinitysummerside.ca/event/trinity-arts-group/2030-11-23/
END:VEVENT
END:VCALENDAR