BEGIN:VCALENDAR
VERSION:2.0
PRODID:-//Trinity United Church Summerside - ECPv6.15.20//NONSGML v1.0//EN
CALSCALE:GREGORIAN
METHOD:PUBLISH
X-ORIGINAL-URL:https://trinitysummerside.ca
X-WR-CALDESC:Events for Trinity United Church Summerside
REFRESH-INTERVAL;VALUE=DURATION:PT1H
X-Robots-Tag:noindex
X-PUBLISHED-TTL:PT1H
BEGIN:VTIMEZONE
TZID:Atlantic/Bermuda
BEGIN:DAYLIGHT
TZOFFSETFROM:-0400
TZOFFSETTO:-0300
TZNAME:ADT
DTSTART:20290311T060000
END:DAYLIGHT
BEGIN:STANDARD
TZOFFSETFROM:-0300
TZOFFSETTO:-0400
TZNAME:AST
DTSTART:20291104T050000
END:STANDARD
BEGIN:DAYLIGHT
TZOFFSETFROM:-0400
TZOFFSETTO:-0300
TZNAME:ADT
DTSTART:20300310T060000
END:DAYLIGHT
BEGIN:STANDARD
TZOFFSETFROM:-0300
TZOFFSETTO:-0400
TZNAME:AST
DTSTART:20301103T050000
END:STANDARD
BEGIN:DAYLIGHT
TZOFFSETFROM:-0400
TZOFFSETTO:-0300
TZNAME:ADT
DTSTART:20310309T060000
END:DAYLIGHT
BEGIN:STANDARD
TZOFFSETFROM:-0300
TZOFFSETTO:-0400
TZNAME:AST
DTSTART:20311102T050000
END:STANDARD
END:VTIMEZONE
BEGIN:VEVENT
DTSTART;TZID=Atlantic/Bermuda:20300209T100000
DTEND;TZID=Atlantic/Bermuda:20300209T120000
DTSTAMP:20260423T035939
CREATED:20260120T163406Z
LAST-MODIFIED:20260120T163406Z
UID:10010619-1896861600-1896868800@trinitysummerside.ca
SUMMARY:Trinity Arts Group
DESCRIPTION:Usually in the auditorium following Feed My Sheep Breakfasts 10am or 9am on the Saturdays with no breakfasts.
URL:https://trinitysummerside.ca/event/trinity-arts-group/2030-02-09/
END:VEVENT
BEGIN:VEVENT
DTSTART;TZID=Atlantic/Bermuda:20300216T100000
DTEND;TZID=Atlantic/Bermuda:20300216T120000
DTSTAMP:20260423T035939
CREATED:20260120T163406Z
LAST-MODIFIED:20260120T163406Z
UID:10010620-1897466400-1897473600@trinitysummerside.ca
SUMMARY:Trinity Arts Group
DESCRIPTION:Usually in the auditorium following Feed My Sheep Breakfasts 10am or 9am on the Saturdays with no breakfasts.
URL:https://trinitysummerside.ca/event/trinity-arts-group/2030-02-16/
END:VEVENT
BEGIN:VEVENT
DTSTART;TZID=Atlantic/Bermuda:20300223T083000
DTEND;TZID=Atlantic/Bermuda:20300223T100000
DTSTAMP:20260423T035939
CREATED:20251231T153012Z
LAST-MODIFIED:20251231T153012Z
UID:10010321-1898065800-1898071200@trinitysummerside.ca
SUMMARY:Feed My Sheep Breakfast
DESCRIPTION:In the Auditorium.
URL:https://trinitysummerside.ca/event/feed-my-sheep-breakfast-5/2030-02-23/
END:VEVENT
BEGIN:VEVENT
DTSTART;TZID=Atlantic/Bermuda:20300223T100000
DTEND;TZID=Atlantic/Bermuda:20300223T120000
DTSTAMP:20260423T035939
CREATED:20260120T163406Z
LAST-MODIFIED:20260120T163406Z
UID:10010621-1898071200-1898078400@trinitysummerside.ca
SUMMARY:Trinity Arts Group
DESCRIPTION:Usually in the auditorium following Feed My Sheep Breakfasts 10am or 9am on the Saturdays with no breakfasts.
URL:https://trinitysummerside.ca/event/trinity-arts-group/2030-02-23/
END:VEVENT
BEGIN:VEVENT
DTSTART;TZID=Atlantic/Bermuda:20300302T100000
DTEND;TZID=Atlantic/Bermuda:20300302T120000
DTSTAMP:20260423T035939
CREATED:20260120T163406Z
LAST-MODIFIED:20260120T163406Z
UID:10010622-1898676000-1898683200@trinitysummerside.ca
SUMMARY:Trinity Arts Group
DESCRIPTION:Usually in the auditorium following Feed My Sheep Breakfasts 10am or 9am on the Saturdays with no breakfasts.
URL:https://trinitysummerside.ca/event/trinity-arts-group/2030-03-02/
END:VEVENT
BEGIN:VEVENT
DTSTART;TZID=Atlantic/Bermuda:20300309T083000
DTEND;TZID=Atlantic/Bermuda:20300309T100000
DTSTAMP:20260423T035939
CREATED:20251231T152915Z
LAST-MODIFIED:20251231T152915Z
UID:10010262-1899275400-1899280800@trinitysummerside.ca
SUMMARY:Feed My Sheep Breakfast
DESCRIPTION:In the Auditorium.
URL:https://trinitysummerside.ca/event/feed-my-sheep-breakfast-4/2030-03-09/
END:VEVENT
BEGIN:VEVENT
DTSTART;TZID=Atlantic/Bermuda:20300309T100000
DTEND;TZID=Atlantic/Bermuda:20300309T120000
DTSTAMP:20260423T035939
CREATED:20260120T163406Z
LAST-MODIFIED:20260120T163406Z
UID:10010623-1899280800-1899288000@trinitysummerside.ca
SUMMARY:Trinity Arts Group
DESCRIPTION:Usually in the auditorium following Feed My Sheep Breakfasts 10am or 9am on the Saturdays with no breakfasts.
URL:https://trinitysummerside.ca/event/trinity-arts-group/2030-03-09/
END:VEVENT
BEGIN:VEVENT
DTSTART;TZID=Atlantic/Bermuda:20300316T100000
DTEND;TZID=Atlantic/Bermuda:20300316T120000
DTSTAMP:20260423T035939
CREATED:20260120T163406Z
LAST-MODIFIED:20260120T163406Z
UID:10010624-1899885600-1899892800@trinitysummerside.ca
SUMMARY:Trinity Arts Group
DESCRIPTION:Usually in the auditorium following Feed My Sheep Breakfasts 10am or 9am on the Saturdays with no breakfasts.
URL:https://trinitysummerside.ca/event/trinity-arts-group/2030-03-16/
END:VEVENT
BEGIN:VEVENT
DTSTART;TZID=Atlantic/Bermuda:20300323T083000
DTEND;TZID=Atlantic/Bermuda:20300323T100000
DTSTAMP:20260423T035939
CREATED:20251231T153012Z
LAST-MODIFIED:20251231T153012Z
UID:10010322-1900485000-1900490400@trinitysummerside.ca
SUMMARY:Feed My Sheep Breakfast
DESCRIPTION:In the Auditorium.
URL:https://trinitysummerside.ca/event/feed-my-sheep-breakfast-5/2030-03-23/
END:VEVENT
BEGIN:VEVENT
DTSTART;TZID=Atlantic/Bermuda:20300323T100000
DTEND;TZID=Atlantic/Bermuda:20300323T120000
DTSTAMP:20260423T035939
CREATED:20260120T163406Z
LAST-MODIFIED:20260120T163406Z
UID:10010625-1900490400-1900497600@trinitysummerside.ca
SUMMARY:Trinity Arts Group
DESCRIPTION:Usually in the auditorium following Feed My Sheep Breakfasts 10am or 9am on the Saturdays with no breakfasts.
URL:https://trinitysummerside.ca/event/trinity-arts-group/2030-03-23/
END:VEVENT
BEGIN:VEVENT
DTSTART;TZID=Atlantic/Bermuda:20300330T100000
DTEND;TZID=Atlantic/Bermuda:20300330T120000
DTSTAMP:20260423T035939
CREATED:20260120T163406Z
LAST-MODIFIED:20260120T163406Z
UID:10010626-1901095200-1901102400@trinitysummerside.ca
SUMMARY:Trinity Arts Group
DESCRIPTION:Usually in the auditorium following Feed My Sheep Breakfasts 10am or 9am on the Saturdays with no breakfasts.
URL:https://trinitysummerside.ca/event/trinity-arts-group/2030-03-30/
END:VEVENT
BEGIN:VEVENT
DTSTART;TZID=Atlantic/Bermuda:20300406T100000
DTEND;TZID=Atlantic/Bermuda:20300406T120000
DTSTAMP:20260423T035939
CREATED:20260120T163406Z
LAST-MODIFIED:20260120T163406Z
UID:10010627-1901700000-1901707200@trinitysummerside.ca
SUMMARY:Trinity Arts Group
DESCRIPTION:Usually in the auditorium following Feed My Sheep Breakfasts 10am or 9am on the Saturdays with no breakfasts.
URL:https://trinitysummerside.ca/event/trinity-arts-group/2030-04-06/
END:VEVENT
BEGIN:VEVENT
DTSTART;TZID=Atlantic/Bermuda:20300413T083000
DTEND;TZID=Atlantic/Bermuda:20300413T100000
DTSTAMP:20260423T035939
CREATED:20251231T152915Z
LAST-MODIFIED:20251231T152915Z
UID:10010263-1902299400-1902304800@trinitysummerside.ca
SUMMARY:Feed My Sheep Breakfast
DESCRIPTION:In the Auditorium.
URL:https://trinitysummerside.ca/event/feed-my-sheep-breakfast-4/2030-04-13/
END:VEVENT
BEGIN:VEVENT
DTSTART;TZID=Atlantic/Bermuda:20300413T100000
DTEND;TZID=Atlantic/Bermuda:20300413T120000
DTSTAMP:20260423T035939
CREATED:20260120T163406Z
LAST-MODIFIED:20260120T163406Z
UID:10010628-1902304800-1902312000@trinitysummerside.ca
SUMMARY:Trinity Arts Group
DESCRIPTION:Usually in the auditorium following Feed My Sheep Breakfasts 10am or 9am on the Saturdays with no breakfasts.
URL:https://trinitysummerside.ca/event/trinity-arts-group/2030-04-13/
END:VEVENT
BEGIN:VEVENT
DTSTART;TZID=Atlantic/Bermuda:20300420T100000
DTEND;TZID=Atlantic/Bermuda:20300420T120000
DTSTAMP:20260423T035939
CREATED:20260120T163406Z
LAST-MODIFIED:20260120T163406Z
UID:10010629-1902909600-1902916800@trinitysummerside.ca
SUMMARY:Trinity Arts Group
DESCRIPTION:Usually in the auditorium following Feed My Sheep Breakfasts 10am or 9am on the Saturdays with no breakfasts.
URL:https://trinitysummerside.ca/event/trinity-arts-group/2030-04-20/
END:VEVENT
BEGIN:VEVENT
DTSTART;TZID=Atlantic/Bermuda:20300427T083000
DTEND;TZID=Atlantic/Bermuda:20300427T100000
DTSTAMP:20260423T035939
CREATED:20251231T153012Z
LAST-MODIFIED:20251231T153012Z
UID:10010323-1903509000-1903514400@trinitysummerside.ca
SUMMARY:Feed My Sheep Breakfast
DESCRIPTION:In the Auditorium.
URL:https://trinitysummerside.ca/event/feed-my-sheep-breakfast-5/2030-04-27/
END:VEVENT
BEGIN:VEVENT
DTSTART;TZID=Atlantic/Bermuda:20300427T100000
DTEND;TZID=Atlantic/Bermuda:20300427T120000
DTSTAMP:20260423T035939
CREATED:20260120T163406Z
LAST-MODIFIED:20260120T163406Z
UID:10010630-1903514400-1903521600@trinitysummerside.ca
SUMMARY:Trinity Arts Group
DESCRIPTION:Usually in the auditorium following Feed My Sheep Breakfasts 10am or 9am on the Saturdays with no breakfasts.
URL:https://trinitysummerside.ca/event/trinity-arts-group/2030-04-27/
END:VEVENT
BEGIN:VEVENT
DTSTART;TZID=Atlantic/Bermuda:20300504T100000
DTEND;TZID=Atlantic/Bermuda:20300504T120000
DTSTAMP:20260423T035939
CREATED:20260120T163406Z
LAST-MODIFIED:20260120T163406Z
UID:10010631-1904119200-1904126400@trinitysummerside.ca
SUMMARY:Trinity Arts Group
DESCRIPTION:Usually in the auditorium following Feed My Sheep Breakfasts 10am or 9am on the Saturdays with no breakfasts.
URL:https://trinitysummerside.ca/event/trinity-arts-group/2030-05-04/
END:VEVENT
BEGIN:VEVENT
DTSTART;TZID=Atlantic/Bermuda:20300511T083000
DTEND;TZID=Atlantic/Bermuda:20300511T100000
DTSTAMP:20260423T035939
CREATED:20251231T152915Z
LAST-MODIFIED:20251231T152915Z
UID:10010264-1904718600-1904724000@trinitysummerside.ca
SUMMARY:Feed My Sheep Breakfast
DESCRIPTION:In the Auditorium.
URL:https://trinitysummerside.ca/event/feed-my-sheep-breakfast-4/2030-05-11/
END:VEVENT
BEGIN:VEVENT
DTSTART;TZID=Atlantic/Bermuda:20300511T100000
DTEND;TZID=Atlantic/Bermuda:20300511T120000
DTSTAMP:20260423T035939
CREATED:20260120T163406Z
LAST-MODIFIED:20260120T163406Z
UID:10010632-1904724000-1904731200@trinitysummerside.ca
SUMMARY:Trinity Arts Group
DESCRIPTION:Usually in the auditorium following Feed My Sheep Breakfasts 10am or 9am on the Saturdays with no breakfasts.
URL:https://trinitysummerside.ca/event/trinity-arts-group/2030-05-11/
END:VEVENT
BEGIN:VEVENT
DTSTART;TZID=Atlantic/Bermuda:20300518T100000
DTEND;TZID=Atlantic/Bermuda:20300518T120000
DTSTAMP:20260423T035939
CREATED:20260120T163406Z
LAST-MODIFIED:20260120T163406Z
UID:10010633-1905328800-1905336000@trinitysummerside.ca
SUMMARY:Trinity Arts Group
DESCRIPTION:Usually in the auditorium following Feed My Sheep Breakfasts 10am or 9am on the Saturdays with no breakfasts.
URL:https://trinitysummerside.ca/event/trinity-arts-group/2030-05-18/
END:VEVENT
BEGIN:VEVENT
DTSTART;TZID=Atlantic/Bermuda:20300525T083000
DTEND;TZID=Atlantic/Bermuda:20300525T100000
DTSTAMP:20260423T035939
CREATED:20251231T153012Z
LAST-MODIFIED:20251231T153012Z
UID:10010324-1905928200-1905933600@trinitysummerside.ca
SUMMARY:Feed My Sheep Breakfast
DESCRIPTION:In the Auditorium.
URL:https://trinitysummerside.ca/event/feed-my-sheep-breakfast-5/2030-05-25/
END:VEVENT
BEGIN:VEVENT
DTSTART;TZID=Atlantic/Bermuda:20300525T100000
DTEND;TZID=Atlantic/Bermuda:20300525T120000
DTSTAMP:20260423T035939
CREATED:20260120T163406Z
LAST-MODIFIED:20260120T163406Z
UID:10010634-1905933600-1905940800@trinitysummerside.ca
SUMMARY:Trinity Arts Group
DESCRIPTION:Usually in the auditorium following Feed My Sheep Breakfasts 10am or 9am on the Saturdays with no breakfasts.
URL:https://trinitysummerside.ca/event/trinity-arts-group/2030-05-25/
END:VEVENT
BEGIN:VEVENT
DTSTART;TZID=Atlantic/Bermuda:20300601T100000
DTEND;TZID=Atlantic/Bermuda:20300601T120000
DTSTAMP:20260423T035939
CREATED:20260120T163406Z
LAST-MODIFIED:20260120T163406Z
UID:10010635-1906538400-1906545600@trinitysummerside.ca
SUMMARY:Trinity Arts Group
DESCRIPTION:Usually in the auditorium following Feed My Sheep Breakfasts 10am or 9am on the Saturdays with no breakfasts.
URL:https://trinitysummerside.ca/event/trinity-arts-group/2030-06-01/
END:VEVENT
BEGIN:VEVENT
DTSTART;TZID=Atlantic/Bermuda:20300608T083000
DTEND;TZID=Atlantic/Bermuda:20300608T100000
DTSTAMP:20260423T035939
CREATED:20251231T152915Z
LAST-MODIFIED:20251231T152915Z
UID:10010265-1907137800-1907143200@trinitysummerside.ca
SUMMARY:Feed My Sheep Breakfast
DESCRIPTION:In the Auditorium.
URL:https://trinitysummerside.ca/event/feed-my-sheep-breakfast-4/2030-06-08/
END:VEVENT
BEGIN:VEVENT
DTSTART;TZID=Atlantic/Bermuda:20300608T100000
DTEND;TZID=Atlantic/Bermuda:20300608T120000
DTSTAMP:20260423T035939
CREATED:20260120T163406Z
LAST-MODIFIED:20260120T163406Z
UID:10010636-1907143200-1907150400@trinitysummerside.ca
SUMMARY:Trinity Arts Group
DESCRIPTION:Usually in the auditorium following Feed My Sheep Breakfasts 10am or 9am on the Saturdays with no breakfasts.
URL:https://trinitysummerside.ca/event/trinity-arts-group/2030-06-08/
END:VEVENT
BEGIN:VEVENT
DTSTART;TZID=Atlantic/Bermuda:20300615T100000
DTEND;TZID=Atlantic/Bermuda:20300615T120000
DTSTAMP:20260423T035939
CREATED:20260120T163406Z
LAST-MODIFIED:20260120T163406Z
UID:10010637-1907748000-1907755200@trinitysummerside.ca
SUMMARY:Trinity Arts Group
DESCRIPTION:Usually in the auditorium following Feed My Sheep Breakfasts 10am or 9am on the Saturdays with no breakfasts.
URL:https://trinitysummerside.ca/event/trinity-arts-group/2030-06-15/
END:VEVENT
BEGIN:VEVENT
DTSTART;TZID=Atlantic/Bermuda:20300622T083000
DTEND;TZID=Atlantic/Bermuda:20300622T100000
DTSTAMP:20260423T035939
CREATED:20251231T153012Z
LAST-MODIFIED:20251231T153012Z
UID:10010325-1908347400-1908352800@trinitysummerside.ca
SUMMARY:Feed My Sheep Breakfast
DESCRIPTION:In the Auditorium.
URL:https://trinitysummerside.ca/event/feed-my-sheep-breakfast-5/2030-06-22/
END:VEVENT
BEGIN:VEVENT
DTSTART;TZID=Atlantic/Bermuda:20300622T100000
DTEND;TZID=Atlantic/Bermuda:20300622T120000
DTSTAMP:20260423T035939
CREATED:20260120T163406Z
LAST-MODIFIED:20260120T163406Z
UID:10010638-1908352800-1908360000@trinitysummerside.ca
SUMMARY:Trinity Arts Group
DESCRIPTION:Usually in the auditorium following Feed My Sheep Breakfasts 10am or 9am on the Saturdays with no breakfasts.
URL:https://trinitysummerside.ca/event/trinity-arts-group/2030-06-22/
END:VEVENT
BEGIN:VEVENT
DTSTART;TZID=Atlantic/Bermuda:20300629T100000
DTEND;TZID=Atlantic/Bermuda:20300629T120000
DTSTAMP:20260423T035939
CREATED:20260120T163406Z
LAST-MODIFIED:20260120T163406Z
UID:10010639-1908957600-1908964800@trinitysummerside.ca
SUMMARY:Trinity Arts Group
DESCRIPTION:Usually in the auditorium following Feed My Sheep Breakfasts 10am or 9am on the Saturdays with no breakfasts.
URL:https://trinitysummerside.ca/event/trinity-arts-group/2030-06-29/
END:VEVENT
END:VCALENDAR