BEGIN:VCALENDAR
VERSION:2.0
PRODID:-//Trinity United Church Summerside - ECPv6.15.20//NONSGML v1.0//EN
CALSCALE:GREGORIAN
METHOD:PUBLISH
X-WR-CALNAME:Trinity United Church Summerside
X-ORIGINAL-URL:https://trinitysummerside.ca
X-WR-CALDESC:Events for Trinity United Church Summerside
REFRESH-INTERVAL;VALUE=DURATION:PT1H
X-Robots-Tag:noindex
X-PUBLISHED-TTL:PT1H
BEGIN:VTIMEZONE
TZID:Atlantic/Bermuda
BEGIN:DAYLIGHT
TZOFFSETFROM:-0400
TZOFFSETTO:-0300
TZNAME:ADT
DTSTART:20280312T060000
END:DAYLIGHT
BEGIN:STANDARD
TZOFFSETFROM:-0300
TZOFFSETTO:-0400
TZNAME:AST
DTSTART:20281105T050000
END:STANDARD
BEGIN:DAYLIGHT
TZOFFSETFROM:-0400
TZOFFSETTO:-0300
TZNAME:ADT
DTSTART:20290311T060000
END:DAYLIGHT
BEGIN:STANDARD
TZOFFSETFROM:-0300
TZOFFSETTO:-0400
TZNAME:AST
DTSTART:20291104T050000
END:STANDARD
BEGIN:DAYLIGHT
TZOFFSETFROM:-0400
TZOFFSETTO:-0300
TZNAME:ADT
DTSTART:20300310T060000
END:DAYLIGHT
BEGIN:STANDARD
TZOFFSETFROM:-0300
TZOFFSETTO:-0400
TZNAME:AST
DTSTART:20301103T050000
END:STANDARD
BEGIN:DAYLIGHT
TZOFFSETFROM:-0400
TZOFFSETTO:-0300
TZNAME:ADT
DTSTART:20310309T060000
END:DAYLIGHT
BEGIN:STANDARD
TZOFFSETFROM:-0300
TZOFFSETTO:-0400
TZNAME:AST
DTSTART:20311102T050000
END:STANDARD
END:VTIMEZONE
BEGIN:VEVENT
DTSTART;TZID=Atlantic/Bermuda:20290922T100000
DTEND;TZID=Atlantic/Bermuda:20290922T120000
DTSTAMP:20260422T235428
CREATED:20260120T163406Z
LAST-MODIFIED:20260120T163406Z
UID:10010599-1884765600-1884772800@trinitysummerside.ca
SUMMARY:Trinity Arts Group
DESCRIPTION:Usually in the auditorium following Feed My Sheep Breakfasts 10am or 9am on the Saturdays with no breakfasts.
URL:https://trinitysummerside.ca/event/trinity-arts-group/2029-09-22/
END:VEVENT
BEGIN:VEVENT
DTSTART;TZID=Atlantic/Bermuda:20290929T100000
DTEND;TZID=Atlantic/Bermuda:20290929T120000
DTSTAMP:20260422T235428
CREATED:20260120T163406Z
LAST-MODIFIED:20260120T163406Z
UID:10010600-1885370400-1885377600@trinitysummerside.ca
SUMMARY:Trinity Arts Group
DESCRIPTION:Usually in the auditorium following Feed My Sheep Breakfasts 10am or 9am on the Saturdays with no breakfasts.
URL:https://trinitysummerside.ca/event/trinity-arts-group/2029-09-29/
END:VEVENT
BEGIN:VEVENT
DTSTART;TZID=Atlantic/Bermuda:20291006T100000
DTEND;TZID=Atlantic/Bermuda:20291006T120000
DTSTAMP:20260422T235428
CREATED:20260120T163406Z
LAST-MODIFIED:20260120T163406Z
UID:10010601-1885975200-1885982400@trinitysummerside.ca
SUMMARY:Trinity Arts Group
DESCRIPTION:Usually in the auditorium following Feed My Sheep Breakfasts 10am or 9am on the Saturdays with no breakfasts.
URL:https://trinitysummerside.ca/event/trinity-arts-group/2029-10-06/
END:VEVENT
BEGIN:VEVENT
DTSTART;TZID=Atlantic/Bermuda:20291013T083000
DTEND;TZID=Atlantic/Bermuda:20291013T100000
DTSTAMP:20260422T235428
CREATED:20251231T152915Z
LAST-MODIFIED:20251231T152915Z
UID:10010257-1886574600-1886580000@trinitysummerside.ca
SUMMARY:Feed My Sheep Breakfast
DESCRIPTION:In the Auditorium.
URL:https://trinitysummerside.ca/event/feed-my-sheep-breakfast-4/2029-10-13/
END:VEVENT
BEGIN:VEVENT
DTSTART;TZID=Atlantic/Bermuda:20291013T100000
DTEND;TZID=Atlantic/Bermuda:20291013T120000
DTSTAMP:20260422T235428
CREATED:20260120T163406Z
LAST-MODIFIED:20260120T163406Z
UID:10010602-1886580000-1886587200@trinitysummerside.ca
SUMMARY:Trinity Arts Group
DESCRIPTION:Usually in the auditorium following Feed My Sheep Breakfasts 10am or 9am on the Saturdays with no breakfasts.
URL:https://trinitysummerside.ca/event/trinity-arts-group/2029-10-13/
END:VEVENT
BEGIN:VEVENT
DTSTART;TZID=Atlantic/Bermuda:20291020T100000
DTEND;TZID=Atlantic/Bermuda:20291020T120000
DTSTAMP:20260422T235428
CREATED:20260120T163406Z
LAST-MODIFIED:20260120T163406Z
UID:10010603-1887184800-1887192000@trinitysummerside.ca
SUMMARY:Trinity Arts Group
DESCRIPTION:Usually in the auditorium following Feed My Sheep Breakfasts 10am or 9am on the Saturdays with no breakfasts.
URL:https://trinitysummerside.ca/event/trinity-arts-group/2029-10-20/
END:VEVENT
BEGIN:VEVENT
DTSTART;TZID=Atlantic/Bermuda:20291027T083000
DTEND;TZID=Atlantic/Bermuda:20291027T100000
DTSTAMP:20260422T235428
CREATED:20251231T153012Z
LAST-MODIFIED:20251231T153012Z
UID:10010317-1887784200-1887789600@trinitysummerside.ca
SUMMARY:Feed My Sheep Breakfast
DESCRIPTION:In the Auditorium.
URL:https://trinitysummerside.ca/event/feed-my-sheep-breakfast-5/2029-10-27/
END:VEVENT
BEGIN:VEVENT
DTSTART;TZID=Atlantic/Bermuda:20291027T100000
DTEND;TZID=Atlantic/Bermuda:20291027T120000
DTSTAMP:20260422T235428
CREATED:20260120T163406Z
LAST-MODIFIED:20260120T163406Z
UID:10010604-1887789600-1887796800@trinitysummerside.ca
SUMMARY:Trinity Arts Group
DESCRIPTION:Usually in the auditorium following Feed My Sheep Breakfasts 10am or 9am on the Saturdays with no breakfasts.
URL:https://trinitysummerside.ca/event/trinity-arts-group/2029-10-27/
END:VEVENT
BEGIN:VEVENT
DTSTART;TZID=Atlantic/Bermuda:20291103T100000
DTEND;TZID=Atlantic/Bermuda:20291103T120000
DTSTAMP:20260422T235428
CREATED:20260120T163406Z
LAST-MODIFIED:20260120T163406Z
UID:10010605-1888394400-1888401600@trinitysummerside.ca
SUMMARY:Trinity Arts Group
DESCRIPTION:Usually in the auditorium following Feed My Sheep Breakfasts 10am or 9am on the Saturdays with no breakfasts.
URL:https://trinitysummerside.ca/event/trinity-arts-group/2029-11-03/
END:VEVENT
BEGIN:VEVENT
DTSTART;TZID=Atlantic/Bermuda:20291110T083000
DTEND;TZID=Atlantic/Bermuda:20291110T100000
DTSTAMP:20260422T235428
CREATED:20251231T152915Z
LAST-MODIFIED:20251231T152915Z
UID:10010258-1888993800-1888999200@trinitysummerside.ca
SUMMARY:Feed My Sheep Breakfast
DESCRIPTION:In the Auditorium.
URL:https://trinitysummerside.ca/event/feed-my-sheep-breakfast-4/2029-11-10/
END:VEVENT
BEGIN:VEVENT
DTSTART;TZID=Atlantic/Bermuda:20291110T100000
DTEND;TZID=Atlantic/Bermuda:20291110T120000
DTSTAMP:20260422T235428
CREATED:20260120T163406Z
LAST-MODIFIED:20260120T163406Z
UID:10010606-1888999200-1889006400@trinitysummerside.ca
SUMMARY:Trinity Arts Group
DESCRIPTION:Usually in the auditorium following Feed My Sheep Breakfasts 10am or 9am on the Saturdays with no breakfasts.
URL:https://trinitysummerside.ca/event/trinity-arts-group/2029-11-10/
END:VEVENT
BEGIN:VEVENT
DTSTART;TZID=Atlantic/Bermuda:20291117T100000
DTEND;TZID=Atlantic/Bermuda:20291117T120000
DTSTAMP:20260422T235428
CREATED:20260120T163406Z
LAST-MODIFIED:20260120T163406Z
UID:10010607-1889604000-1889611200@trinitysummerside.ca
SUMMARY:Trinity Arts Group
DESCRIPTION:Usually in the auditorium following Feed My Sheep Breakfasts 10am or 9am on the Saturdays with no breakfasts.
URL:https://trinitysummerside.ca/event/trinity-arts-group/2029-11-17/
END:VEVENT
BEGIN:VEVENT
DTSTART;TZID=Atlantic/Bermuda:20291124T083000
DTEND;TZID=Atlantic/Bermuda:20291124T100000
DTSTAMP:20260422T235428
CREATED:20251231T153012Z
LAST-MODIFIED:20251231T153012Z
UID:10010318-1890203400-1890208800@trinitysummerside.ca
SUMMARY:Feed My Sheep Breakfast
DESCRIPTION:In the Auditorium.
URL:https://trinitysummerside.ca/event/feed-my-sheep-breakfast-5/2029-11-24/
END:VEVENT
BEGIN:VEVENT
DTSTART;TZID=Atlantic/Bermuda:20291124T100000
DTEND;TZID=Atlantic/Bermuda:20291124T120000
DTSTAMP:20260422T235428
CREATED:20260120T163406Z
LAST-MODIFIED:20260120T163406Z
UID:10010608-1890208800-1890216000@trinitysummerside.ca
SUMMARY:Trinity Arts Group
DESCRIPTION:Usually in the auditorium following Feed My Sheep Breakfasts 10am or 9am on the Saturdays with no breakfasts.
URL:https://trinitysummerside.ca/event/trinity-arts-group/2029-11-24/
END:VEVENT
BEGIN:VEVENT
DTSTART;TZID=Atlantic/Bermuda:20291201T100000
DTEND;TZID=Atlantic/Bermuda:20291201T120000
DTSTAMP:20260422T235428
CREATED:20260120T163406Z
LAST-MODIFIED:20260120T163406Z
UID:10010609-1890813600-1890820800@trinitysummerside.ca
SUMMARY:Trinity Arts Group
DESCRIPTION:Usually in the auditorium following Feed My Sheep Breakfasts 10am or 9am on the Saturdays with no breakfasts.
URL:https://trinitysummerside.ca/event/trinity-arts-group/2029-12-01/
END:VEVENT
BEGIN:VEVENT
DTSTART;TZID=Atlantic/Bermuda:20291208T083000
DTEND;TZID=Atlantic/Bermuda:20291208T100000
DTSTAMP:20260422T235428
CREATED:20251231T152915Z
LAST-MODIFIED:20251231T152915Z
UID:10010259-1891413000-1891418400@trinitysummerside.ca
SUMMARY:Feed My Sheep Breakfast
DESCRIPTION:In the Auditorium.
URL:https://trinitysummerside.ca/event/feed-my-sheep-breakfast-4/2029-12-08/
END:VEVENT
BEGIN:VEVENT
DTSTART;TZID=Atlantic/Bermuda:20291208T100000
DTEND;TZID=Atlantic/Bermuda:20291208T120000
DTSTAMP:20260422T235428
CREATED:20260120T163406Z
LAST-MODIFIED:20260120T163406Z
UID:10010610-1891418400-1891425600@trinitysummerside.ca
SUMMARY:Trinity Arts Group
DESCRIPTION:Usually in the auditorium following Feed My Sheep Breakfasts 10am or 9am on the Saturdays with no breakfasts.
URL:https://trinitysummerside.ca/event/trinity-arts-group/2029-12-08/
END:VEVENT
BEGIN:VEVENT
DTSTART;TZID=Atlantic/Bermuda:20291215T100000
DTEND;TZID=Atlantic/Bermuda:20291215T120000
DTSTAMP:20260422T235428
CREATED:20260120T163406Z
LAST-MODIFIED:20260120T163406Z
UID:10010611-1892023200-1892030400@trinitysummerside.ca
SUMMARY:Trinity Arts Group
DESCRIPTION:Usually in the auditorium following Feed My Sheep Breakfasts 10am or 9am on the Saturdays with no breakfasts.
URL:https://trinitysummerside.ca/event/trinity-arts-group/2029-12-15/
END:VEVENT
BEGIN:VEVENT
DTSTART;TZID=Atlantic/Bermuda:20291222T083000
DTEND;TZID=Atlantic/Bermuda:20291222T100000
DTSTAMP:20260422T235428
CREATED:20251231T153012Z
LAST-MODIFIED:20251231T153012Z
UID:10010319-1892622600-1892628000@trinitysummerside.ca
SUMMARY:Feed My Sheep Breakfast
DESCRIPTION:In the Auditorium.
URL:https://trinitysummerside.ca/event/feed-my-sheep-breakfast-5/2029-12-22/
END:VEVENT
BEGIN:VEVENT
DTSTART;TZID=Atlantic/Bermuda:20291222T100000
DTEND;TZID=Atlantic/Bermuda:20291222T120000
DTSTAMP:20260422T235428
CREATED:20260120T163406Z
LAST-MODIFIED:20260120T163406Z
UID:10010612-1892628000-1892635200@trinitysummerside.ca
SUMMARY:Trinity Arts Group
DESCRIPTION:Usually in the auditorium following Feed My Sheep Breakfasts 10am or 9am on the Saturdays with no breakfasts.
URL:https://trinitysummerside.ca/event/trinity-arts-group/2029-12-22/
END:VEVENT
BEGIN:VEVENT
DTSTART;TZID=Atlantic/Bermuda:20291229T100000
DTEND;TZID=Atlantic/Bermuda:20291229T120000
DTSTAMP:20260422T235428
CREATED:20260120T163406Z
LAST-MODIFIED:20260120T163406Z
UID:10010613-1893232800-1893240000@trinitysummerside.ca
SUMMARY:Trinity Arts Group
DESCRIPTION:Usually in the auditorium following Feed My Sheep Breakfasts 10am or 9am on the Saturdays with no breakfasts.
URL:https://trinitysummerside.ca/event/trinity-arts-group/2029-12-29/
END:VEVENT
BEGIN:VEVENT
DTSTART;TZID=Atlantic/Bermuda:20300105T100000
DTEND;TZID=Atlantic/Bermuda:20300105T120000
DTSTAMP:20260422T235428
CREATED:20260120T163406Z
LAST-MODIFIED:20260120T163406Z
UID:10010614-1893837600-1893844800@trinitysummerside.ca
SUMMARY:Trinity Arts Group
DESCRIPTION:Usually in the auditorium following Feed My Sheep Breakfasts 10am or 9am on the Saturdays with no breakfasts.
URL:https://trinitysummerside.ca/event/trinity-arts-group/2030-01-05/
END:VEVENT
BEGIN:VEVENT
DTSTART;TZID=Atlantic/Bermuda:20300112T083000
DTEND;TZID=Atlantic/Bermuda:20300112T100000
DTSTAMP:20260422T235428
CREATED:20251231T152915Z
LAST-MODIFIED:20251231T152915Z
UID:10010260-1894437000-1894442400@trinitysummerside.ca
SUMMARY:Feed My Sheep Breakfast
DESCRIPTION:In the Auditorium.
URL:https://trinitysummerside.ca/event/feed-my-sheep-breakfast-4/2030-01-12/
END:VEVENT
BEGIN:VEVENT
DTSTART;TZID=Atlantic/Bermuda:20300112T100000
DTEND;TZID=Atlantic/Bermuda:20300112T120000
DTSTAMP:20260422T235428
CREATED:20260120T163406Z
LAST-MODIFIED:20260120T163406Z
UID:10010615-1894442400-1894449600@trinitysummerside.ca
SUMMARY:Trinity Arts Group
DESCRIPTION:Usually in the auditorium following Feed My Sheep Breakfasts 10am or 9am on the Saturdays with no breakfasts.
URL:https://trinitysummerside.ca/event/trinity-arts-group/2030-01-12/
END:VEVENT
BEGIN:VEVENT
DTSTART;TZID=Atlantic/Bermuda:20300119T100000
DTEND;TZID=Atlantic/Bermuda:20300119T120000
DTSTAMP:20260422T235428
CREATED:20260120T163406Z
LAST-MODIFIED:20260120T163406Z
UID:10010616-1895047200-1895054400@trinitysummerside.ca
SUMMARY:Trinity Arts Group
DESCRIPTION:Usually in the auditorium following Feed My Sheep Breakfasts 10am or 9am on the Saturdays with no breakfasts.
URL:https://trinitysummerside.ca/event/trinity-arts-group/2030-01-19/
END:VEVENT
BEGIN:VEVENT
DTSTART;TZID=Atlantic/Bermuda:20300126T083000
DTEND;TZID=Atlantic/Bermuda:20300126T100000
DTSTAMP:20260422T235428
CREATED:20251231T153012Z
LAST-MODIFIED:20251231T153012Z
UID:10010320-1895646600-1895652000@trinitysummerside.ca
SUMMARY:Feed My Sheep Breakfast
DESCRIPTION:In the Auditorium.
URL:https://trinitysummerside.ca/event/feed-my-sheep-breakfast-5/2030-01-26/
END:VEVENT
BEGIN:VEVENT
DTSTART;TZID=Atlantic/Bermuda:20300126T100000
DTEND;TZID=Atlantic/Bermuda:20300126T120000
DTSTAMP:20260422T235428
CREATED:20260120T163406Z
LAST-MODIFIED:20260120T163406Z
UID:10010617-1895652000-1895659200@trinitysummerside.ca
SUMMARY:Trinity Arts Group
DESCRIPTION:Usually in the auditorium following Feed My Sheep Breakfasts 10am or 9am on the Saturdays with no breakfasts.
URL:https://trinitysummerside.ca/event/trinity-arts-group/2030-01-26/
END:VEVENT
BEGIN:VEVENT
DTSTART;TZID=Atlantic/Bermuda:20300202T100000
DTEND;TZID=Atlantic/Bermuda:20300202T120000
DTSTAMP:20260422T235428
CREATED:20260120T163406Z
LAST-MODIFIED:20260120T163406Z
UID:10010618-1896256800-1896264000@trinitysummerside.ca
SUMMARY:Trinity Arts Group
DESCRIPTION:Usually in the auditorium following Feed My Sheep Breakfasts 10am or 9am on the Saturdays with no breakfasts.
URL:https://trinitysummerside.ca/event/trinity-arts-group/2030-02-02/
END:VEVENT
BEGIN:VEVENT
DTSTART;TZID=Atlantic/Bermuda:20300209T083000
DTEND;TZID=Atlantic/Bermuda:20300209T100000
DTSTAMP:20260422T235428
CREATED:20251231T152915Z
LAST-MODIFIED:20251231T152915Z
UID:10010261-1896856200-1896861600@trinitysummerside.ca
SUMMARY:Feed My Sheep Breakfast
DESCRIPTION:In the Auditorium.
URL:https://trinitysummerside.ca/event/feed-my-sheep-breakfast-4/2030-02-09/
END:VEVENT
BEGIN:VEVENT
DTSTART;TZID=Atlantic/Bermuda:20300209T100000
DTEND;TZID=Atlantic/Bermuda:20300209T120000
DTSTAMP:20260422T235428
CREATED:20260120T163406Z
LAST-MODIFIED:20260120T163406Z
UID:10010619-1896861600-1896868800@trinitysummerside.ca
SUMMARY:Trinity Arts Group
DESCRIPTION:Usually in the auditorium following Feed My Sheep Breakfasts 10am or 9am on the Saturdays with no breakfasts.
URL:https://trinitysummerside.ca/event/trinity-arts-group/2030-02-09/
END:VEVENT
END:VCALENDAR