BEGIN:VCALENDAR
VERSION:2.0
PRODID:-//Trinity United Church Summerside - ECPv6.15.20//NONSGML v1.0//EN
CALSCALE:GREGORIAN
METHOD:PUBLISH
X-WR-CALNAME:Trinity United Church Summerside
X-ORIGINAL-URL:https://trinitysummerside.ca
X-WR-CALDESC:Events for Trinity United Church Summerside
REFRESH-INTERVAL;VALUE=DURATION:PT1H
X-Robots-Tag:noindex
X-PUBLISHED-TTL:PT1H
BEGIN:VTIMEZONE
TZID:Atlantic/Bermuda
BEGIN:DAYLIGHT
TZOFFSETFROM:-0400
TZOFFSETTO:-0300
TZNAME:ADT
DTSTART:20260308T060000
END:DAYLIGHT
BEGIN:STANDARD
TZOFFSETFROM:-0300
TZOFFSETTO:-0400
TZNAME:AST
DTSTART:20261101T050000
END:STANDARD
BEGIN:DAYLIGHT
TZOFFSETFROM:-0400
TZOFFSETTO:-0300
TZNAME:ADT
DTSTART:20270314T060000
END:DAYLIGHT
BEGIN:STANDARD
TZOFFSETFROM:-0300
TZOFFSETTO:-0400
TZNAME:AST
DTSTART:20271107T050000
END:STANDARD
BEGIN:DAYLIGHT
TZOFFSETFROM:-0400
TZOFFSETTO:-0300
TZNAME:ADT
DTSTART:20280312T060000
END:DAYLIGHT
BEGIN:STANDARD
TZOFFSETFROM:-0300
TZOFFSETTO:-0400
TZNAME:AST
DTSTART:20281105T050000
END:STANDARD
END:VTIMEZONE
BEGIN:VEVENT
DTSTART;TZID=Atlantic/Bermuda:20270717T100000
DTEND;TZID=Atlantic/Bermuda:20270717T120000
DTSTAMP:20260422T194116
CREATED:20260120T163406Z
LAST-MODIFIED:20260120T163406Z
UID:10010485-1815818400-1815825600@trinitysummerside.ca
SUMMARY:Trinity Arts Group
DESCRIPTION:Usually in the auditorium following Feed My Sheep Breakfasts 10am or 9am on the Saturdays with no breakfasts.
URL:https://trinitysummerside.ca/event/trinity-arts-group/2027-07-17/
END:VEVENT
BEGIN:VEVENT
DTSTART;TZID=Atlantic/Bermuda:20270724T083000
DTEND;TZID=Atlantic/Bermuda:20270724T100000
DTSTAMP:20260422T194116
CREATED:20251231T153012Z
LAST-MODIFIED:20251231T153012Z
UID:10010290-1816417800-1816423200@trinitysummerside.ca
SUMMARY:Feed My Sheep Breakfast
DESCRIPTION:In the Auditorium.
URL:https://trinitysummerside.ca/event/feed-my-sheep-breakfast-5/2027-07-24/
END:VEVENT
BEGIN:VEVENT
DTSTART;TZID=Atlantic/Bermuda:20270724T100000
DTEND;TZID=Atlantic/Bermuda:20270724T120000
DTSTAMP:20260422T194116
CREATED:20260120T163406Z
LAST-MODIFIED:20260120T163406Z
UID:10010486-1816423200-1816430400@trinitysummerside.ca
SUMMARY:Trinity Arts Group
DESCRIPTION:Usually in the auditorium following Feed My Sheep Breakfasts 10am or 9am on the Saturdays with no breakfasts.
URL:https://trinitysummerside.ca/event/trinity-arts-group/2027-07-24/
END:VEVENT
BEGIN:VEVENT
DTSTART;TZID=Atlantic/Bermuda:20270731T100000
DTEND;TZID=Atlantic/Bermuda:20270731T120000
DTSTAMP:20260422T194116
CREATED:20260120T163406Z
LAST-MODIFIED:20260120T163406Z
UID:10010487-1817028000-1817035200@trinitysummerside.ca
SUMMARY:Trinity Arts Group
DESCRIPTION:Usually in the auditorium following Feed My Sheep Breakfasts 10am or 9am on the Saturdays with no breakfasts.
URL:https://trinitysummerside.ca/event/trinity-arts-group/2027-07-31/
END:VEVENT
BEGIN:VEVENT
DTSTART;TZID=Atlantic/Bermuda:20270807T100000
DTEND;TZID=Atlantic/Bermuda:20270807T120000
DTSTAMP:20260422T194116
CREATED:20260120T163406Z
LAST-MODIFIED:20260120T163406Z
UID:10010488-1817632800-1817640000@trinitysummerside.ca
SUMMARY:Trinity Arts Group
DESCRIPTION:Usually in the auditorium following Feed My Sheep Breakfasts 10am or 9am on the Saturdays with no breakfasts.
URL:https://trinitysummerside.ca/event/trinity-arts-group/2027-08-07/
END:VEVENT
BEGIN:VEVENT
DTSTART;TZID=Atlantic/Bermuda:20270814T083000
DTEND;TZID=Atlantic/Bermuda:20270814T100000
DTSTAMP:20260422T194116
CREATED:20251231T152915Z
LAST-MODIFIED:20251231T152915Z
UID:10010231-1818232200-1818237600@trinitysummerside.ca
SUMMARY:Feed My Sheep Breakfast
DESCRIPTION:In the Auditorium.
URL:https://trinitysummerside.ca/event/feed-my-sheep-breakfast-4/2027-08-14/
END:VEVENT
BEGIN:VEVENT
DTSTART;TZID=Atlantic/Bermuda:20270814T100000
DTEND;TZID=Atlantic/Bermuda:20270814T120000
DTSTAMP:20260422T194116
CREATED:20260120T163406Z
LAST-MODIFIED:20260120T163406Z
UID:10010489-1818237600-1818244800@trinitysummerside.ca
SUMMARY:Trinity Arts Group
DESCRIPTION:Usually in the auditorium following Feed My Sheep Breakfasts 10am or 9am on the Saturdays with no breakfasts.
URL:https://trinitysummerside.ca/event/trinity-arts-group/2027-08-14/
END:VEVENT
BEGIN:VEVENT
DTSTART;TZID=Atlantic/Bermuda:20270821T100000
DTEND;TZID=Atlantic/Bermuda:20270821T120000
DTSTAMP:20260422T194116
CREATED:20260120T163406Z
LAST-MODIFIED:20260120T163406Z
UID:10010490-1818842400-1818849600@trinitysummerside.ca
SUMMARY:Trinity Arts Group
DESCRIPTION:Usually in the auditorium following Feed My Sheep Breakfasts 10am or 9am on the Saturdays with no breakfasts.
URL:https://trinitysummerside.ca/event/trinity-arts-group/2027-08-21/
END:VEVENT
BEGIN:VEVENT
DTSTART;TZID=Atlantic/Bermuda:20270828T083000
DTEND;TZID=Atlantic/Bermuda:20270828T100000
DTSTAMP:20260422T194116
CREATED:20251231T153012Z
LAST-MODIFIED:20251231T153012Z
UID:10010291-1819441800-1819447200@trinitysummerside.ca
SUMMARY:Feed My Sheep Breakfast
DESCRIPTION:In the Auditorium.
URL:https://trinitysummerside.ca/event/feed-my-sheep-breakfast-5/2027-08-28/
END:VEVENT
BEGIN:VEVENT
DTSTART;TZID=Atlantic/Bermuda:20270828T100000
DTEND;TZID=Atlantic/Bermuda:20270828T120000
DTSTAMP:20260422T194116
CREATED:20260120T163406Z
LAST-MODIFIED:20260120T163406Z
UID:10010491-1819447200-1819454400@trinitysummerside.ca
SUMMARY:Trinity Arts Group
DESCRIPTION:Usually in the auditorium following Feed My Sheep Breakfasts 10am or 9am on the Saturdays with no breakfasts.
URL:https://trinitysummerside.ca/event/trinity-arts-group/2027-08-28/
END:VEVENT
BEGIN:VEVENT
DTSTART;TZID=Atlantic/Bermuda:20270904T100000
DTEND;TZID=Atlantic/Bermuda:20270904T120000
DTSTAMP:20260422T194116
CREATED:20260120T163406Z
LAST-MODIFIED:20260120T163406Z
UID:10010492-1820052000-1820059200@trinitysummerside.ca
SUMMARY:Trinity Arts Group
DESCRIPTION:Usually in the auditorium following Feed My Sheep Breakfasts 10am or 9am on the Saturdays with no breakfasts.
URL:https://trinitysummerside.ca/event/trinity-arts-group/2027-09-04/
END:VEVENT
BEGIN:VEVENT
DTSTART;TZID=Atlantic/Bermuda:20270911T083000
DTEND;TZID=Atlantic/Bermuda:20270911T100000
DTSTAMP:20260422T194116
CREATED:20251231T152915Z
LAST-MODIFIED:20251231T152915Z
UID:10010232-1820651400-1820656800@trinitysummerside.ca
SUMMARY:Feed My Sheep Breakfast
DESCRIPTION:In the Auditorium.
URL:https://trinitysummerside.ca/event/feed-my-sheep-breakfast-4/2027-09-11/
END:VEVENT
BEGIN:VEVENT
DTSTART;TZID=Atlantic/Bermuda:20270911T100000
DTEND;TZID=Atlantic/Bermuda:20270911T120000
DTSTAMP:20260422T194116
CREATED:20260120T163406Z
LAST-MODIFIED:20260120T163406Z
UID:10010493-1820656800-1820664000@trinitysummerside.ca
SUMMARY:Trinity Arts Group
DESCRIPTION:Usually in the auditorium following Feed My Sheep Breakfasts 10am or 9am on the Saturdays with no breakfasts.
URL:https://trinitysummerside.ca/event/trinity-arts-group/2027-09-11/
END:VEVENT
BEGIN:VEVENT
DTSTART;TZID=Atlantic/Bermuda:20270918T100000
DTEND;TZID=Atlantic/Bermuda:20270918T120000
DTSTAMP:20260422T194116
CREATED:20260120T163406Z
LAST-MODIFIED:20260120T163406Z
UID:10010494-1821261600-1821268800@trinitysummerside.ca
SUMMARY:Trinity Arts Group
DESCRIPTION:Usually in the auditorium following Feed My Sheep Breakfasts 10am or 9am on the Saturdays with no breakfasts.
URL:https://trinitysummerside.ca/event/trinity-arts-group/2027-09-18/
END:VEVENT
BEGIN:VEVENT
DTSTART;TZID=Atlantic/Bermuda:20270925T083000
DTEND;TZID=Atlantic/Bermuda:20270925T100000
DTSTAMP:20260422T194116
CREATED:20251231T153012Z
LAST-MODIFIED:20251231T153012Z
UID:10010292-1821861000-1821866400@trinitysummerside.ca
SUMMARY:Feed My Sheep Breakfast
DESCRIPTION:In the Auditorium.
URL:https://trinitysummerside.ca/event/feed-my-sheep-breakfast-5/2027-09-25/
END:VEVENT
BEGIN:VEVENT
DTSTART;TZID=Atlantic/Bermuda:20270925T100000
DTEND;TZID=Atlantic/Bermuda:20270925T120000
DTSTAMP:20260422T194116
CREATED:20260120T163406Z
LAST-MODIFIED:20260120T163406Z
UID:10010495-1821866400-1821873600@trinitysummerside.ca
SUMMARY:Trinity Arts Group
DESCRIPTION:Usually in the auditorium following Feed My Sheep Breakfasts 10am or 9am on the Saturdays with no breakfasts.
URL:https://trinitysummerside.ca/event/trinity-arts-group/2027-09-25/
END:VEVENT
BEGIN:VEVENT
DTSTART;TZID=Atlantic/Bermuda:20271002T100000
DTEND;TZID=Atlantic/Bermuda:20271002T120000
DTSTAMP:20260422T194116
CREATED:20260120T163406Z
LAST-MODIFIED:20260120T163406Z
UID:10010496-1822471200-1822478400@trinitysummerside.ca
SUMMARY:Trinity Arts Group
DESCRIPTION:Usually in the auditorium following Feed My Sheep Breakfasts 10am or 9am on the Saturdays with no breakfasts.
URL:https://trinitysummerside.ca/event/trinity-arts-group/2027-10-02/
END:VEVENT
BEGIN:VEVENT
DTSTART;TZID=Atlantic/Bermuda:20271009T083000
DTEND;TZID=Atlantic/Bermuda:20271009T100000
DTSTAMP:20260422T194116
CREATED:20251231T152915Z
LAST-MODIFIED:20251231T152915Z
UID:10010233-1823070600-1823076000@trinitysummerside.ca
SUMMARY:Feed My Sheep Breakfast
DESCRIPTION:In the Auditorium.
URL:https://trinitysummerside.ca/event/feed-my-sheep-breakfast-4/2027-10-09/
END:VEVENT
BEGIN:VEVENT
DTSTART;TZID=Atlantic/Bermuda:20271009T100000
DTEND;TZID=Atlantic/Bermuda:20271009T120000
DTSTAMP:20260422T194116
CREATED:20260120T163406Z
LAST-MODIFIED:20260120T163406Z
UID:10010497-1823076000-1823083200@trinitysummerside.ca
SUMMARY:Trinity Arts Group
DESCRIPTION:Usually in the auditorium following Feed My Sheep Breakfasts 10am or 9am on the Saturdays with no breakfasts.
URL:https://trinitysummerside.ca/event/trinity-arts-group/2027-10-09/
END:VEVENT
BEGIN:VEVENT
DTSTART;TZID=Atlantic/Bermuda:20271016T100000
DTEND;TZID=Atlantic/Bermuda:20271016T120000
DTSTAMP:20260422T194116
CREATED:20260120T163406Z
LAST-MODIFIED:20260120T163406Z
UID:10010498-1823680800-1823688000@trinitysummerside.ca
SUMMARY:Trinity Arts Group
DESCRIPTION:Usually in the auditorium following Feed My Sheep Breakfasts 10am or 9am on the Saturdays with no breakfasts.
URL:https://trinitysummerside.ca/event/trinity-arts-group/2027-10-16/
END:VEVENT
BEGIN:VEVENT
DTSTART;TZID=Atlantic/Bermuda:20271023T083000
DTEND;TZID=Atlantic/Bermuda:20271023T100000
DTSTAMP:20260422T194116
CREATED:20251231T153012Z
LAST-MODIFIED:20251231T153012Z
UID:10010293-1824280200-1824285600@trinitysummerside.ca
SUMMARY:Feed My Sheep Breakfast
DESCRIPTION:In the Auditorium.
URL:https://trinitysummerside.ca/event/feed-my-sheep-breakfast-5/2027-10-23/
END:VEVENT
BEGIN:VEVENT
DTSTART;TZID=Atlantic/Bermuda:20271023T100000
DTEND;TZID=Atlantic/Bermuda:20271023T120000
DTSTAMP:20260422T194116
CREATED:20260120T163406Z
LAST-MODIFIED:20260120T163406Z
UID:10010499-1824285600-1824292800@trinitysummerside.ca
SUMMARY:Trinity Arts Group
DESCRIPTION:Usually in the auditorium following Feed My Sheep Breakfasts 10am or 9am on the Saturdays with no breakfasts.
URL:https://trinitysummerside.ca/event/trinity-arts-group/2027-10-23/
END:VEVENT
BEGIN:VEVENT
DTSTART;TZID=Atlantic/Bermuda:20271030T100000
DTEND;TZID=Atlantic/Bermuda:20271030T120000
DTSTAMP:20260422T194116
CREATED:20260120T163406Z
LAST-MODIFIED:20260120T163406Z
UID:10010500-1824890400-1824897600@trinitysummerside.ca
SUMMARY:Trinity Arts Group
DESCRIPTION:Usually in the auditorium following Feed My Sheep Breakfasts 10am or 9am on the Saturdays with no breakfasts.
URL:https://trinitysummerside.ca/event/trinity-arts-group/2027-10-30/
END:VEVENT
BEGIN:VEVENT
DTSTART;TZID=Atlantic/Bermuda:20271106T100000
DTEND;TZID=Atlantic/Bermuda:20271106T120000
DTSTAMP:20260422T194116
CREATED:20260120T163406Z
LAST-MODIFIED:20260120T163406Z
UID:10010501-1825495200-1825502400@trinitysummerside.ca
SUMMARY:Trinity Arts Group
DESCRIPTION:Usually in the auditorium following Feed My Sheep Breakfasts 10am or 9am on the Saturdays with no breakfasts.
URL:https://trinitysummerside.ca/event/trinity-arts-group/2027-11-06/
END:VEVENT
BEGIN:VEVENT
DTSTART;TZID=Atlantic/Bermuda:20271113T083000
DTEND;TZID=Atlantic/Bermuda:20271113T100000
DTSTAMP:20260422T194116
CREATED:20251231T152915Z
LAST-MODIFIED:20251231T152915Z
UID:10010234-1826094600-1826100000@trinitysummerside.ca
SUMMARY:Feed My Sheep Breakfast
DESCRIPTION:In the Auditorium.
URL:https://trinitysummerside.ca/event/feed-my-sheep-breakfast-4/2027-11-13/
END:VEVENT
BEGIN:VEVENT
DTSTART;TZID=Atlantic/Bermuda:20271113T100000
DTEND;TZID=Atlantic/Bermuda:20271113T120000
DTSTAMP:20260422T194116
CREATED:20260120T163406Z
LAST-MODIFIED:20260120T163406Z
UID:10010502-1826100000-1826107200@trinitysummerside.ca
SUMMARY:Trinity Arts Group
DESCRIPTION:Usually in the auditorium following Feed My Sheep Breakfasts 10am or 9am on the Saturdays with no breakfasts.
URL:https://trinitysummerside.ca/event/trinity-arts-group/2027-11-13/
END:VEVENT
BEGIN:VEVENT
DTSTART;TZID=Atlantic/Bermuda:20271120T100000
DTEND;TZID=Atlantic/Bermuda:20271120T120000
DTSTAMP:20260422T194116
CREATED:20260120T163406Z
LAST-MODIFIED:20260120T163406Z
UID:10010503-1826704800-1826712000@trinitysummerside.ca
SUMMARY:Trinity Arts Group
DESCRIPTION:Usually in the auditorium following Feed My Sheep Breakfasts 10am or 9am on the Saturdays with no breakfasts.
URL:https://trinitysummerside.ca/event/trinity-arts-group/2027-11-20/
END:VEVENT
BEGIN:VEVENT
DTSTART;TZID=Atlantic/Bermuda:20271127T083000
DTEND;TZID=Atlantic/Bermuda:20271127T100000
DTSTAMP:20260422T194116
CREATED:20251231T153012Z
LAST-MODIFIED:20251231T153012Z
UID:10010294-1827304200-1827309600@trinitysummerside.ca
SUMMARY:Feed My Sheep Breakfast
DESCRIPTION:In the Auditorium.
URL:https://trinitysummerside.ca/event/feed-my-sheep-breakfast-5/2027-11-27/
END:VEVENT
BEGIN:VEVENT
DTSTART;TZID=Atlantic/Bermuda:20271127T100000
DTEND;TZID=Atlantic/Bermuda:20271127T120000
DTSTAMP:20260422T194116
CREATED:20260120T163406Z
LAST-MODIFIED:20260120T163406Z
UID:10010504-1827309600-1827316800@trinitysummerside.ca
SUMMARY:Trinity Arts Group
DESCRIPTION:Usually in the auditorium following Feed My Sheep Breakfasts 10am or 9am on the Saturdays with no breakfasts.
URL:https://trinitysummerside.ca/event/trinity-arts-group/2027-11-27/
END:VEVENT
BEGIN:VEVENT
DTSTART;TZID=Atlantic/Bermuda:20271204T100000
DTEND;TZID=Atlantic/Bermuda:20271204T120000
DTSTAMP:20260422T194116
CREATED:20260120T163406Z
LAST-MODIFIED:20260120T163406Z
UID:10010505-1827914400-1827921600@trinitysummerside.ca
SUMMARY:Trinity Arts Group
DESCRIPTION:Usually in the auditorium following Feed My Sheep Breakfasts 10am or 9am on the Saturdays with no breakfasts.
URL:https://trinitysummerside.ca/event/trinity-arts-group/2027-12-04/
END:VEVENT
END:VCALENDAR