BEGIN:VCALENDAR
VERSION:2.0
PRODID:-//Trinity United Church Summerside - ECPv6.15.20//NONSGML v1.0//EN
CALSCALE:GREGORIAN
METHOD:PUBLISH
X-WR-CALNAME:Trinity United Church Summerside
X-ORIGINAL-URL:https://trinitysummerside.ca
X-WR-CALDESC:Events for Trinity United Church Summerside
REFRESH-INTERVAL;VALUE=DURATION:PT1H
X-Robots-Tag:noindex
X-PUBLISHED-TTL:PT1H
BEGIN:VTIMEZONE
TZID:Atlantic/Bermuda
BEGIN:DAYLIGHT
TZOFFSETFROM:-0400
TZOFFSETTO:-0300
TZNAME:ADT
DTSTART:20260308T060000
END:DAYLIGHT
BEGIN:STANDARD
TZOFFSETFROM:-0300
TZOFFSETTO:-0400
TZNAME:AST
DTSTART:20261101T050000
END:STANDARD
BEGIN:DAYLIGHT
TZOFFSETFROM:-0400
TZOFFSETTO:-0300
TZNAME:ADT
DTSTART:20270314T060000
END:DAYLIGHT
BEGIN:STANDARD
TZOFFSETFROM:-0300
TZOFFSETTO:-0400
TZNAME:AST
DTSTART:20271107T050000
END:STANDARD
BEGIN:DAYLIGHT
TZOFFSETFROM:-0400
TZOFFSETTO:-0300
TZNAME:ADT
DTSTART:20280312T060000
END:DAYLIGHT
BEGIN:STANDARD
TZOFFSETFROM:-0300
TZOFFSETTO:-0400
TZNAME:AST
DTSTART:20281105T050000
END:STANDARD
END:VTIMEZONE
BEGIN:VEVENT
DTSTART;TZID=Atlantic/Bermuda:20270313T083000
DTEND;TZID=Atlantic/Bermuda:20270313T100000
DTSTAMP:20260422T194243
CREATED:20251231T152915Z
LAST-MODIFIED:20251231T152915Z
UID:10010226-1804926600-1804932000@trinitysummerside.ca
SUMMARY:Feed My Sheep Breakfast
DESCRIPTION:In the Auditorium.
URL:https://trinitysummerside.ca/event/feed-my-sheep-breakfast-4/2027-03-13/
END:VEVENT
BEGIN:VEVENT
DTSTART;TZID=Atlantic/Bermuda:20270313T100000
DTEND;TZID=Atlantic/Bermuda:20270313T120000
DTSTAMP:20260422T194243
CREATED:20260120T163406Z
LAST-MODIFIED:20260120T163406Z
UID:10010467-1804932000-1804939200@trinitysummerside.ca
SUMMARY:Trinity Arts Group
DESCRIPTION:Usually in the auditorium following Feed My Sheep Breakfasts 10am or 9am on the Saturdays with no breakfasts.
URL:https://trinitysummerside.ca/event/trinity-arts-group/2027-03-13/
END:VEVENT
BEGIN:VEVENT
DTSTART;TZID=Atlantic/Bermuda:20270320T100000
DTEND;TZID=Atlantic/Bermuda:20270320T120000
DTSTAMP:20260422T194243
CREATED:20260120T163406Z
LAST-MODIFIED:20260120T163406Z
UID:10010468-1805536800-1805544000@trinitysummerside.ca
SUMMARY:Trinity Arts Group
DESCRIPTION:Usually in the auditorium following Feed My Sheep Breakfasts 10am or 9am on the Saturdays with no breakfasts.
URL:https://trinitysummerside.ca/event/trinity-arts-group/2027-03-20/
END:VEVENT
BEGIN:VEVENT
DTSTART;TZID=Atlantic/Bermuda:20270327T083000
DTEND;TZID=Atlantic/Bermuda:20270327T100000
DTSTAMP:20260422T194243
CREATED:20251231T153012Z
LAST-MODIFIED:20251231T153012Z
UID:10010286-1806136200-1806141600@trinitysummerside.ca
SUMMARY:Feed My Sheep Breakfast
DESCRIPTION:In the Auditorium.
URL:https://trinitysummerside.ca/event/feed-my-sheep-breakfast-5/2027-03-27/
END:VEVENT
BEGIN:VEVENT
DTSTART;TZID=Atlantic/Bermuda:20270327T100000
DTEND;TZID=Atlantic/Bermuda:20270327T120000
DTSTAMP:20260422T194243
CREATED:20260120T163406Z
LAST-MODIFIED:20260120T163406Z
UID:10010469-1806141600-1806148800@trinitysummerside.ca
SUMMARY:Trinity Arts Group
DESCRIPTION:Usually in the auditorium following Feed My Sheep Breakfasts 10am or 9am on the Saturdays with no breakfasts.
URL:https://trinitysummerside.ca/event/trinity-arts-group/2027-03-27/
END:VEVENT
BEGIN:VEVENT
DTSTART;TZID=Atlantic/Bermuda:20270403T100000
DTEND;TZID=Atlantic/Bermuda:20270403T120000
DTSTAMP:20260422T194243
CREATED:20260120T163406Z
LAST-MODIFIED:20260120T163406Z
UID:10010470-1806746400-1806753600@trinitysummerside.ca
SUMMARY:Trinity Arts Group
DESCRIPTION:Usually in the auditorium following Feed My Sheep Breakfasts 10am or 9am on the Saturdays with no breakfasts.
URL:https://trinitysummerside.ca/event/trinity-arts-group/2027-04-03/
END:VEVENT
BEGIN:VEVENT
DTSTART;TZID=Atlantic/Bermuda:20270410T083000
DTEND;TZID=Atlantic/Bermuda:20270410T100000
DTSTAMP:20260422T194243
CREATED:20251231T152915Z
LAST-MODIFIED:20251231T152915Z
UID:10010227-1807345800-1807351200@trinitysummerside.ca
SUMMARY:Feed My Sheep Breakfast
DESCRIPTION:In the Auditorium.
URL:https://trinitysummerside.ca/event/feed-my-sheep-breakfast-4/2027-04-10/
END:VEVENT
BEGIN:VEVENT
DTSTART;TZID=Atlantic/Bermuda:20270410T100000
DTEND;TZID=Atlantic/Bermuda:20270410T120000
DTSTAMP:20260422T194243
CREATED:20260120T163406Z
LAST-MODIFIED:20260120T163406Z
UID:10010471-1807351200-1807358400@trinitysummerside.ca
SUMMARY:Trinity Arts Group
DESCRIPTION:Usually in the auditorium following Feed My Sheep Breakfasts 10am or 9am on the Saturdays with no breakfasts.
URL:https://trinitysummerside.ca/event/trinity-arts-group/2027-04-10/
END:VEVENT
BEGIN:VEVENT
DTSTART;TZID=Atlantic/Bermuda:20270417T100000
DTEND;TZID=Atlantic/Bermuda:20270417T120000
DTSTAMP:20260422T194243
CREATED:20260120T163406Z
LAST-MODIFIED:20260120T163406Z
UID:10010472-1807956000-1807963200@trinitysummerside.ca
SUMMARY:Trinity Arts Group
DESCRIPTION:Usually in the auditorium following Feed My Sheep Breakfasts 10am or 9am on the Saturdays with no breakfasts.
URL:https://trinitysummerside.ca/event/trinity-arts-group/2027-04-17/
END:VEVENT
BEGIN:VEVENT
DTSTART;TZID=Atlantic/Bermuda:20270424T083000
DTEND;TZID=Atlantic/Bermuda:20270424T100000
DTSTAMP:20260422T194243
CREATED:20251231T153012Z
LAST-MODIFIED:20251231T153012Z
UID:10010287-1808555400-1808560800@trinitysummerside.ca
SUMMARY:Feed My Sheep Breakfast
DESCRIPTION:In the Auditorium.
URL:https://trinitysummerside.ca/event/feed-my-sheep-breakfast-5/2027-04-24/
END:VEVENT
BEGIN:VEVENT
DTSTART;TZID=Atlantic/Bermuda:20270424T100000
DTEND;TZID=Atlantic/Bermuda:20270424T120000
DTSTAMP:20260422T194243
CREATED:20260120T163406Z
LAST-MODIFIED:20260120T163406Z
UID:10010473-1808560800-1808568000@trinitysummerside.ca
SUMMARY:Trinity Arts Group
DESCRIPTION:Usually in the auditorium following Feed My Sheep Breakfasts 10am or 9am on the Saturdays with no breakfasts.
URL:https://trinitysummerside.ca/event/trinity-arts-group/2027-04-24/
END:VEVENT
BEGIN:VEVENT
DTSTART;TZID=Atlantic/Bermuda:20270501T100000
DTEND;TZID=Atlantic/Bermuda:20270501T120000
DTSTAMP:20260422T194243
CREATED:20260120T163406Z
LAST-MODIFIED:20260120T163406Z
UID:10010474-1809165600-1809172800@trinitysummerside.ca
SUMMARY:Trinity Arts Group
DESCRIPTION:Usually in the auditorium following Feed My Sheep Breakfasts 10am or 9am on the Saturdays with no breakfasts.
URL:https://trinitysummerside.ca/event/trinity-arts-group/2027-05-01/
END:VEVENT
BEGIN:VEVENT
DTSTART;TZID=Atlantic/Bermuda:20270508T083000
DTEND;TZID=Atlantic/Bermuda:20270508T100000
DTSTAMP:20260422T194243
CREATED:20251231T152915Z
LAST-MODIFIED:20251231T152915Z
UID:10010228-1809765000-1809770400@trinitysummerside.ca
SUMMARY:Feed My Sheep Breakfast
DESCRIPTION:In the Auditorium.
URL:https://trinitysummerside.ca/event/feed-my-sheep-breakfast-4/2027-05-08/
END:VEVENT
BEGIN:VEVENT
DTSTART;TZID=Atlantic/Bermuda:20270508T100000
DTEND;TZID=Atlantic/Bermuda:20270508T120000
DTSTAMP:20260422T194243
CREATED:20260120T163406Z
LAST-MODIFIED:20260120T163406Z
UID:10010475-1809770400-1809777600@trinitysummerside.ca
SUMMARY:Trinity Arts Group
DESCRIPTION:Usually in the auditorium following Feed My Sheep Breakfasts 10am or 9am on the Saturdays with no breakfasts.
URL:https://trinitysummerside.ca/event/trinity-arts-group/2027-05-08/
END:VEVENT
BEGIN:VEVENT
DTSTART;TZID=Atlantic/Bermuda:20270515T100000
DTEND;TZID=Atlantic/Bermuda:20270515T120000
DTSTAMP:20260422T194243
CREATED:20260120T163406Z
LAST-MODIFIED:20260120T163406Z
UID:10010476-1810375200-1810382400@trinitysummerside.ca
SUMMARY:Trinity Arts Group
DESCRIPTION:Usually in the auditorium following Feed My Sheep Breakfasts 10am or 9am on the Saturdays with no breakfasts.
URL:https://trinitysummerside.ca/event/trinity-arts-group/2027-05-15/
END:VEVENT
BEGIN:VEVENT
DTSTART;TZID=Atlantic/Bermuda:20270522T083000
DTEND;TZID=Atlantic/Bermuda:20270522T100000
DTSTAMP:20260422T194243
CREATED:20251231T153012Z
LAST-MODIFIED:20251231T153012Z
UID:10010288-1810974600-1810980000@trinitysummerside.ca
SUMMARY:Feed My Sheep Breakfast
DESCRIPTION:In the Auditorium.
URL:https://trinitysummerside.ca/event/feed-my-sheep-breakfast-5/2027-05-22/
END:VEVENT
BEGIN:VEVENT
DTSTART;TZID=Atlantic/Bermuda:20270522T100000
DTEND;TZID=Atlantic/Bermuda:20270522T120000
DTSTAMP:20260422T194243
CREATED:20260120T163406Z
LAST-MODIFIED:20260120T163406Z
UID:10010477-1810980000-1810987200@trinitysummerside.ca
SUMMARY:Trinity Arts Group
DESCRIPTION:Usually in the auditorium following Feed My Sheep Breakfasts 10am or 9am on the Saturdays with no breakfasts.
URL:https://trinitysummerside.ca/event/trinity-arts-group/2027-05-22/
END:VEVENT
BEGIN:VEVENT
DTSTART;TZID=Atlantic/Bermuda:20270529T100000
DTEND;TZID=Atlantic/Bermuda:20270529T120000
DTSTAMP:20260422T194243
CREATED:20260120T163406Z
LAST-MODIFIED:20260120T163406Z
UID:10010478-1811584800-1811592000@trinitysummerside.ca
SUMMARY:Trinity Arts Group
DESCRIPTION:Usually in the auditorium following Feed My Sheep Breakfasts 10am or 9am on the Saturdays with no breakfasts.
URL:https://trinitysummerside.ca/event/trinity-arts-group/2027-05-29/
END:VEVENT
BEGIN:VEVENT
DTSTART;TZID=Atlantic/Bermuda:20270605T100000
DTEND;TZID=Atlantic/Bermuda:20270605T120000
DTSTAMP:20260422T194243
CREATED:20260120T163406Z
LAST-MODIFIED:20260120T163406Z
UID:10010479-1812189600-1812196800@trinitysummerside.ca
SUMMARY:Trinity Arts Group
DESCRIPTION:Usually in the auditorium following Feed My Sheep Breakfasts 10am or 9am on the Saturdays with no breakfasts.
URL:https://trinitysummerside.ca/event/trinity-arts-group/2027-06-05/
END:VEVENT
BEGIN:VEVENT
DTSTART;TZID=Atlantic/Bermuda:20270612T083000
DTEND;TZID=Atlantic/Bermuda:20270612T100000
DTSTAMP:20260422T194243
CREATED:20251231T152915Z
LAST-MODIFIED:20251231T152915Z
UID:10010229-1812789000-1812794400@trinitysummerside.ca
SUMMARY:Feed My Sheep Breakfast
DESCRIPTION:In the Auditorium.
URL:https://trinitysummerside.ca/event/feed-my-sheep-breakfast-4/2027-06-12/
END:VEVENT
BEGIN:VEVENT
DTSTART;TZID=Atlantic/Bermuda:20270612T100000
DTEND;TZID=Atlantic/Bermuda:20270612T120000
DTSTAMP:20260422T194243
CREATED:20260120T163406Z
LAST-MODIFIED:20260120T163406Z
UID:10010480-1812794400-1812801600@trinitysummerside.ca
SUMMARY:Trinity Arts Group
DESCRIPTION:Usually in the auditorium following Feed My Sheep Breakfasts 10am or 9am on the Saturdays with no breakfasts.
URL:https://trinitysummerside.ca/event/trinity-arts-group/2027-06-12/
END:VEVENT
BEGIN:VEVENT
DTSTART;TZID=Atlantic/Bermuda:20270619T100000
DTEND;TZID=Atlantic/Bermuda:20270619T120000
DTSTAMP:20260422T194243
CREATED:20260120T163406Z
LAST-MODIFIED:20260120T163406Z
UID:10010481-1813399200-1813406400@trinitysummerside.ca
SUMMARY:Trinity Arts Group
DESCRIPTION:Usually in the auditorium following Feed My Sheep Breakfasts 10am or 9am on the Saturdays with no breakfasts.
URL:https://trinitysummerside.ca/event/trinity-arts-group/2027-06-19/
END:VEVENT
BEGIN:VEVENT
DTSTART;TZID=Atlantic/Bermuda:20270626T083000
DTEND;TZID=Atlantic/Bermuda:20270626T100000
DTSTAMP:20260422T194243
CREATED:20251231T153012Z
LAST-MODIFIED:20251231T153012Z
UID:10010289-1813998600-1814004000@trinitysummerside.ca
SUMMARY:Feed My Sheep Breakfast
DESCRIPTION:In the Auditorium.
URL:https://trinitysummerside.ca/event/feed-my-sheep-breakfast-5/2027-06-26/
END:VEVENT
BEGIN:VEVENT
DTSTART;TZID=Atlantic/Bermuda:20270626T100000
DTEND;TZID=Atlantic/Bermuda:20270626T120000
DTSTAMP:20260422T194243
CREATED:20260120T163406Z
LAST-MODIFIED:20260120T163406Z
UID:10010482-1814004000-1814011200@trinitysummerside.ca
SUMMARY:Trinity Arts Group
DESCRIPTION:Usually in the auditorium following Feed My Sheep Breakfasts 10am or 9am on the Saturdays with no breakfasts.
URL:https://trinitysummerside.ca/event/trinity-arts-group/2027-06-26/
END:VEVENT
BEGIN:VEVENT
DTSTART;TZID=Atlantic/Bermuda:20270703T100000
DTEND;TZID=Atlantic/Bermuda:20270703T120000
DTSTAMP:20260422T194243
CREATED:20260120T163406Z
LAST-MODIFIED:20260120T163406Z
UID:10010483-1814608800-1814616000@trinitysummerside.ca
SUMMARY:Trinity Arts Group
DESCRIPTION:Usually in the auditorium following Feed My Sheep Breakfasts 10am or 9am on the Saturdays with no breakfasts.
URL:https://trinitysummerside.ca/event/trinity-arts-group/2027-07-03/
END:VEVENT
BEGIN:VEVENT
DTSTART;TZID=Atlantic/Bermuda:20270710T083000
DTEND;TZID=Atlantic/Bermuda:20270710T100000
DTSTAMP:20260422T194243
CREATED:20251231T152915Z
LAST-MODIFIED:20251231T152915Z
UID:10010230-1815208200-1815213600@trinitysummerside.ca
SUMMARY:Feed My Sheep Breakfast
DESCRIPTION:In the Auditorium.
URL:https://trinitysummerside.ca/event/feed-my-sheep-breakfast-4/2027-07-10/
END:VEVENT
BEGIN:VEVENT
DTSTART;TZID=Atlantic/Bermuda:20270710T100000
DTEND;TZID=Atlantic/Bermuda:20270710T120000
DTSTAMP:20260422T194243
CREATED:20260120T163406Z
LAST-MODIFIED:20260120T163406Z
UID:10010484-1815213600-1815220800@trinitysummerside.ca
SUMMARY:Trinity Arts Group
DESCRIPTION:Usually in the auditorium following Feed My Sheep Breakfasts 10am or 9am on the Saturdays with no breakfasts.
URL:https://trinitysummerside.ca/event/trinity-arts-group/2027-07-10/
END:VEVENT
BEGIN:VEVENT
DTSTART;TZID=Atlantic/Bermuda:20270717T100000
DTEND;TZID=Atlantic/Bermuda:20270717T120000
DTSTAMP:20260422T194243
CREATED:20260120T163406Z
LAST-MODIFIED:20260120T163406Z
UID:10010485-1815818400-1815825600@trinitysummerside.ca
SUMMARY:Trinity Arts Group
DESCRIPTION:Usually in the auditorium following Feed My Sheep Breakfasts 10am or 9am on the Saturdays with no breakfasts.
URL:https://trinitysummerside.ca/event/trinity-arts-group/2027-07-17/
END:VEVENT
BEGIN:VEVENT
DTSTART;TZID=Atlantic/Bermuda:20270724T083000
DTEND;TZID=Atlantic/Bermuda:20270724T100000
DTSTAMP:20260422T194243
CREATED:20251231T153012Z
LAST-MODIFIED:20251231T153012Z
UID:10010290-1816417800-1816423200@trinitysummerside.ca
SUMMARY:Feed My Sheep Breakfast
DESCRIPTION:In the Auditorium.
URL:https://trinitysummerside.ca/event/feed-my-sheep-breakfast-5/2027-07-24/
END:VEVENT
BEGIN:VEVENT
DTSTART;TZID=Atlantic/Bermuda:20270724T100000
DTEND;TZID=Atlantic/Bermuda:20270724T120000
DTSTAMP:20260422T194243
CREATED:20260120T163406Z
LAST-MODIFIED:20260120T163406Z
UID:10010486-1816423200-1816430400@trinitysummerside.ca
SUMMARY:Trinity Arts Group
DESCRIPTION:Usually in the auditorium following Feed My Sheep Breakfasts 10am or 9am on the Saturdays with no breakfasts.
URL:https://trinitysummerside.ca/event/trinity-arts-group/2027-07-24/
END:VEVENT
END:VCALENDAR