BEGIN:VCALENDAR
VERSION:2.0
PRODID:-//Trinity United Church Summerside - ECPv6.15.20//NONSGML v1.0//EN
CALSCALE:GREGORIAN
METHOD:PUBLISH
X-WR-CALNAME:Trinity United Church Summerside
X-ORIGINAL-URL:https://trinitysummerside.ca
X-WR-CALDESC:Events for Trinity United Church Summerside
REFRESH-INTERVAL;VALUE=DURATION:PT1H
X-Robots-Tag:noindex
X-PUBLISHED-TTL:PT1H
BEGIN:VTIMEZONE
TZID:Atlantic/Bermuda
BEGIN:DAYLIGHT
TZOFFSETFROM:-0400
TZOFFSETTO:-0300
TZNAME:ADT
DTSTART:20240310T060000
END:DAYLIGHT
BEGIN:STANDARD
TZOFFSETFROM:-0300
TZOFFSETTO:-0400
TZNAME:AST
DTSTART:20241103T050000
END:STANDARD
BEGIN:DAYLIGHT
TZOFFSETFROM:-0400
TZOFFSETTO:-0300
TZNAME:ADT
DTSTART:20250309T060000
END:DAYLIGHT
BEGIN:STANDARD
TZOFFSETFROM:-0300
TZOFFSETTO:-0400
TZNAME:AST
DTSTART:20251102T050000
END:STANDARD
BEGIN:DAYLIGHT
TZOFFSETFROM:-0400
TZOFFSETTO:-0300
TZNAME:ADT
DTSTART:20260308T060000
END:DAYLIGHT
BEGIN:STANDARD
TZOFFSETFROM:-0300
TZOFFSETTO:-0400
TZNAME:AST
DTSTART:20261101T050000
END:STANDARD
END:VTIMEZONE
BEGIN:VEVENT
DTSTART;TZID=Atlantic/Bermuda:20251202T090000
DTEND;TZID=Atlantic/Bermuda:20251202T130000
DTSTAMP:20260422T093807
CREATED:20251124T182620Z
LAST-MODIFIED:20251124T182620Z
UID:10010141-1764666000-1764680400@trinitysummerside.ca
SUMMARY:Private Kitchen Rental
DESCRIPTION:
URL:https://trinitysummerside.ca/event/private-kitchen-rental/
END:VEVENT
BEGIN:VEVENT
DTSTART;TZID=Atlantic/Bermuda:20251130T140000
DTEND;TZID=Atlantic/Bermuda:20251130T163000
DTSTAMP:20260422T093807
CREATED:20251008T133535Z
LAST-MODIFIED:20251008T133535Z
UID:10010124-1764511200-1764520200@trinitysummerside.ca
SUMMARY:Fandango Concert - Sanctuary
DESCRIPTION:Check their website for more information: \nhttps://www.fandangomusicalplayers.com/
URL:https://trinitysummerside.ca/event/fandango-concert-sanctuary/
END:VEVENT
BEGIN:VEVENT
DTSTART;TZID=Atlantic/Bermuda:20251127T183000
DTEND;TZID=Atlantic/Bermuda:20251127T210000
DTSTAMP:20260422T093807
CREATED:20251008T131557Z
LAST-MODIFIED:20251008T131557Z
UID:10010123-1764268200-1764277200@trinitysummerside.ca
SUMMARY:Trinity Council Meeting - zoom only
DESCRIPTION:
URL:https://trinitysummerside.ca/event/trinity-council-meeting-zoom-only/
END:VEVENT
BEGIN:VEVENT
DTSTART;TZID=Atlantic/Bermuda:20251126T133000
DTEND;TZID=Atlantic/Bermuda:20251126T140000
DTSTAMP:20260422T093807
CREATED:20250205T183300Z
LAST-MODIFIED:20250205T183300Z
UID:10009739-1764163800-1764165600@trinitysummerside.ca
SUMMARY:Wedgewood Manor service
DESCRIPTION:
URL:https://trinitysummerside.ca/event/wedgewood-manor-service-9/
END:VEVENT
BEGIN:VEVENT
DTSTART;TZID=Atlantic/Bermuda:20251125T110000
DTEND;TZID=Atlantic/Bermuda:20251125T130000
DTSTAMP:20260422T093807
CREATED:20251124T183509Z
LAST-MODIFIED:20251124T183509Z
UID:10010147-1764068400-1764075600@trinitysummerside.ca
SUMMARY:Silvertones Special Rehearsal
DESCRIPTION:Sanctuary
URL:https://trinitysummerside.ca/event/silvertones-special-rehearsal/
END:VEVENT
BEGIN:VEVENT
DTSTART;TZID=Atlantic/Bermuda:20251123T114500
DTEND;TZID=Atlantic/Bermuda:20251123T130000
DTSTAMP:20260422T093807
CREATED:20251008T131440Z
LAST-MODIFIED:20251008T131440Z
UID:10010122-1763898300-1763902800@trinitysummerside.ca
SUMMARY:Communication Team Meeting
DESCRIPTION:Boardroom and zoom
URL:https://trinitysummerside.ca/event/communication-team-meeting-2/
END:VEVENT
BEGIN:VEVENT
DTSTART;TZID=Atlantic/Bermuda:20251122T083000
DTEND;TZID=Atlantic/Bermuda:20251122T153000
DTSTAMP:20260422T093807
CREATED:20251008T131233Z
LAST-MODIFIED:20251008T131233Z
UID:10010121-1763800200-1763825400@trinitysummerside.ca
SUMMARY:IRSA Warm Clothing Giveaway
DESCRIPTION:Auditorium
URL:https://trinitysummerside.ca/event/irsa-warm-clothing-giveaway/
END:VEVENT
BEGIN:VEVENT
DTSTART;TZID=Atlantic/Bermuda:20251122T083000
DTEND;TZID=Atlantic/Bermuda:20251122T100000
DTSTAMP:20260422T093807
CREATED:20251113T190041Z
LAST-MODIFIED:20251113T190041Z
UID:10010138-1763800200-1763805600@trinitysummerside.ca
SUMMARY:Feed My Sheep Breakfast
DESCRIPTION:Auditorium
URL:https://trinitysummerside.ca/event/feed-my-sheep-breakfast/
END:VEVENT
BEGIN:VEVENT
DTSTART;TZID=Atlantic/Bermuda:20251120T133000
DTEND;TZID=Atlantic/Bermuda:20251120T140000
DTSTAMP:20260422T093807
CREATED:20250205T183130Z
LAST-MODIFIED:20250205T183130Z
UID:10009738-1763645400-1763647200@trinitysummerside.ca
SUMMARY:Parkhill service
DESCRIPTION:
URL:https://trinitysummerside.ca/event/parkhill-service-8/
END:VEVENT
END:VCALENDAR