BEGIN:VCALENDAR
VERSION:2.0
PRODID:-//Trinity United Church Summerside - ECPv6.15.20//NONSGML v1.0//EN
CALSCALE:GREGORIAN
METHOD:PUBLISH
X-ORIGINAL-URL:https://trinitysummerside.ca
X-WR-CALDESC:Events for Trinity United Church Summerside
REFRESH-INTERVAL;VALUE=DURATION:PT1H
X-Robots-Tag:noindex
X-PUBLISHED-TTL:PT1H
BEGIN:VTIMEZONE
TZID:Atlantic/Bermuda
BEGIN:DAYLIGHT
TZOFFSETFROM:-0400
TZOFFSETTO:-0300
TZNAME:ADT
DTSTART:20270314T060000
END:DAYLIGHT
BEGIN:STANDARD
TZOFFSETFROM:-0300
TZOFFSETTO:-0400
TZNAME:AST
DTSTART:20271107T050000
END:STANDARD
BEGIN:DAYLIGHT
TZOFFSETFROM:-0400
TZOFFSETTO:-0300
TZNAME:ADT
DTSTART:20280312T060000
END:DAYLIGHT
BEGIN:STANDARD
TZOFFSETFROM:-0300
TZOFFSETTO:-0400
TZNAME:AST
DTSTART:20281105T050000
END:STANDARD
BEGIN:DAYLIGHT
TZOFFSETFROM:-0400
TZOFFSETTO:-0300
TZNAME:ADT
DTSTART:20290311T060000
END:DAYLIGHT
BEGIN:STANDARD
TZOFFSETFROM:-0300
TZOFFSETTO:-0400
TZNAME:AST
DTSTART:20291104T050000
END:STANDARD
END:VTIMEZONE
BEGIN:VEVENT
DTSTART;TZID=Atlantic/Bermuda:20280429T100000
DTEND;TZID=Atlantic/Bermuda:20280429T120000
DTSTAMP:20260422T190422
CREATED:20260120T163406Z
LAST-MODIFIED:20260120T163406Z
UID:10010526-1840615200-1840622400@trinitysummerside.ca
SUMMARY:Trinity Arts Group
DESCRIPTION:Usually in the auditorium following Feed My Sheep Breakfasts 10am or 9am on the Saturdays with no breakfasts.
URL:https://trinitysummerside.ca/event/trinity-arts-group/2028-04-29/
END:VEVENT
BEGIN:VEVENT
DTSTART;TZID=Atlantic/Bermuda:20280506T100000
DTEND;TZID=Atlantic/Bermuda:20280506T120000
DTSTAMP:20260422T190422
CREATED:20260120T163406Z
LAST-MODIFIED:20260120T163406Z
UID:10010527-1841220000-1841227200@trinitysummerside.ca
SUMMARY:Trinity Arts Group
DESCRIPTION:Usually in the auditorium following Feed My Sheep Breakfasts 10am or 9am on the Saturdays with no breakfasts.
URL:https://trinitysummerside.ca/event/trinity-arts-group/2028-05-06/
END:VEVENT
BEGIN:VEVENT
DTSTART;TZID=Atlantic/Bermuda:20280513T083000
DTEND;TZID=Atlantic/Bermuda:20280513T100000
DTSTAMP:20260422T190422
CREATED:20251231T152915Z
LAST-MODIFIED:20251231T152915Z
UID:10010240-1841819400-1841824800@trinitysummerside.ca
SUMMARY:Feed My Sheep Breakfast
DESCRIPTION:In the Auditorium.
URL:https://trinitysummerside.ca/event/feed-my-sheep-breakfast-4/2028-05-13/
END:VEVENT
BEGIN:VEVENT
DTSTART;TZID=Atlantic/Bermuda:20280513T100000
DTEND;TZID=Atlantic/Bermuda:20280513T120000
DTSTAMP:20260422T190422
CREATED:20260120T163406Z
LAST-MODIFIED:20260120T163406Z
UID:10010528-1841824800-1841832000@trinitysummerside.ca
SUMMARY:Trinity Arts Group
DESCRIPTION:Usually in the auditorium following Feed My Sheep Breakfasts 10am or 9am on the Saturdays with no breakfasts.
URL:https://trinitysummerside.ca/event/trinity-arts-group/2028-05-13/
END:VEVENT
BEGIN:VEVENT
DTSTART;TZID=Atlantic/Bermuda:20280520T100000
DTEND;TZID=Atlantic/Bermuda:20280520T120000
DTSTAMP:20260422T190422
CREATED:20260120T163406Z
LAST-MODIFIED:20260120T163406Z
UID:10010529-1842429600-1842436800@trinitysummerside.ca
SUMMARY:Trinity Arts Group
DESCRIPTION:Usually in the auditorium following Feed My Sheep Breakfasts 10am or 9am on the Saturdays with no breakfasts.
URL:https://trinitysummerside.ca/event/trinity-arts-group/2028-05-20/
END:VEVENT
BEGIN:VEVENT
DTSTART;TZID=Atlantic/Bermuda:20280527T083000
DTEND;TZID=Atlantic/Bermuda:20280527T100000
DTSTAMP:20260422T190422
CREATED:20251231T153012Z
LAST-MODIFIED:20251231T153012Z
UID:10010300-1843029000-1843034400@trinitysummerside.ca
SUMMARY:Feed My Sheep Breakfast
DESCRIPTION:In the Auditorium.
URL:https://trinitysummerside.ca/event/feed-my-sheep-breakfast-5/2028-05-27/
END:VEVENT
BEGIN:VEVENT
DTSTART;TZID=Atlantic/Bermuda:20280527T100000
DTEND;TZID=Atlantic/Bermuda:20280527T120000
DTSTAMP:20260422T190422
CREATED:20260120T163406Z
LAST-MODIFIED:20260120T163406Z
UID:10010530-1843034400-1843041600@trinitysummerside.ca
SUMMARY:Trinity Arts Group
DESCRIPTION:Usually in the auditorium following Feed My Sheep Breakfasts 10am or 9am on the Saturdays with no breakfasts.
URL:https://trinitysummerside.ca/event/trinity-arts-group/2028-05-27/
END:VEVENT
BEGIN:VEVENT
DTSTART;TZID=Atlantic/Bermuda:20280603T100000
DTEND;TZID=Atlantic/Bermuda:20280603T120000
DTSTAMP:20260422T190422
CREATED:20260120T163406Z
LAST-MODIFIED:20260120T163406Z
UID:10010531-1843639200-1843646400@trinitysummerside.ca
SUMMARY:Trinity Arts Group
DESCRIPTION:Usually in the auditorium following Feed My Sheep Breakfasts 10am or 9am on the Saturdays with no breakfasts.
URL:https://trinitysummerside.ca/event/trinity-arts-group/2028-06-03/
END:VEVENT
BEGIN:VEVENT
DTSTART;TZID=Atlantic/Bermuda:20280610T083000
DTEND;TZID=Atlantic/Bermuda:20280610T100000
DTSTAMP:20260422T190422
CREATED:20251231T152915Z
LAST-MODIFIED:20251231T152915Z
UID:10010241-1844238600-1844244000@trinitysummerside.ca
SUMMARY:Feed My Sheep Breakfast
DESCRIPTION:In the Auditorium.
URL:https://trinitysummerside.ca/event/feed-my-sheep-breakfast-4/2028-06-10/
END:VEVENT
BEGIN:VEVENT
DTSTART;TZID=Atlantic/Bermuda:20280610T100000
DTEND;TZID=Atlantic/Bermuda:20280610T120000
DTSTAMP:20260422T190422
CREATED:20260120T163406Z
LAST-MODIFIED:20260120T163406Z
UID:10010532-1844244000-1844251200@trinitysummerside.ca
SUMMARY:Trinity Arts Group
DESCRIPTION:Usually in the auditorium following Feed My Sheep Breakfasts 10am or 9am on the Saturdays with no breakfasts.
URL:https://trinitysummerside.ca/event/trinity-arts-group/2028-06-10/
END:VEVENT
BEGIN:VEVENT
DTSTART;TZID=Atlantic/Bermuda:20280617T100000
DTEND;TZID=Atlantic/Bermuda:20280617T120000
DTSTAMP:20260422T190422
CREATED:20260120T163406Z
LAST-MODIFIED:20260120T163406Z
UID:10010533-1844848800-1844856000@trinitysummerside.ca
SUMMARY:Trinity Arts Group
DESCRIPTION:Usually in the auditorium following Feed My Sheep Breakfasts 10am or 9am on the Saturdays with no breakfasts.
URL:https://trinitysummerside.ca/event/trinity-arts-group/2028-06-17/
END:VEVENT
BEGIN:VEVENT
DTSTART;TZID=Atlantic/Bermuda:20280624T083000
DTEND;TZID=Atlantic/Bermuda:20280624T100000
DTSTAMP:20260422T190422
CREATED:20251231T153012Z
LAST-MODIFIED:20251231T153012Z
UID:10010301-1845448200-1845453600@trinitysummerside.ca
SUMMARY:Feed My Sheep Breakfast
DESCRIPTION:In the Auditorium.
URL:https://trinitysummerside.ca/event/feed-my-sheep-breakfast-5/2028-06-24/
END:VEVENT
BEGIN:VEVENT
DTSTART;TZID=Atlantic/Bermuda:20280624T100000
DTEND;TZID=Atlantic/Bermuda:20280624T120000
DTSTAMP:20260422T190422
CREATED:20260120T163406Z
LAST-MODIFIED:20260120T163406Z
UID:10010534-1845453600-1845460800@trinitysummerside.ca
SUMMARY:Trinity Arts Group
DESCRIPTION:Usually in the auditorium following Feed My Sheep Breakfasts 10am or 9am on the Saturdays with no breakfasts.
URL:https://trinitysummerside.ca/event/trinity-arts-group/2028-06-24/
END:VEVENT
BEGIN:VEVENT
DTSTART;TZID=Atlantic/Bermuda:20280701T100000
DTEND;TZID=Atlantic/Bermuda:20280701T120000
DTSTAMP:20260422T190422
CREATED:20260120T163406Z
LAST-MODIFIED:20260120T163406Z
UID:10010535-1846058400-1846065600@trinitysummerside.ca
SUMMARY:Trinity Arts Group
DESCRIPTION:Usually in the auditorium following Feed My Sheep Breakfasts 10am or 9am on the Saturdays with no breakfasts.
URL:https://trinitysummerside.ca/event/trinity-arts-group/2028-07-01/
END:VEVENT
BEGIN:VEVENT
DTSTART;TZID=Atlantic/Bermuda:20280708T083000
DTEND;TZID=Atlantic/Bermuda:20280708T100000
DTSTAMP:20260422T190422
CREATED:20251231T152915Z
LAST-MODIFIED:20251231T152915Z
UID:10010242-1846657800-1846663200@trinitysummerside.ca
SUMMARY:Feed My Sheep Breakfast
DESCRIPTION:In the Auditorium.
URL:https://trinitysummerside.ca/event/feed-my-sheep-breakfast-4/2028-07-08/
END:VEVENT
BEGIN:VEVENT
DTSTART;TZID=Atlantic/Bermuda:20280708T100000
DTEND;TZID=Atlantic/Bermuda:20280708T120000
DTSTAMP:20260422T190422
CREATED:20260120T163406Z
LAST-MODIFIED:20260120T163406Z
UID:10010536-1846663200-1846670400@trinitysummerside.ca
SUMMARY:Trinity Arts Group
DESCRIPTION:Usually in the auditorium following Feed My Sheep Breakfasts 10am or 9am on the Saturdays with no breakfasts.
URL:https://trinitysummerside.ca/event/trinity-arts-group/2028-07-08/
END:VEVENT
BEGIN:VEVENT
DTSTART;TZID=Atlantic/Bermuda:20280715T100000
DTEND;TZID=Atlantic/Bermuda:20280715T120000
DTSTAMP:20260422T190422
CREATED:20260120T163406Z
LAST-MODIFIED:20260120T163406Z
UID:10010537-1847268000-1847275200@trinitysummerside.ca
SUMMARY:Trinity Arts Group
DESCRIPTION:Usually in the auditorium following Feed My Sheep Breakfasts 10am or 9am on the Saturdays with no breakfasts.
URL:https://trinitysummerside.ca/event/trinity-arts-group/2028-07-15/
END:VEVENT
BEGIN:VEVENT
DTSTART;TZID=Atlantic/Bermuda:20280722T083000
DTEND;TZID=Atlantic/Bermuda:20280722T100000
DTSTAMP:20260422T190422
CREATED:20251231T153012Z
LAST-MODIFIED:20251231T153012Z
UID:10010302-1847867400-1847872800@trinitysummerside.ca
SUMMARY:Feed My Sheep Breakfast
DESCRIPTION:In the Auditorium.
URL:https://trinitysummerside.ca/event/feed-my-sheep-breakfast-5/2028-07-22/
END:VEVENT
BEGIN:VEVENT
DTSTART;TZID=Atlantic/Bermuda:20280722T100000
DTEND;TZID=Atlantic/Bermuda:20280722T120000
DTSTAMP:20260422T190422
CREATED:20260120T163406Z
LAST-MODIFIED:20260120T163406Z
UID:10010538-1847872800-1847880000@trinitysummerside.ca
SUMMARY:Trinity Arts Group
DESCRIPTION:Usually in the auditorium following Feed My Sheep Breakfasts 10am or 9am on the Saturdays with no breakfasts.
URL:https://trinitysummerside.ca/event/trinity-arts-group/2028-07-22/
END:VEVENT
BEGIN:VEVENT
DTSTART;TZID=Atlantic/Bermuda:20280729T100000
DTEND;TZID=Atlantic/Bermuda:20280729T120000
DTSTAMP:20260422T190422
CREATED:20260120T163406Z
LAST-MODIFIED:20260120T163406Z
UID:10010539-1848477600-1848484800@trinitysummerside.ca
SUMMARY:Trinity Arts Group
DESCRIPTION:Usually in the auditorium following Feed My Sheep Breakfasts 10am or 9am on the Saturdays with no breakfasts.
URL:https://trinitysummerside.ca/event/trinity-arts-group/2028-07-29/
END:VEVENT
BEGIN:VEVENT
DTSTART;TZID=Atlantic/Bermuda:20280805T100000
DTEND;TZID=Atlantic/Bermuda:20280805T120000
DTSTAMP:20260422T190422
CREATED:20260120T163406Z
LAST-MODIFIED:20260120T163406Z
UID:10010540-1849082400-1849089600@trinitysummerside.ca
SUMMARY:Trinity Arts Group
DESCRIPTION:Usually in the auditorium following Feed My Sheep Breakfasts 10am or 9am on the Saturdays with no breakfasts.
URL:https://trinitysummerside.ca/event/trinity-arts-group/2028-08-05/
END:VEVENT
BEGIN:VEVENT
DTSTART;TZID=Atlantic/Bermuda:20280812T083000
DTEND;TZID=Atlantic/Bermuda:20280812T100000
DTSTAMP:20260422T190422
CREATED:20251231T152915Z
LAST-MODIFIED:20251231T152915Z
UID:10010243-1849681800-1849687200@trinitysummerside.ca
SUMMARY:Feed My Sheep Breakfast
DESCRIPTION:In the Auditorium.
URL:https://trinitysummerside.ca/event/feed-my-sheep-breakfast-4/2028-08-12/
END:VEVENT
BEGIN:VEVENT
DTSTART;TZID=Atlantic/Bermuda:20280812T100000
DTEND;TZID=Atlantic/Bermuda:20280812T120000
DTSTAMP:20260422T190422
CREATED:20260120T163406Z
LAST-MODIFIED:20260120T163406Z
UID:10010541-1849687200-1849694400@trinitysummerside.ca
SUMMARY:Trinity Arts Group
DESCRIPTION:Usually in the auditorium following Feed My Sheep Breakfasts 10am or 9am on the Saturdays with no breakfasts.
URL:https://trinitysummerside.ca/event/trinity-arts-group/2028-08-12/
END:VEVENT
BEGIN:VEVENT
DTSTART;TZID=Atlantic/Bermuda:20280819T100000
DTEND;TZID=Atlantic/Bermuda:20280819T120000
DTSTAMP:20260422T190422
CREATED:20260120T163406Z
LAST-MODIFIED:20260120T163406Z
UID:10010542-1850292000-1850299200@trinitysummerside.ca
SUMMARY:Trinity Arts Group
DESCRIPTION:Usually in the auditorium following Feed My Sheep Breakfasts 10am or 9am on the Saturdays with no breakfasts.
URL:https://trinitysummerside.ca/event/trinity-arts-group/2028-08-19/
END:VEVENT
BEGIN:VEVENT
DTSTART;TZID=Atlantic/Bermuda:20280826T083000
DTEND;TZID=Atlantic/Bermuda:20280826T100000
DTSTAMP:20260422T190422
CREATED:20251231T153012Z
LAST-MODIFIED:20251231T153012Z
UID:10010303-1850891400-1850896800@trinitysummerside.ca
SUMMARY:Feed My Sheep Breakfast
DESCRIPTION:In the Auditorium.
URL:https://trinitysummerside.ca/event/feed-my-sheep-breakfast-5/2028-08-26/
END:VEVENT
BEGIN:VEVENT
DTSTART;TZID=Atlantic/Bermuda:20280826T100000
DTEND;TZID=Atlantic/Bermuda:20280826T120000
DTSTAMP:20260422T190422
CREATED:20260120T163406Z
LAST-MODIFIED:20260120T163406Z
UID:10010543-1850896800-1850904000@trinitysummerside.ca
SUMMARY:Trinity Arts Group
DESCRIPTION:Usually in the auditorium following Feed My Sheep Breakfasts 10am or 9am on the Saturdays with no breakfasts.
URL:https://trinitysummerside.ca/event/trinity-arts-group/2028-08-26/
END:VEVENT
BEGIN:VEVENT
DTSTART;TZID=Atlantic/Bermuda:20280902T100000
DTEND;TZID=Atlantic/Bermuda:20280902T120000
DTSTAMP:20260422T190422
CREATED:20260120T163406Z
LAST-MODIFIED:20260120T163406Z
UID:10010544-1851501600-1851508800@trinitysummerside.ca
SUMMARY:Trinity Arts Group
DESCRIPTION:Usually in the auditorium following Feed My Sheep Breakfasts 10am or 9am on the Saturdays with no breakfasts.
URL:https://trinitysummerside.ca/event/trinity-arts-group/2028-09-02/
END:VEVENT
BEGIN:VEVENT
DTSTART;TZID=Atlantic/Bermuda:20280909T083000
DTEND;TZID=Atlantic/Bermuda:20280909T100000
DTSTAMP:20260422T190422
CREATED:20251231T152915Z
LAST-MODIFIED:20251231T152915Z
UID:10010244-1852101000-1852106400@trinitysummerside.ca
SUMMARY:Feed My Sheep Breakfast
DESCRIPTION:In the Auditorium.
URL:https://trinitysummerside.ca/event/feed-my-sheep-breakfast-4/2028-09-09/
END:VEVENT
BEGIN:VEVENT
DTSTART;TZID=Atlantic/Bermuda:20280909T100000
DTEND;TZID=Atlantic/Bermuda:20280909T120000
DTSTAMP:20260422T190422
CREATED:20260120T163406Z
LAST-MODIFIED:20260120T163406Z
UID:10010545-1852106400-1852113600@trinitysummerside.ca
SUMMARY:Trinity Arts Group
DESCRIPTION:Usually in the auditorium following Feed My Sheep Breakfasts 10am or 9am on the Saturdays with no breakfasts.
URL:https://trinitysummerside.ca/event/trinity-arts-group/2028-09-09/
END:VEVENT
BEGIN:VEVENT
DTSTART;TZID=Atlantic/Bermuda:20280916T100000
DTEND;TZID=Atlantic/Bermuda:20280916T120000
DTSTAMP:20260422T190422
CREATED:20260120T163406Z
LAST-MODIFIED:20260120T163406Z
UID:10010546-1852711200-1852718400@trinitysummerside.ca
SUMMARY:Trinity Arts Group
DESCRIPTION:Usually in the auditorium following Feed My Sheep Breakfasts 10am or 9am on the Saturdays with no breakfasts.
URL:https://trinitysummerside.ca/event/trinity-arts-group/2028-09-16/
END:VEVENT
END:VCALENDAR