BEGIN:VCALENDAR
VERSION:2.0
PRODID:-//Trinity United Church Summerside - ECPv6.15.20//NONSGML v1.0//EN
CALSCALE:GREGORIAN
METHOD:PUBLISH
X-ORIGINAL-URL:https://trinitysummerside.ca
X-WR-CALDESC:Events for Trinity United Church Summerside
REFRESH-INTERVAL;VALUE=DURATION:PT1H
X-Robots-Tag:noindex
X-PUBLISHED-TTL:PT1H
BEGIN:VTIMEZONE
TZID:Atlantic/Bermuda
BEGIN:DAYLIGHT
TZOFFSETFROM:-0400
TZOFFSETTO:-0300
TZNAME:ADT
DTSTART:20250309T060000
END:DAYLIGHT
BEGIN:STANDARD
TZOFFSETFROM:-0300
TZOFFSETTO:-0400
TZNAME:AST
DTSTART:20251102T050000
END:STANDARD
BEGIN:DAYLIGHT
TZOFFSETFROM:-0400
TZOFFSETTO:-0300
TZNAME:ADT
DTSTART:20260308T060000
END:DAYLIGHT
BEGIN:STANDARD
TZOFFSETFROM:-0300
TZOFFSETTO:-0400
TZNAME:AST
DTSTART:20261101T050000
END:STANDARD
BEGIN:DAYLIGHT
TZOFFSETFROM:-0400
TZOFFSETTO:-0300
TZNAME:ADT
DTSTART:20270314T060000
END:DAYLIGHT
BEGIN:STANDARD
TZOFFSETFROM:-0300
TZOFFSETTO:-0400
TZNAME:AST
DTSTART:20271107T050000
END:STANDARD
END:VTIMEZONE
BEGIN:VEVENT
DTSTART;TZID=Atlantic/Bermuda:20260827T120000
DTEND;TZID=Atlantic/Bermuda:20260827T150000
DTSTAMP:20260421T215244
CREATED:20260206T153339Z
LAST-MODIFIED:20260206T153339Z
UID:10010922-1787832000-1787842800@trinitysummerside.ca
SUMMARY:Trinity Food Box Program
DESCRIPTION:Volunteers are able to see you between 12pm and 3pm.  Please bring a reusable grocery bag. \nIf you have not yet registered you will need to show ID for yourself and anyone else in your household. \nIf there is a snow day (schools are cancelled) we will not be open.
URL:https://trinitysummerside.ca/event/trinity-food-box-program-2/2026-08-27/
END:VEVENT
BEGIN:VEVENT
DTSTART;TZID=Atlantic/Bermuda:20260827T130000
DTEND;TZID=Atlantic/Bermuda:20260827T150000
DTSTAMP:20260421T215244
CREATED:20251231T153310Z
LAST-MODIFIED:20260114T183009Z
UID:10010364-1787835600-1787842800@trinitysummerside.ca
SUMMARY:Silvertones Choir Rehearsal
DESCRIPTION:In the Sanctuary.
URL:https://trinitysummerside.ca/event/silvertones-choir-rehearsal/2026-08-27/
END:VEVENT
BEGIN:VEVENT
DTSTART;TZID=Atlantic/Bermuda:20260829T100000
DTEND;TZID=Atlantic/Bermuda:20260829T120000
DTSTAMP:20260421T215244
CREATED:20260120T163406Z
LAST-MODIFIED:20260120T163406Z
UID:10010439-1787997600-1788004800@trinitysummerside.ca
SUMMARY:Trinity Arts Group
DESCRIPTION:Usually in the auditorium following Feed My Sheep Breakfasts 10am or 9am on the Saturdays with no breakfasts.
URL:https://trinitysummerside.ca/event/trinity-arts-group/2026-08-29/
END:VEVENT
BEGIN:VEVENT
DTSTART;TZID=Atlantic/Bermuda:20260830T103000
DTEND;TZID=Atlantic/Bermuda:20260830T113000
DTSTAMP:20260421T215244
CREATED:20251219T170423Z
LAST-MODIFIED:20251222T182006Z
UID:10010192-1788085800-1788089400@trinitysummerside.ca
SUMMARY:Sunday Worship Service
DESCRIPTION:
URL:https://trinitysummerside.ca/event/sunday-worship-service/2026-08-30/
END:VEVENT
BEGIN:VEVENT
DTSTART;TZID=Atlantic/Bermuda:20260901T100000
DTEND;TZID=Atlantic/Bermuda:20260901T130000
DTSTAMP:20260421T215244
CREATED:20260206T153229Z
LAST-MODIFIED:20260206T153229Z
UID:10010877-1788256800-1788267600@trinitysummerside.ca
SUMMARY:Trinity Food Box Program
DESCRIPTION:Volunteers are able to see you between 10am and 1pm.  Please bring a reusable grocery bag. \nIf you have not yet registered you will need to show ID for yourself and anyone else in your household. \nIf there is a snow day (schools are cancelled) we will not be open.
URL:https://trinitysummerside.ca/event/trinity-food-box-program/2026-09-01/
END:VEVENT
BEGIN:VEVENT
DTSTART;TZID=Atlantic/Bermuda:20260903T120000
DTEND;TZID=Atlantic/Bermuda:20260903T150000
DTSTAMP:20260421T215244
CREATED:20260206T153339Z
LAST-MODIFIED:20260206T153339Z
UID:10010923-1788436800-1788447600@trinitysummerside.ca
SUMMARY:Trinity Food Box Program
DESCRIPTION:Volunteers are able to see you between 12pm and 3pm.  Please bring a reusable grocery bag. \nIf you have not yet registered you will need to show ID for yourself and anyone else in your household. \nIf there is a snow day (schools are cancelled) we will not be open.
URL:https://trinitysummerside.ca/event/trinity-food-box-program-2/2026-09-03/
END:VEVENT
BEGIN:VEVENT
DTSTART;TZID=Atlantic/Bermuda:20260903T130000
DTEND;TZID=Atlantic/Bermuda:20260903T150000
DTSTAMP:20260421T215244
CREATED:20251231T153310Z
LAST-MODIFIED:20260114T183009Z
UID:10010365-1788440400-1788447600@trinitysummerside.ca
SUMMARY:Silvertones Choir Rehearsal
DESCRIPTION:In the Sanctuary.
URL:https://trinitysummerside.ca/event/silvertones-choir-rehearsal/2026-09-03/
END:VEVENT
BEGIN:VEVENT
DTSTART;TZID=Atlantic/Bermuda:20260905T100000
DTEND;TZID=Atlantic/Bermuda:20260905T120000
DTSTAMP:20260421T215244
CREATED:20260120T163406Z
LAST-MODIFIED:20260120T163406Z
UID:10010440-1788602400-1788609600@trinitysummerside.ca
SUMMARY:Trinity Arts Group
DESCRIPTION:Usually in the auditorium following Feed My Sheep Breakfasts 10am or 9am on the Saturdays with no breakfasts.
URL:https://trinitysummerside.ca/event/trinity-arts-group/2026-09-05/
END:VEVENT
BEGIN:VEVENT
DTSTART;TZID=Atlantic/Bermuda:20260906T103000
DTEND;TZID=Atlantic/Bermuda:20260906T113000
DTSTAMP:20260421T215244
CREATED:20251219T170423Z
LAST-MODIFIED:20251222T182006Z
UID:10010193-1788690600-1788694200@trinitysummerside.ca
SUMMARY:Sunday Worship Service
DESCRIPTION:
URL:https://trinitysummerside.ca/event/sunday-worship-service/2026-09-06/
END:VEVENT
BEGIN:VEVENT
DTSTART;TZID=Atlantic/Bermuda:20260908T100000
DTEND;TZID=Atlantic/Bermuda:20260908T130000
DTSTAMP:20260421T215244
CREATED:20260206T153229Z
LAST-MODIFIED:20260206T153229Z
UID:10010878-1788861600-1788872400@trinitysummerside.ca
SUMMARY:Trinity Food Box Program
DESCRIPTION:Volunteers are able to see you between 10am and 1pm.  Please bring a reusable grocery bag. \nIf you have not yet registered you will need to show ID for yourself and anyone else in your household. \nIf there is a snow day (schools are cancelled) we will not be open.
URL:https://trinitysummerside.ca/event/trinity-food-box-program/2026-09-08/
END:VEVENT
BEGIN:VEVENT
DTSTART;TZID=Atlantic/Bermuda:20260910T120000
DTEND;TZID=Atlantic/Bermuda:20260910T150000
DTSTAMP:20260421T215244
CREATED:20260206T153339Z
LAST-MODIFIED:20260206T153339Z
UID:10010924-1789041600-1789052400@trinitysummerside.ca
SUMMARY:Trinity Food Box Program
DESCRIPTION:Volunteers are able to see you between 12pm and 3pm.  Please bring a reusable grocery bag. \nIf you have not yet registered you will need to show ID for yourself and anyone else in your household. \nIf there is a snow day (schools are cancelled) we will not be open.
URL:https://trinitysummerside.ca/event/trinity-food-box-program-2/2026-09-10/
END:VEVENT
BEGIN:VEVENT
DTSTART;TZID=Atlantic/Bermuda:20260910T130000
DTEND;TZID=Atlantic/Bermuda:20260910T150000
DTSTAMP:20260421T215244
CREATED:20251231T153310Z
LAST-MODIFIED:20260114T183009Z
UID:10010366-1789045200-1789052400@trinitysummerside.ca
SUMMARY:Silvertones Choir Rehearsal
DESCRIPTION:In the Sanctuary.
URL:https://trinitysummerside.ca/event/silvertones-choir-rehearsal/2026-09-10/
END:VEVENT
BEGIN:VEVENT
DTSTART;TZID=Atlantic/Bermuda:20260912T083000
DTEND;TZID=Atlantic/Bermuda:20260912T100000
DTSTAMP:20260421T215244
CREATED:20251231T152915Z
LAST-MODIFIED:20251231T152915Z
UID:10010220-1789201800-1789207200@trinitysummerside.ca
SUMMARY:Feed My Sheep Breakfast
DESCRIPTION:In the Auditorium.
URL:https://trinitysummerside.ca/event/feed-my-sheep-breakfast-4/2026-09-12/
END:VEVENT
BEGIN:VEVENT
DTSTART;TZID=Atlantic/Bermuda:20260912T100000
DTEND;TZID=Atlantic/Bermuda:20260912T120000
DTSTAMP:20260421T215244
CREATED:20260120T163406Z
LAST-MODIFIED:20260120T163406Z
UID:10010441-1789207200-1789214400@trinitysummerside.ca
SUMMARY:Trinity Arts Group
DESCRIPTION:Usually in the auditorium following Feed My Sheep Breakfasts 10am or 9am on the Saturdays with no breakfasts.
URL:https://trinitysummerside.ca/event/trinity-arts-group/2026-09-12/
END:VEVENT
BEGIN:VEVENT
DTSTART;TZID=Atlantic/Bermuda:20260913T103000
DTEND;TZID=Atlantic/Bermuda:20260913T113000
DTSTAMP:20260421T215244
CREATED:20251219T170423Z
LAST-MODIFIED:20251222T182006Z
UID:10010194-1789295400-1789299000@trinitysummerside.ca
SUMMARY:Sunday Worship Service
DESCRIPTION:
URL:https://trinitysummerside.ca/event/sunday-worship-service/2026-09-13/
END:VEVENT
BEGIN:VEVENT
DTSTART;TZID=Atlantic/Bermuda:20260915T100000
DTEND;TZID=Atlantic/Bermuda:20260915T130000
DTSTAMP:20260421T215244
CREATED:20260206T153229Z
LAST-MODIFIED:20260206T153229Z
UID:10010879-1789466400-1789477200@trinitysummerside.ca
SUMMARY:Trinity Food Box Program
DESCRIPTION:Volunteers are able to see you between 10am and 1pm.  Please bring a reusable grocery bag. \nIf you have not yet registered you will need to show ID for yourself and anyone else in your household. \nIf there is a snow day (schools are cancelled) we will not be open.
URL:https://trinitysummerside.ca/event/trinity-food-box-program/2026-09-15/
END:VEVENT
BEGIN:VEVENT
DTSTART;TZID=Atlantic/Bermuda:20260917T120000
DTEND;TZID=Atlantic/Bermuda:20260917T150000
DTSTAMP:20260421T215244
CREATED:20260206T153339Z
LAST-MODIFIED:20260206T153339Z
UID:10010925-1789646400-1789657200@trinitysummerside.ca
SUMMARY:Trinity Food Box Program
DESCRIPTION:Volunteers are able to see you between 12pm and 3pm.  Please bring a reusable grocery bag. \nIf you have not yet registered you will need to show ID for yourself and anyone else in your household. \nIf there is a snow day (schools are cancelled) we will not be open.
URL:https://trinitysummerside.ca/event/trinity-food-box-program-2/2026-09-17/
END:VEVENT
BEGIN:VEVENT
DTSTART;TZID=Atlantic/Bermuda:20260917T130000
DTEND;TZID=Atlantic/Bermuda:20260917T150000
DTSTAMP:20260421T215244
CREATED:20251231T153310Z
LAST-MODIFIED:20260114T183009Z
UID:10010367-1789650000-1789657200@trinitysummerside.ca
SUMMARY:Silvertones Choir Rehearsal
DESCRIPTION:In the Sanctuary.
URL:https://trinitysummerside.ca/event/silvertones-choir-rehearsal/2026-09-17/
END:VEVENT
BEGIN:VEVENT
DTSTART;TZID=Atlantic/Bermuda:20260919T100000
DTEND;TZID=Atlantic/Bermuda:20260919T120000
DTSTAMP:20260421T215244
CREATED:20260120T163406Z
LAST-MODIFIED:20260120T163406Z
UID:10010442-1789812000-1789819200@trinitysummerside.ca
SUMMARY:Trinity Arts Group
DESCRIPTION:Usually in the auditorium following Feed My Sheep Breakfasts 10am or 9am on the Saturdays with no breakfasts.
URL:https://trinitysummerside.ca/event/trinity-arts-group/2026-09-19/
END:VEVENT
BEGIN:VEVENT
DTSTART;TZID=Atlantic/Bermuda:20260920T103000
DTEND;TZID=Atlantic/Bermuda:20260920T113000
DTSTAMP:20260421T215244
CREATED:20251219T170423Z
LAST-MODIFIED:20251222T182006Z
UID:10010195-1789900200-1789903800@trinitysummerside.ca
SUMMARY:Sunday Worship Service
DESCRIPTION:
URL:https://trinitysummerside.ca/event/sunday-worship-service/2026-09-20/
END:VEVENT
BEGIN:VEVENT
DTSTART;TZID=Atlantic/Bermuda:20260922T100000
DTEND;TZID=Atlantic/Bermuda:20260922T130000
DTSTAMP:20260421T215244
CREATED:20260206T153229Z
LAST-MODIFIED:20260206T153229Z
UID:10010880-1790071200-1790082000@trinitysummerside.ca
SUMMARY:Trinity Food Box Program
DESCRIPTION:Volunteers are able to see you between 10am and 1pm.  Please bring a reusable grocery bag. \nIf you have not yet registered you will need to show ID for yourself and anyone else in your household. \nIf there is a snow day (schools are cancelled) we will not be open.
URL:https://trinitysummerside.ca/event/trinity-food-box-program/2026-09-22/
END:VEVENT
BEGIN:VEVENT
DTSTART;TZID=Atlantic/Bermuda:20260924T120000
DTEND;TZID=Atlantic/Bermuda:20260924T150000
DTSTAMP:20260421T215244
CREATED:20260206T153339Z
LAST-MODIFIED:20260206T153339Z
UID:10010926-1790251200-1790262000@trinitysummerside.ca
SUMMARY:Trinity Food Box Program
DESCRIPTION:Volunteers are able to see you between 12pm and 3pm.  Please bring a reusable grocery bag. \nIf you have not yet registered you will need to show ID for yourself and anyone else in your household. \nIf there is a snow day (schools are cancelled) we will not be open.
URL:https://trinitysummerside.ca/event/trinity-food-box-program-2/2026-09-24/
END:VEVENT
BEGIN:VEVENT
DTSTART;TZID=Atlantic/Bermuda:20260924T130000
DTEND;TZID=Atlantic/Bermuda:20260924T150000
DTSTAMP:20260421T215244
CREATED:20251231T153310Z
LAST-MODIFIED:20260114T183009Z
UID:10010368-1790254800-1790262000@trinitysummerside.ca
SUMMARY:Silvertones Choir Rehearsal
DESCRIPTION:In the Sanctuary.
URL:https://trinitysummerside.ca/event/silvertones-choir-rehearsal/2026-09-24/
END:VEVENT
BEGIN:VEVENT
DTSTART;TZID=Atlantic/Bermuda:20260926T083000
DTEND;TZID=Atlantic/Bermuda:20260926T100000
DTSTAMP:20260421T215244
CREATED:20251231T153012Z
LAST-MODIFIED:20251231T153012Z
UID:10010280-1790411400-1790416800@trinitysummerside.ca
SUMMARY:Feed My Sheep Breakfast
DESCRIPTION:In the Auditorium.
URL:https://trinitysummerside.ca/event/feed-my-sheep-breakfast-5/2026-09-26/
END:VEVENT
BEGIN:VEVENT
DTSTART;TZID=Atlantic/Bermuda:20260926T100000
DTEND;TZID=Atlantic/Bermuda:20260926T120000
DTSTAMP:20260421T215244
CREATED:20260120T163406Z
LAST-MODIFIED:20260120T163406Z
UID:10010443-1790416800-1790424000@trinitysummerside.ca
SUMMARY:Trinity Arts Group
DESCRIPTION:Usually in the auditorium following Feed My Sheep Breakfasts 10am or 9am on the Saturdays with no breakfasts.
URL:https://trinitysummerside.ca/event/trinity-arts-group/2026-09-26/
END:VEVENT
BEGIN:VEVENT
DTSTART;TZID=Atlantic/Bermuda:20260927T103000
DTEND;TZID=Atlantic/Bermuda:20260927T113000
DTSTAMP:20260421T215244
CREATED:20251219T170423Z
LAST-MODIFIED:20251222T182006Z
UID:10010196-1790505000-1790508600@trinitysummerside.ca
SUMMARY:Sunday Worship Service
DESCRIPTION:
URL:https://trinitysummerside.ca/event/sunday-worship-service/2026-09-27/
END:VEVENT
BEGIN:VEVENT
DTSTART;TZID=Atlantic/Bermuda:20260929T100000
DTEND;TZID=Atlantic/Bermuda:20260929T130000
DTSTAMP:20260421T215244
CREATED:20260206T153229Z
LAST-MODIFIED:20260206T153229Z
UID:10010881-1790676000-1790686800@trinitysummerside.ca
SUMMARY:Trinity Food Box Program
DESCRIPTION:Volunteers are able to see you between 10am and 1pm.  Please bring a reusable grocery bag. \nIf you have not yet registered you will need to show ID for yourself and anyone else in your household. \nIf there is a snow day (schools are cancelled) we will not be open.
URL:https://trinitysummerside.ca/event/trinity-food-box-program/2026-09-29/
END:VEVENT
BEGIN:VEVENT
DTSTART;TZID=Atlantic/Bermuda:20261001T120000
DTEND;TZID=Atlantic/Bermuda:20261001T150000
DTSTAMP:20260421T215244
CREATED:20260206T153339Z
LAST-MODIFIED:20260206T153339Z
UID:10010927-1790856000-1790866800@trinitysummerside.ca
SUMMARY:Trinity Food Box Program
DESCRIPTION:Volunteers are able to see you between 12pm and 3pm.  Please bring a reusable grocery bag. \nIf you have not yet registered you will need to show ID for yourself and anyone else in your household. \nIf there is a snow day (schools are cancelled) we will not be open.
URL:https://trinitysummerside.ca/event/trinity-food-box-program-2/2026-10-01/
END:VEVENT
BEGIN:VEVENT
DTSTART;TZID=Atlantic/Bermuda:20261001T130000
DTEND;TZID=Atlantic/Bermuda:20261001T150000
DTSTAMP:20260421T215244
CREATED:20251231T153310Z
LAST-MODIFIED:20260114T183009Z
UID:10010369-1790859600-1790866800@trinitysummerside.ca
SUMMARY:Silvertones Choir Rehearsal
DESCRIPTION:In the Sanctuary.
URL:https://trinitysummerside.ca/event/silvertones-choir-rehearsal/2026-10-01/
END:VEVENT
BEGIN:VEVENT
DTSTART;TZID=Atlantic/Bermuda:20261003T100000
DTEND;TZID=Atlantic/Bermuda:20261003T120000
DTSTAMP:20260421T215244
CREATED:20260120T163406Z
LAST-MODIFIED:20260120T163406Z
UID:10010444-1791021600-1791028800@trinitysummerside.ca
SUMMARY:Trinity Arts Group
DESCRIPTION:Usually in the auditorium following Feed My Sheep Breakfasts 10am or 9am on the Saturdays with no breakfasts.
URL:https://trinitysummerside.ca/event/trinity-arts-group/2026-10-03/
END:VEVENT
END:VCALENDAR