BEGIN:VCALENDAR
VERSION:2.0
PRODID:-//Trinity United Church Summerside - ECPv6.15.20//NONSGML v1.0//EN
CALSCALE:GREGORIAN
METHOD:PUBLISH
X-WR-CALNAME:Trinity United Church Summerside
X-ORIGINAL-URL:https://trinitysummerside.ca
X-WR-CALDESC:Events for Trinity United Church Summerside
REFRESH-INTERVAL;VALUE=DURATION:PT1H
X-Robots-Tag:noindex
X-PUBLISHED-TTL:PT1H
BEGIN:VTIMEZONE
TZID:Atlantic/Bermuda
BEGIN:DAYLIGHT
TZOFFSETFROM:-0400
TZOFFSETTO:-0300
TZNAME:ADT
DTSTART:20250309T060000
END:DAYLIGHT
BEGIN:STANDARD
TZOFFSETFROM:-0300
TZOFFSETTO:-0400
TZNAME:AST
DTSTART:20251102T050000
END:STANDARD
BEGIN:DAYLIGHT
TZOFFSETFROM:-0400
TZOFFSETTO:-0300
TZNAME:ADT
DTSTART:20260308T060000
END:DAYLIGHT
BEGIN:STANDARD
TZOFFSETFROM:-0300
TZOFFSETTO:-0400
TZNAME:AST
DTSTART:20261101T050000
END:STANDARD
BEGIN:DAYLIGHT
TZOFFSETFROM:-0400
TZOFFSETTO:-0300
TZNAME:ADT
DTSTART:20270314T060000
END:DAYLIGHT
BEGIN:STANDARD
TZOFFSETFROM:-0300
TZOFFSETTO:-0400
TZNAME:AST
DTSTART:20271107T050000
END:STANDARD
END:VTIMEZONE
BEGIN:VEVENT
DTSTART;TZID=Atlantic/Bermuda:20260326T183000
DTEND;TZID=Atlantic/Bermuda:20260326T210000
DTSTAMP:20260421T161935
CREATED:20260302T173147Z
LAST-MODIFIED:20260302T173147Z
UID:10010956-1774549800-1774558800@trinitysummerside.ca
SUMMARY:Trinity Council Meeting - zoom only
DESCRIPTION:
URL:https://trinitysummerside.ca/event/trinity-council-meeting-zoom-only-3/
END:VEVENT
BEGIN:VEVENT
DTSTART;TZID=Atlantic/Bermuda:20260326T133000
DTEND;TZID=Atlantic/Bermuda:20260326T140000
DTSTAMP:20260421T161935
CREATED:20260302T173118Z
LAST-MODIFIED:20260302T173118Z
UID:10010955-1774531800-1774533600@trinitysummerside.ca
SUMMARY:Parkhill Service
DESCRIPTION:
URL:https://trinitysummerside.ca/event/parkhill-service-2/
END:VEVENT
BEGIN:VEVENT
DTSTART;TZID=Atlantic/Bermuda:20260326T130000
DTEND;TZID=Atlantic/Bermuda:20260326T150000
DTSTAMP:20260421T161935
CREATED:20251231T153310Z
LAST-MODIFIED:20260114T183009Z
UID:10010342-1774530000-1774537200@trinitysummerside.ca
SUMMARY:Silvertones Choir Rehearsal
DESCRIPTION:In the Sanctuary.
URL:https://trinitysummerside.ca/event/silvertones-choir-rehearsal/2026-03-26/
END:VEVENT
BEGIN:VEVENT
DTSTART;TZID=Atlantic/Bermuda:20260326T120000
DTEND;TZID=Atlantic/Bermuda:20260326T150000
DTSTAMP:20260421T161935
CREATED:20260206T153339Z
LAST-MODIFIED:20260206T153339Z
UID:10010900-1774526400-1774537200@trinitysummerside.ca
SUMMARY:Trinity Food Box Program
DESCRIPTION:Volunteers are able to see you between 12pm and 3pm.  Please bring a reusable grocery bag. \nIf you have not yet registered you will need to show ID for yourself and anyone else in your household. \nIf there is a snow day (schools are cancelled) we will not be open.
URL:https://trinitysummerside.ca/event/trinity-food-box-program-2/2026-03-26/
END:VEVENT
BEGIN:VEVENT
DTSTART;TZID=Atlantic/Bermuda:20260326T093000
DTEND;TZID=Atlantic/Bermuda:20260326T103000
DTSTAMP:20260421T161935
CREATED:20260204T143626Z
LAST-MODIFIED:20260204T143626Z
UID:10010846-1774517400-1774521000@trinitysummerside.ca
SUMMARY:Trinity Café - Lenten Series on Judas
DESCRIPTION:Last class in the series
URL:https://trinitysummerside.ca/event/trinity-cafe-lenten-series-on-judas-2/
END:VEVENT
BEGIN:VEVENT
DTSTART;TZID=Atlantic/Bermuda:20260325T174500
DTEND;TZID=Atlantic/Bermuda:20260325T200000
DTSTAMP:20260421T161935
CREATED:20260203T141757Z
LAST-MODIFIED:20260203T141757Z
UID:10010820-1774460700-1774468800@trinitysummerside.ca
SUMMARY:Choir rehearsals
DESCRIPTION:Hand Bell Choir 5:45pm \nTrinity Choir 7pm
URL:https://trinitysummerside.ca/event/choir-rehearsals-2/2026-03-25/
END:VEVENT
BEGIN:VEVENT
DTSTART;TZID=Atlantic/Bermuda:20260325T143000
DTEND;TZID=Atlantic/Bermuda:20260325T153000
DTSTAMP:20260421T161935
CREATED:20260302T173036Z
LAST-MODIFIED:20260302T173036Z
UID:10010954-1774449000-1774452600@trinitysummerside.ca
SUMMARY:Staff meeting
DESCRIPTION:Boardroom and zoom
URL:https://trinitysummerside.ca/event/staff-meeting/
END:VEVENT
BEGIN:VEVENT
DTSTART;TZID=Atlantic/Bermuda:20260325T133000
DTEND;TZID=Atlantic/Bermuda:20260325T140000
DTSTAMP:20260421T161935
CREATED:20260302T173012Z
LAST-MODIFIED:20260302T173012Z
UID:10010953-1774445400-1774447200@trinitysummerside.ca
SUMMARY:Wedgewood Manor service
DESCRIPTION:
URL:https://trinitysummerside.ca/event/wedgewood-manor-service-2/
END:VEVENT
BEGIN:VEVENT
DTSTART;TZID=Atlantic/Bermuda:20260325T080000
DTEND;TZID=Atlantic/Bermuda:20260325T090000
DTSTAMP:20260421T161935
CREATED:20260120T163740Z
LAST-MODIFIED:20260120T163740Z
UID:10010726-1774425600-1774429200@trinitysummerside.ca
SUMMARY:Men's Breakfasts
DESCRIPTION:Seashell Café (26152 Route 2)
URL:https://trinitysummerside.ca/event/mens-breakfasts/2026-03-25/
END:VEVENT
BEGIN:VEVENT
DTSTART;TZID=Atlantic/Bermuda:20260325T080000
DTEND;TZID=Atlantic/Bermuda:20260325T090000
DTSTAMP:20260421T161935
CREATED:20260120T163630Z
LAST-MODIFIED:20260120T163810Z
UID:10010678-1774425600-1774429200@trinitysummerside.ca
SUMMARY:Women's Breakfasts
DESCRIPTION:Waterfront Café at Holland College campus.
URL:https://trinitysummerside.ca/event/womens-breakfasts/2026-03-25/
END:VEVENT
BEGIN:VEVENT
DTSTART;TZID=Atlantic/Bermuda:20260324T100000
DTEND;TZID=Atlantic/Bermuda:20260324T130000
DTSTAMP:20260421T161935
CREATED:20260206T153229Z
LAST-MODIFIED:20260206T153229Z
UID:10010854-1774346400-1774357200@trinitysummerside.ca
SUMMARY:Trinity Food Box Program
DESCRIPTION:Volunteers are able to see you between 10am and 1pm.  Please bring a reusable grocery bag. \nIf you have not yet registered you will need to show ID for yourself and anyone else in your household. \nIf there is a snow day (schools are cancelled) we will not be open.
URL:https://trinitysummerside.ca/event/trinity-food-box-program/2026-03-24/
END:VEVENT
BEGIN:VEVENT
DTSTART;TZID=Atlantic/Bermuda:20260322T113000
DTEND;TZID=Atlantic/Bermuda:20260322T123000
DTSTAMP:20260421T161935
CREATED:20260302T172940Z
LAST-MODIFIED:20260302T172940Z
UID:10010952-1774179000-1774182600@trinitysummerside.ca
SUMMARY:Coffee and Conversation fellowship
DESCRIPTION:Offered by the Pastoral Care Team\, following the service.  All welcome.
URL:https://trinitysummerside.ca/event/coffee-and-conversation-fellowship/
END:VEVENT
BEGIN:VEVENT
DTSTART;TZID=Atlantic/Bermuda:20260322T103000
DTEND;TZID=Atlantic/Bermuda:20260322T113000
DTSTAMP:20260421T161935
CREATED:20251219T170423Z
LAST-MODIFIED:20251222T182006Z
UID:10010169-1774175400-1774179000@trinitysummerside.ca
SUMMARY:Sunday Worship Service
DESCRIPTION:
URL:https://trinitysummerside.ca/event/sunday-worship-service/2026-03-22/
END:VEVENT
BEGIN:VEVENT
DTSTART;TZID=Atlantic/Bermuda:20260321T160000
DTEND;TZID=Atlantic/Bermuda:20260321T170000
DTSTAMP:20260421T161935
CREATED:20260302T172845Z
LAST-MODIFIED:20260302T172845Z
UID:10010951-1774108800-1774112400@trinitysummerside.ca
SUMMARY:Community Meal
DESCRIPTION:Meal for Seniors\, FMS guests and Shut-Ins \nMeals have reached capacity.  Volunteers needed for March 20 and 21.
URL:https://trinitysummerside.ca/event/community-meal/
END:VEVENT
BEGIN:VEVENT
DTSTART;TZID=Atlantic/Bermuda:20260321T100000
DTEND;TZID=Atlantic/Bermuda:20260321T120000
DTSTAMP:20260421T161935
CREATED:20260120T163406Z
LAST-MODIFIED:20260120T163406Z
UID:10010416-1774087200-1774094400@trinitysummerside.ca
SUMMARY:Trinity Arts Group
DESCRIPTION:Usually in the auditorium following Feed My Sheep Breakfasts 10am or 9am on the Saturdays with no breakfasts.
URL:https://trinitysummerside.ca/event/trinity-arts-group/2026-03-21/
END:VEVENT
BEGIN:VEVENT
DTSTART;TZID=Atlantic/Bermuda:20260320T120000
DTEND;TZID=Atlantic/Bermuda:20260320T130000
DTSTAMP:20260421T161935
CREATED:20260204T143710Z
LAST-MODIFIED:20260204T143710Z
UID:10010847-1774008000-1774011600@trinitysummerside.ca
SUMMARY:Trinity Café recap of study/luncheon
DESCRIPTION:In auditorium
URL:https://trinitysummerside.ca/event/trinity-cafe-recap-of-study-luncheon/
END:VEVENT
BEGIN:VEVENT
DTSTART;TZID=Atlantic/Bermuda:20260319T130000
DTEND;TZID=Atlantic/Bermuda:20260319T150000
DTSTAMP:20260421T161935
CREATED:20251231T153310Z
LAST-MODIFIED:20260114T183009Z
UID:10010341-1773925200-1773932400@trinitysummerside.ca
SUMMARY:Silvertones Choir Rehearsal
DESCRIPTION:In the Sanctuary.
URL:https://trinitysummerside.ca/event/silvertones-choir-rehearsal/2026-03-19/
END:VEVENT
BEGIN:VEVENT
DTSTART;TZID=Atlantic/Bermuda:20260319T120000
DTEND;TZID=Atlantic/Bermuda:20260319T150000
DTSTAMP:20260421T161935
CREATED:20260206T153339Z
LAST-MODIFIED:20260206T153339Z
UID:10010899-1773921600-1773932400@trinitysummerside.ca
SUMMARY:Trinity Food Box Program
DESCRIPTION:Volunteers are able to see you between 12pm and 3pm.  Please bring a reusable grocery bag. \nIf you have not yet registered you will need to show ID for yourself and anyone else in your household. \nIf there is a snow day (schools are cancelled) we will not be open.
URL:https://trinitysummerside.ca/event/trinity-food-box-program-2/2026-03-19/
END:VEVENT
BEGIN:VEVENT
DTSTART;TZID=Atlantic/Bermuda:20260318T174500
DTEND;TZID=Atlantic/Bermuda:20260318T200000
DTSTAMP:20260421T161935
CREATED:20260203T141757Z
LAST-MODIFIED:20260203T141757Z
UID:10010819-1773855900-1773864000@trinitysummerside.ca
SUMMARY:Choir rehearsals
DESCRIPTION:Hand Bell Choir 5:45pm \nTrinity Choir 7pm
URL:https://trinitysummerside.ca/event/choir-rehearsals-2/2026-03-18/
END:VEVENT
BEGIN:VEVENT
DTSTART;TZID=Atlantic/Bermuda:20260318T133000
DTEND;TZID=Atlantic/Bermuda:20260318T140000
DTSTAMP:20260421T161935
CREATED:20260302T172636Z
LAST-MODIFIED:20260302T172636Z
UID:10010950-1773840600-1773842400@trinitysummerside.ca
SUMMARY:Summerset Manor service
DESCRIPTION:
URL:https://trinitysummerside.ca/event/summerset-manor-service-2/
END:VEVENT
BEGIN:VEVENT
DTSTART;TZID=Atlantic/Bermuda:20260318T100000
DTEND;TZID=Atlantic/Bermuda:20260318T113000
DTSTAMP:20260421T161935
CREATED:20260302T172615Z
LAST-MODIFIED:20260302T172615Z
UID:10010949-1773828000-1773833400@trinitysummerside.ca
SUMMARY:Pastoral Care team meeting
DESCRIPTION:Boardroom and zoom
URL:https://trinitysummerside.ca/event/pastoral-care-team-meeting-3/
END:VEVENT
BEGIN:VEVENT
DTSTART;TZID=Atlantic/Bermuda:20260318T080000
DTEND;TZID=Atlantic/Bermuda:20260318T090000
DTSTAMP:20260421T161935
CREATED:20260120T163740Z
LAST-MODIFIED:20260120T163740Z
UID:10010725-1773820800-1773824400@trinitysummerside.ca
SUMMARY:Men's Breakfasts
DESCRIPTION:Seashell Café (26152 Route 2)
URL:https://trinitysummerside.ca/event/mens-breakfasts/2026-03-18/
END:VEVENT
BEGIN:VEVENT
DTSTART;TZID=Atlantic/Bermuda:20260318T080000
DTEND;TZID=Atlantic/Bermuda:20260318T090000
DTSTAMP:20260421T161935
CREATED:20260120T163630Z
LAST-MODIFIED:20260120T163810Z
UID:10010677-1773820800-1773824400@trinitysummerside.ca
SUMMARY:Women's Breakfasts
DESCRIPTION:Waterfront Café at Holland College campus.
URL:https://trinitysummerside.ca/event/womens-breakfasts/2026-03-18/
END:VEVENT
BEGIN:VEVENT
DTSTART;TZID=Atlantic/Bermuda:20260317T113000
DTEND;TZID=Atlantic/Bermuda:20260317T130000
DTSTAMP:20260421T161935
CREATED:20260302T172529Z
LAST-MODIFIED:20260302T172529Z
UID:10010948-1773747000-1773752400@trinitysummerside.ca
SUMMARY:Trinity Ladies Luncheon - Jolly Roger
DESCRIPTION:All ladies welcome – Read’s Corner Jolly Roger
URL:https://trinitysummerside.ca/event/trinity-ladies-luncheon-jolly-roger/
END:VEVENT
BEGIN:VEVENT
DTSTART;TZID=Atlantic/Bermuda:20260317T100000
DTEND;TZID=Atlantic/Bermuda:20260317T130000
DTSTAMP:20260421T161935
CREATED:20260206T153229Z
LAST-MODIFIED:20260206T153229Z
UID:10010853-1773741600-1773752400@trinitysummerside.ca
SUMMARY:Trinity Food Box Program
DESCRIPTION:Volunteers are able to see you between 10am and 1pm.  Please bring a reusable grocery bag. \nIf you have not yet registered you will need to show ID for yourself and anyone else in your household. \nIf there is a snow day (schools are cancelled) we will not be open.
URL:https://trinitysummerside.ca/event/trinity-food-box-program/2026-03-17/
END:VEVENT
BEGIN:VEVENT
DTSTART;TZID=Atlantic/Bermuda:20260317T090000
DTEND;TZID=Atlantic/Bermuda:20260317T130000
DTSTAMP:20260421T161935
CREATED:20260120T164417Z
LAST-MODIFIED:20260319T171037Z
UID:10010747-1773738000-1773752400@trinitysummerside.ca
SUMMARY:Private Kitchen Rental
DESCRIPTION:
URL:https://trinitysummerside.ca/event/private-kitchen-rental-7/2026-03-17/
END:VEVENT
BEGIN:VEVENT
DTSTART;TZID=Atlantic/Bermuda:20260315T103000
DTEND;TZID=Atlantic/Bermuda:20260315T113000
DTSTAMP:20260421T161935
CREATED:20251219T170423Z
LAST-MODIFIED:20251222T182006Z
UID:10010168-1773570600-1773574200@trinitysummerside.ca
SUMMARY:Sunday Worship Service
DESCRIPTION:
URL:https://trinitysummerside.ca/event/sunday-worship-service/2026-03-15/
END:VEVENT
BEGIN:VEVENT
DTSTART;TZID=Atlantic/Bermuda:20260314T100000
DTEND;TZID=Atlantic/Bermuda:20260314T120000
DTSTAMP:20260421T161935
CREATED:20260120T163406Z
LAST-MODIFIED:20260120T163406Z
UID:10010415-1773482400-1773489600@trinitysummerside.ca
SUMMARY:Trinity Arts Group
DESCRIPTION:Usually in the auditorium following Feed My Sheep Breakfasts 10am or 9am on the Saturdays with no breakfasts.
URL:https://trinitysummerside.ca/event/trinity-arts-group/2026-03-14/
END:VEVENT
BEGIN:VEVENT
DTSTART;TZID=Atlantic/Bermuda:20260314T083000
DTEND;TZID=Atlantic/Bermuda:20260314T100000
DTSTAMP:20260421T161935
CREATED:20251231T152915Z
LAST-MODIFIED:20251231T152915Z
UID:10010214-1773477000-1773482400@trinitysummerside.ca
SUMMARY:Feed My Sheep Breakfast
DESCRIPTION:In the Auditorium.
URL:https://trinitysummerside.ca/event/feed-my-sheep-breakfast-4/2026-03-14/
END:VEVENT
BEGIN:VEVENT
DTSTART;TZID=Atlantic/Bermuda:20260312T130000
DTEND;TZID=Atlantic/Bermuda:20260312T150000
DTSTAMP:20260421T161935
CREATED:20251231T153310Z
LAST-MODIFIED:20260114T183009Z
UID:10010340-1773320400-1773327600@trinitysummerside.ca
SUMMARY:Silvertones Choir Rehearsal
DESCRIPTION:In the Sanctuary.
URL:https://trinitysummerside.ca/event/silvertones-choir-rehearsal/2026-03-12/
END:VEVENT
END:VCALENDAR