BEGIN:VCALENDAR
VERSION:2.0
PRODID:-//Trinity United Church Summerside - ECPv6.15.20//NONSGML v1.0//EN
CALSCALE:GREGORIAN
METHOD:PUBLISH
X-ORIGINAL-URL:https://trinitysummerside.ca
X-WR-CALDESC:Events for Trinity United Church Summerside
REFRESH-INTERVAL;VALUE=DURATION:PT1H
X-Robots-Tag:noindex
X-PUBLISHED-TTL:PT1H
BEGIN:VTIMEZONE
TZID:Atlantic/Bermuda
BEGIN:DAYLIGHT
TZOFFSETFROM:-0400
TZOFFSETTO:-0300
TZNAME:ADT
DTSTART:20250309T060000
END:DAYLIGHT
BEGIN:STANDARD
TZOFFSETFROM:-0300
TZOFFSETTO:-0400
TZNAME:AST
DTSTART:20251102T050000
END:STANDARD
BEGIN:DAYLIGHT
TZOFFSETFROM:-0400
TZOFFSETTO:-0300
TZNAME:ADT
DTSTART:20260308T060000
END:DAYLIGHT
BEGIN:STANDARD
TZOFFSETFROM:-0300
TZOFFSETTO:-0400
TZNAME:AST
DTSTART:20261101T050000
END:STANDARD
BEGIN:DAYLIGHT
TZOFFSETFROM:-0400
TZOFFSETTO:-0300
TZNAME:ADT
DTSTART:20270314T060000
END:DAYLIGHT
BEGIN:STANDARD
TZOFFSETFROM:-0300
TZOFFSETTO:-0400
TZNAME:AST
DTSTART:20271107T050000
END:STANDARD
END:VTIMEZONE
BEGIN:VEVENT
DTSTART;TZID=Atlantic/Bermuda:20260423T093000
DTEND;TZID=Atlantic/Bermuda:20260423T103000
DTSTAMP:20260421T110846
CREATED:20260409T121446Z
LAST-MODIFIED:20260409T121446Z
UID:10010988-1776936600-1776940200@trinitysummerside.ca
SUMMARY:Trinity Café
DESCRIPTION:Holy Communion & UCC –\nMatthew 26:26-28\, Mark 14:22-24\, Luke 22:17-20 (April 16)\nThe Beatitudes – Matthew 5:1-12\n•\nBeatitudes Part One: Set Up of the Study (April 23)\n•\nBeatitudes Part Two: Poor In Spirit & Those Who Mourn (April 30)\n•\nBeatitudes Part Three: The Meek & Justice Seekers (May 7)\n•\nBeatitudes Part Four: The Merciful & Pure in Heart (May 14)\n•\nBeatitudes Part Five: Peace Makers & Those Persecuted (May 21)\n•\nBeatitudes Part Six: Full Review of Beatitudes (May 28)
URL:https://trinitysummerside.ca/event/trinity-cafe/2026-04-23/
END:VEVENT
BEGIN:VEVENT
DTSTART;TZID=Atlantic/Bermuda:20260423T120000
DTEND;TZID=Atlantic/Bermuda:20260423T150000
DTSTAMP:20260421T110846
CREATED:20260206T153339Z
LAST-MODIFIED:20260206T153339Z
UID:10010904-1776945600-1776956400@trinitysummerside.ca
SUMMARY:Trinity Food Box Program
DESCRIPTION:Volunteers are able to see you between 12pm and 3pm.  Please bring a reusable grocery bag. \nIf you have not yet registered you will need to show ID for yourself and anyone else in your household. \nIf there is a snow day (schools are cancelled) we will not be open.
URL:https://trinitysummerside.ca/event/trinity-food-box-program-2/2026-04-23/
END:VEVENT
BEGIN:VEVENT
DTSTART;TZID=Atlantic/Bermuda:20260423T130000
DTEND;TZID=Atlantic/Bermuda:20260423T150000
DTSTAMP:20260421T110846
CREATED:20251231T153310Z
LAST-MODIFIED:20260114T183009Z
UID:10010346-1776949200-1776956400@trinitysummerside.ca
SUMMARY:Silvertones Choir Rehearsal
DESCRIPTION:In the Sanctuary.
URL:https://trinitysummerside.ca/event/silvertones-choir-rehearsal/2026-04-23/
END:VEVENT
BEGIN:VEVENT
DTSTART;TZID=Atlantic/Bermuda:20260423T133000
DTEND;TZID=Atlantic/Bermuda:20260423T140000
DTSTAMP:20260421T110846
CREATED:20260319T171856Z
LAST-MODIFIED:20260319T171856Z
UID:10010980-1776951000-1776952800@trinitysummerside.ca
SUMMARY:Parkhill Service
DESCRIPTION:
URL:https://trinitysummerside.ca/event/parkhill-service-3/
END:VEVENT
BEGIN:VEVENT
DTSTART;TZID=Atlantic/Bermuda:20260423T183000
DTEND;TZID=Atlantic/Bermuda:20260423T210000
DTSTAMP:20260421T110846
CREATED:20260319T171945Z
LAST-MODIFIED:20260319T171945Z
UID:10010981-1776969000-1776978000@trinitysummerside.ca
SUMMARY:Trinity Council Meeting
DESCRIPTION:
URL:https://trinitysummerside.ca/event/trinity-council-meeting-2/
END:VEVENT
END:VCALENDAR