BEGIN:VCALENDAR
VERSION:2.0
PRODID:-//Trinity United Church Summerside - ECPv6.15.20//NONSGML v1.0//EN
CALSCALE:GREGORIAN
METHOD:PUBLISH
X-ORIGINAL-URL:https://trinitysummerside.ca
X-WR-CALDESC:Events for Trinity United Church Summerside
REFRESH-INTERVAL;VALUE=DURATION:PT1H
X-Robots-Tag:noindex
X-PUBLISHED-TTL:PT1H
BEGIN:VTIMEZONE
TZID:Atlantic/Bermuda
BEGIN:DAYLIGHT
TZOFFSETFROM:-0400
TZOFFSETTO:-0300
TZNAME:ADT
DTSTART:20250309T060000
END:DAYLIGHT
BEGIN:STANDARD
TZOFFSETFROM:-0300
TZOFFSETTO:-0400
TZNAME:AST
DTSTART:20251102T050000
END:STANDARD
BEGIN:DAYLIGHT
TZOFFSETFROM:-0400
TZOFFSETTO:-0300
TZNAME:ADT
DTSTART:20260308T060000
END:DAYLIGHT
BEGIN:STANDARD
TZOFFSETFROM:-0300
TZOFFSETTO:-0400
TZNAME:AST
DTSTART:20261101T050000
END:STANDARD
BEGIN:DAYLIGHT
TZOFFSETFROM:-0400
TZOFFSETTO:-0300
TZNAME:ADT
DTSTART:20270314T060000
END:DAYLIGHT
BEGIN:STANDARD
TZOFFSETFROM:-0300
TZOFFSETTO:-0400
TZNAME:AST
DTSTART:20271107T050000
END:STANDARD
END:VTIMEZONE
BEGIN:VEVENT
DTSTART;TZID=Atlantic/Bermuda:20260408T080000
DTEND;TZID=Atlantic/Bermuda:20260408T090000
DTSTAMP:20260421T105934
CREATED:20260120T163630Z
LAST-MODIFIED:20260120T163810Z
UID:10010680-1775635200-1775638800@trinitysummerside.ca
SUMMARY:Women's Breakfasts
DESCRIPTION:Waterfront Café at Holland College campus.
URL:https://trinitysummerside.ca/event/womens-breakfasts/2026-04-08/
END:VEVENT
BEGIN:VEVENT
DTSTART;TZID=Atlantic/Bermuda:20260408T080000
DTEND;TZID=Atlantic/Bermuda:20260408T090000
DTSTAMP:20260421T105934
CREATED:20260120T163740Z
LAST-MODIFIED:20260120T163740Z
UID:10010728-1775635200-1775638800@trinitysummerside.ca
SUMMARY:Men's Breakfasts
DESCRIPTION:Seashell Café (26152 Route 2)
URL:https://trinitysummerside.ca/event/mens-breakfasts/2026-04-08/
END:VEVENT
BEGIN:VEVENT
DTSTART;TZID=Atlantic/Bermuda:20260408T110000
DTEND;TZID=Atlantic/Bermuda:20260408T123000
DTSTAMP:20260421T105934
CREATED:20260302T173947Z
LAST-MODIFIED:20260302T173947Z
UID:10010964-1775646000-1775651400@trinitysummerside.ca
SUMMARY:Worship team meeting
DESCRIPTION:Boardroom and zoom
URL:https://trinitysummerside.ca/event/worship-team-meeting-3/
END:VEVENT
BEGIN:VEVENT
DTSTART;TZID=Atlantic/Bermuda:20260408T133000
DTEND;TZID=Atlantic/Bermuda:20260408T143000
DTSTAMP:20260421T105934
CREATED:20260302T174019Z
LAST-MODIFIED:20260302T174019Z
UID:10010965-1775655000-1775658600@trinitysummerside.ca
SUMMARY:UCW Meeting
DESCRIPTION:Boardroom
URL:https://trinitysummerside.ca/event/ucw-meeting-4/
END:VEVENT
BEGIN:VEVENT
DTSTART;TZID=Atlantic/Bermuda:20260408T160000
DTEND;TZID=Atlantic/Bermuda:20260408T170000
DTSTAMP:20260421T105934
CREATED:20260319T170454Z
LAST-MODIFIED:20260319T170454Z
UID:10010966-1775664000-1775667600@trinitysummerside.ca
SUMMARY:Property Team Meeting
DESCRIPTION:Boardroom
URL:https://trinitysummerside.ca/event/property-team-meeting-2/
END:VEVENT
BEGIN:VEVENT
DTSTART;TZID=Atlantic/Bermuda:20260408T174500
DTEND;TZID=Atlantic/Bermuda:20260408T200000
DTSTAMP:20260421T105934
CREATED:20260203T141757Z
LAST-MODIFIED:20260203T141757Z
UID:10010822-1775670300-1775678400@trinitysummerside.ca
SUMMARY:Choir rehearsals
DESCRIPTION:Hand Bell Choir 5:45pm \nTrinity Choir 7pm
URL:https://trinitysummerside.ca/event/choir-rehearsals-2/2026-04-08/
END:VEVENT
END:VCALENDAR