BEGIN:VCALENDAR
VERSION:2.0
PRODID:-//Trinity United Church Summerside - ECPv6.15.20//NONSGML v1.0//EN
CALSCALE:GREGORIAN
METHOD:PUBLISH
X-ORIGINAL-URL:https://trinitysummerside.ca
X-WR-CALDESC:Events for Trinity United Church Summerside
REFRESH-INTERVAL;VALUE=DURATION:PT1H
X-Robots-Tag:noindex
X-PUBLISHED-TTL:PT1H
BEGIN:VTIMEZONE
TZID:Atlantic/Bermuda
BEGIN:DAYLIGHT
TZOFFSETFROM:-0400
TZOFFSETTO:-0300
TZNAME:ADT
DTSTART:20250309T060000
END:DAYLIGHT
BEGIN:STANDARD
TZOFFSETFROM:-0300
TZOFFSETTO:-0400
TZNAME:AST
DTSTART:20251102T050000
END:STANDARD
BEGIN:DAYLIGHT
TZOFFSETFROM:-0400
TZOFFSETTO:-0300
TZNAME:ADT
DTSTART:20260308T060000
END:DAYLIGHT
BEGIN:STANDARD
TZOFFSETFROM:-0300
TZOFFSETTO:-0400
TZNAME:AST
DTSTART:20261101T050000
END:STANDARD
BEGIN:DAYLIGHT
TZOFFSETFROM:-0400
TZOFFSETTO:-0300
TZNAME:ADT
DTSTART:20270314T060000
END:DAYLIGHT
BEGIN:STANDARD
TZOFFSETFROM:-0300
TZOFFSETTO:-0400
TZNAME:AST
DTSTART:20271107T050000
END:STANDARD
END:VTIMEZONE
BEGIN:VEVENT
DTSTART;TZID=Atlantic/Bermuda:20260402T093000
DTEND;TZID=Atlantic/Bermuda:20260402T143000
DTSTAMP:20260421T111127
CREATED:20260302T173312Z
LAST-MODIFIED:20260302T173312Z
UID:10010958-1775122200-1775140200@trinitysummerside.ca
SUMMARY:Private Auditorium Rental
DESCRIPTION:
URL:https://trinitysummerside.ca/event/private-auditorium-rental-2/
END:VEVENT
BEGIN:VEVENT
DTSTART;TZID=Atlantic/Bermuda:20260402T120000
DTEND;TZID=Atlantic/Bermuda:20260402T150000
DTSTAMP:20260421T111127
CREATED:20260206T153339Z
LAST-MODIFIED:20260206T153339Z
UID:10010901-1775131200-1775142000@trinitysummerside.ca
SUMMARY:Trinity Food Box Program
DESCRIPTION:Volunteers are able to see you between 12pm and 3pm.  Please bring a reusable grocery bag. \nIf you have not yet registered you will need to show ID for yourself and anyone else in your household. \nIf there is a snow day (schools are cancelled) we will not be open.
URL:https://trinitysummerside.ca/event/trinity-food-box-program-2/2026-04-02/
END:VEVENT
BEGIN:VEVENT
DTSTART;TZID=Atlantic/Bermuda:20260402T130000
DTEND;TZID=Atlantic/Bermuda:20260402T150000
DTSTAMP:20260421T111127
CREATED:20251231T153310Z
LAST-MODIFIED:20260114T183009Z
UID:10010343-1775134800-1775142000@trinitysummerside.ca
SUMMARY:Silvertones Choir Rehearsal
DESCRIPTION:In the Sanctuary.
URL:https://trinitysummerside.ca/event/silvertones-choir-rehearsal/2026-04-02/
END:VEVENT
BEGIN:VEVENT
DTSTART;TZID=Atlantic/Bermuda:20260402T193000
DTEND;TZID=Atlantic/Bermuda:20260402T203000
DTSTAMP:20260421T111127
CREATED:20260302T173432Z
LAST-MODIFIED:20260302T173432Z
UID:10010959-1775158200-1775161800@trinitysummerside.ca
SUMMARY:Maundy Thursday service with Presbyterian Church
DESCRIPTION:Please join us at the Summerside Presbyterian Church at 7:30pm for a special Maundy Thursday service.
URL:https://trinitysummerside.ca/event/maundy-thursday-service-with-presbyterian-church/
END:VEVENT
END:VCALENDAR